BEGIN:VCALENDAR
VERSION:2.0
PRODID:-//TJ Svitavy, z.s.89379//NONSGML kigkonsult.se iCalcreator 2.41.80//
CALSCALE:GREGORIAN
UID:39396235-6162-4334-b631-316131393332
BEGIN:VEVENT
UID:61393266-3032-4234-b832-636634653066
DTSTAMP:20260423T044403Z
DESCRIPTION:1/6 Svitavy B - Tělocvičná jednota Sokol Česká Třebová 1:1 (-14
 \,18)
DTSTART;TZID=Europe/Berlin:20250914T110000
DTEND;TZID=Europe/Berlin:20250914T130000
LOCATION:Sportovní hala Na Střelnici\, Pražská 2162 Svitavy - Předměstí
SUMMARY:PA-U16M-KV-II: Svitavy B-Tělocvičná jednota Sokol Česká Třebová
END:VEVENT
BEGIN:VEVENT
UID:39386539-6631-4635-b930-636163323965
DTSTAMP:20260423T044403Z
DESCRIPTION:1/9 Svitavy B - Orel Letohrad 2:0 (24\,24)
DTSTART;TZID=Europe/Berlin:20250914T130000
DTEND;TZID=Europe/Berlin:20250914T150000
LOCATION:Sportovní hala Na Střelnici\, Pražská 2162 Svitavy - Předměstí
SUMMARY:PA-U16M-KV-II: Svitavy B-Orel Letohrad
END:VEVENT
BEGIN:VEVENT
UID:32366638-3261-4332-b661-313262366235
DTSTAMP:20260423T044403Z
DESCRIPTION:1/2 Volejbalový klub Choceň\, z.s. - Svitavy B 2:0 (21\,11)
DTSTART;TZID=Europe/Berlin:20250914T090000
DTEND;TZID=Europe/Berlin:20250914T110000
LOCATION:Volejbalová hala \, U Koupaliště 1734 Choceň
SUMMARY:PA-U16M-KV-II: Volejbalový klub Choceň\, z.s.-Svitavy B
END:VEVENT
BEGIN:VEVENT
UID:39386138-3064-4161-b765-393730633635
DTSTAMP:20260423T044403Z
DESCRIPTION:1/7 Svitavy A - Svitavy B 2:0 (11\,16)
DTSTART;TZID=Europe/Berlin:20250914T120000
DTEND;TZID=Europe/Berlin:20250914T140000
LOCATION:Sportovní hala Na Střelnici\, Pražská 2162 Svitavy - Předměstí
SUMMARY:PA-U16M-KV-II: Svitavy A-Svitavy B
END:VEVENT
BEGIN:VEVENT
UID:30623834-6632-4530-b962-346136376135
DTSTAMP:20260423T044403Z
DESCRIPTION:1/1 Svitavy B - Tělocvičná jednota Sokol Česká Třebová 1:3 (21\
 ,-19\,-23\,-13)
DTSTART;TZID=Europe/Berlin:20251012T090000
DTEND;TZID=Europe/Berlin:20251012T110000
LOCATION:Sportovní hala Na Střelnici\, Pražská 2162 Svitavy - Předměstí
SUMMARY:PA-U16M-1C: Svitavy B-Tělocvičná jednota Sokol Česká Třebová
END:VEVENT
BEGIN:VEVENT
UID:37666232-3330-4038-a130-313436306638
DTSTAMP:20260423T044403Z
DESCRIPTION:1/3 Svitavy B - VoCe 0:3 (-17\,-20\,-21)
DTSTART;TZID=Europe/Berlin:20251012T130000
DTEND;TZID=Europe/Berlin:20251012T150000
LOCATION:Sportovní hala Na Střelnici\, Pražská 2162 Svitavy - Předměstí
SUMMARY:PA-U16M-1C: Svitavy B-VoCe
END:VEVENT
BEGIN:VEVENT
UID:65396438-3331-4835-b138-353736653537
DTSTAMP:20260423T044403Z
DESCRIPTION:1/1 Tělocvičná jednota Sokol Kerhartice - Svitavy B 3:0 (13\,22
 \,15)
DTSTART;TZID=Europe/Berlin:20251109T090000
DTEND;TZID=Europe/Berlin:20251109T110000
LOCATION:Střední škola automobilní\, Dukelská 313 Ústí nad Orlicí - Hylváty
SUMMARY:PA-U16M-2D: Tělocvičná jednota Sokol Kerhartice-Svitavy B
END:VEVENT
BEGIN:VEVENT
UID:64333337-3330-4033-b337-326664383238
DTSTAMP:20260423T044403Z
DESCRIPTION:1/2 Tělocvičná jednota Sokol Hrotovice - Svitavy B 3:0 (15\,20\
 ,16)
DTSTART;TZID=Europe/Berlin:20251109T110000
DTEND;TZID=Europe/Berlin:20251109T130000
LOCATION:Sportovní hala ZŠ Hrotovice\, F. B. Zvěřiny 221 Hrotovice
SUMMARY:PA-U16M-2D: Tělocvičná jednota Sokol Hrotovice-Svitavy B
END:VEVENT
BEGIN:VEVENT
UID:33333661-3834-4835-a133-663863656334
DTSTAMP:20260423T044403Z
DESCRIPTION:1/1 Tělocvičná jednota Sokol Česká Třebová - Svitavy B 3:1 (19\
 ,17\,-22\,21)
DTSTART;TZID=Europe/Berlin:20251207T090000
DTEND;TZID=Europe/Berlin:20251207T110000
LOCATION:Základní škola Česká Třebová Habrmanova\, Na Skále\, Na Skále 566 
 Česká Třebová
SUMMARY:PA-U16M-3D: Tělocvičná jednota Sokol Česká Třebová-Svitavy B
END:VEVENT
BEGIN:VEVENT
UID:33313134-3734-4264-b464-333138633062
DTSTAMP:20260423T044403Z
DESCRIPTION:1/2 Tělocvičná jednota Sokol Kerhartice - Svitavy B 0:3 (-24\,-
 12\,-16)
DTSTART;TZID=Europe/Berlin:20251207T110000
DTEND;TZID=Europe/Berlin:20251207T130000
LOCATION:Střední škola automobilní\, Dukelská 313 Ústí nad Orlicí - Hylváty
SUMMARY:PA-U16M-3D: Tělocvičná jednota Sokol Kerhartice-Svitavy B
END:VEVENT
BEGIN:VEVENT
UID:63373132-6663-4039-a630-306665653662
DTSTAMP:20260423T044403Z
DESCRIPTION:1/1 Tělocvičná jednota Sokol Hrotovice - Svitavy B 2:3 (20\,-14
 \,-18\,21\,-8)
DTSTART;TZID=Europe/Berlin:20260118T090000
DTEND;TZID=Europe/Berlin:20260118T110000
LOCATION:Sportovní hala ZŠ Hrotovice\, F. B. Zvěřiny 221 Hrotovice
SUMMARY:PA-U16M-4D: Tělocvičná jednota Sokol Hrotovice-Svitavy B
END:VEVENT
BEGIN:VEVENT
UID:30326361-6262-4466-b363-373434663937
DTSTAMP:20260423T044403Z
DESCRIPTION:1/2 Tělocvičná jednota Sokol Kerhartice - Svitavy B 1:3 (-23\,1
 7\,-19\,-24)
DTSTART;TZID=Europe/Berlin:20260118T110000
DTEND;TZID=Europe/Berlin:20260118T130000
LOCATION:Střední škola automobilní\, Dukelská 313 Ústí nad Orlicí - Hylváty
SUMMARY:PA-U16M-4D: Tělocvičná jednota Sokol Kerhartice-Svitavy B
END:VEVENT
BEGIN:VEVENT
UID:35386231-3630-4434-b536-323137623338
DTSTAMP:20260423T044403Z
DESCRIPTION:1/1 Tělocvičná jednota Sokol Česká Třebová - Svitavy B 3:2 (16\
 ,-16\,12\,-18\,8)
DTSTART;TZID=Europe/Berlin:20260222T090000
DTEND;TZID=Europe/Berlin:20260222T110000
LOCATION:Základní škola Česká Třebová Habrmanova\, Na Skále\, Na Skále 566 
 Česká Třebová
SUMMARY:PA-U16M-5C: Tělocvičná jednota Sokol Česká Třebová-Svitavy B
END:VEVENT
BEGIN:VEVENT
UID:39373233-6338-4432-b131-353230356564
DTSTAMP:20260423T044403Z
DESCRIPTION:1/2 VoCe - Svitavy B 2:3 (18\,-18\,-15\,16\,-9)
DTSTART;TZID=Europe/Berlin:20260222T110000
DTEND;TZID=Europe/Berlin:20260222T130000
LOCATION:Tělocvična ZŠ Černčice\,  Černčice68
SUMMARY:PA-U16M-5C: VoCe-Svitavy B
END:VEVENT
BEGIN:VEVENT
UID:32646566-3432-4263-a431-396534376466
DTSTAMP:20260423T044403Z
DESCRIPTION:1/3 Svitavy B - Orel Letohrad 2:1 (-21\,17\,11)
DTSTART;TZID=Europe/Berlin:20260308T110000
DTEND;TZID=Europe/Berlin:20260308T130000
LOCATION:Sportovní hala Na Střelnici\, Pražská 2162 Svitavy - Předměstí
SUMMARY:PA-U16M-6B: Svitavy B-Orel Letohrad
END:VEVENT
BEGIN:VEVENT
UID:32616238-6131-4163-a634-336166303530
DTSTAMP:20260423T044403Z
DESCRIPTION:1/1 Jihlava - Svitavy B 2:0 (23\,15)
DTSTART;TZID=Europe/Berlin:20260308T090000
DTEND;TZID=Europe/Berlin:20260308T110000
LOCATION:SŠ Stavební Jihlava\, Žižkova 1939 Jihlava
SUMMARY:PA-U16M-6B: Jihlava-Svitavy B
END:VEVENT
BEGIN:VEVENT
UID:32346336-6136-4666-b565-616534376663
DTSTAMP:20260423T044403Z
DESCRIPTION:1/5 Volejbalový klub Hronov\, z.s. - Svitavy B 2:0 (11\,13)
DTSTART;TZID=Europe/Berlin:20260308T130000
DTEND;TZID=Europe/Berlin:20260308T150000
LOCATION:ZŠ Hronov\, Palackého 162 Hronov
SUMMARY:PA-U16M-6B: Volejbalový klub Hronov\, z.s.-Svitavy B
END:VEVENT
BEGIN:VEVENT
UID:35653133-6463-4262-b533-623536373962
DTSTAMP:20260423T044403Z
DESCRIPTION:1/1 Tělocvičná jednota Sokol Kerhartice - Svitavy B 3:0 (19\,16
 \,18)
DTSTART;TZID=Europe/Berlin:20260329T090000
DTEND;TZID=Europe/Berlin:20260329T110000
LOCATION:Střední škola automobilní\, Dukelská 313 Ústí nad Orlicí - Hylváty
SUMMARY:PA-U16M-7D: Tělocvičná jednota Sokol Kerhartice-Svitavy B
END:VEVENT
BEGIN:VEVENT
UID:65353732-6364-4537-a537-333065333639
DTSTAMP:20260423T044403Z
DESCRIPTION:1/2 Tělocvičná jednota Sokol Hrotovice - Svitavy B 0:3 (-21\,-1
 2\,-22)
DTSTART;TZID=Europe/Berlin:20260329T110000
DTEND;TZID=Europe/Berlin:20260329T130000
LOCATION:Sportovní hala ZŠ Hrotovice\, F. B. Zvěřiny 221 Hrotovice
SUMMARY:PA-U16M-7D: Tělocvičná jednota Sokol Hrotovice-Svitavy B
END:VEVENT
END:VCALENDAR
