BEGIN:VCALENDAR
VERSION:2.0
PRODID:-//TJ Jiskra Jaroměř89431//NONSGML kigkonsult.se iCalcreator 2.41.80//
CALSCALE:GREGORIAN
UID:30353339-6336-4936-a265-346137363764
BEGIN:VEVENT
UID:33343430-3462-4736-a364-383936636161
DTSTAMP:20260422T053913Z
DESCRIPTION:3/8 Jaroměř - RÉMA Rychnov 3:0 (14\,21\,20)
DTSTART;TZID=Europe/Berlin:20251012T100000
DTEND;TZID=Europe/Berlin:20251012T120000
LOCATION:Hala SŠŘ\, Na Karlově 798 Jaroměř - Pražské Předměstí
SUMMARY:HK-U20Z: Jaroměř-RÉMA Rychnov
END:VEVENT
BEGIN:VEVENT
UID:38346164-3865-4566-a532-393830353931
DTSTAMP:20260422T053913Z
DESCRIPTION:4/11 Jaroměř - RÉMA Rychnov 3:0 (14\,18\,15)
DTSTART;TZID=Europe/Berlin:20251012T130000
DTEND;TZID=Europe/Berlin:20251012T150000
LOCATION:Hala SŠŘ\, Na Karlově 798 Jaroměř - Pražské Předměstí
SUMMARY:HK-U20Z: Jaroměř-RÉMA Rychnov
END:VEVENT
BEGIN:VEVENT
UID:32376366-3530-4364-a232-313363393835
DTSTAMP:20260422T053913Z
DESCRIPTION:9/27 Jaroměř - Sokol Pouchov 3:0 (26\,11\,16)
DTSTART;TZID=Europe/Berlin:20251109T100000
DTEND;TZID=Europe/Berlin:20251109T120000
LOCATION:Hala SŠŘ\, Na Karlově 798 Jaroměř - Pražské Předměstí
SUMMARY:HK-U20Z: Jaroměř-Sokol Pouchov
END:VEVENT
BEGIN:VEVENT
UID:65396132-6662-4162-b337-366538646233
DTSTAMP:20260422T053913Z
DESCRIPTION:10/30 Jaroměř - Sokol Pouchov 3:1 (19\,15\,-14\,20)
DTSTART;TZID=Europe/Berlin:20251109T130000
DTEND;TZID=Europe/Berlin:20251109T150000
LOCATION:Hala SŠŘ\, Na Karlově 798 Jaroměř - Pražské Předměstí
SUMMARY:HK-U20Z: Jaroměř-Sokol Pouchov
END:VEVENT
BEGIN:VEVENT
UID:64663132-6636-4162-b831-353865376632
DTSTAMP:20260422T053913Z
DESCRIPTION:11/32 Jaroměř - Staré M. Náchod 1:3 (21\,-15\,-25\,-14)
DTSTART;TZID=Europe/Berlin:20251005T100000
DTEND;TZID=Europe/Berlin:20251005T120000
LOCATION:Hala SŠŘ\, Na Karlově 798 Jaroměř - Pražské Předměstí
SUMMARY:HK-U20Z: Jaroměř-Staré M. Náchod
END:VEVENT
BEGIN:VEVENT
UID:36663965-3266-4265-a436-313231376533
DTSTAMP:20260422T053913Z
DESCRIPTION:12/35 Jaroměř - Staré M. Náchod 3:0 (21\,16\,18)
DTSTART;TZID=Europe/Berlin:20251005T130000
DTEND;TZID=Europe/Berlin:20251005T150000
LOCATION:Hala SŠŘ\, Na Karlově 798 Jaroměř - Pražské Předměstí
SUMMARY:HK-U20Z: Jaroměř-Staré M. Náchod
END:VEVENT
BEGIN:VEVENT
UID:37363733-3835-4662-b633-333231643030
DTSTAMP:20260422T053913Z
DESCRIPTION:15/45 Jaroměř - Nová Paka 3:0 (15\,22\,13)
DTSTART;TZID=Europe/Berlin:20251207T100000
DTEND;TZID=Europe/Berlin:20251207T120000
LOCATION:Hala SŠŘ\, Na Karlově 798 Jaroměř - Pražské Předměstí
SUMMARY:HK-U20Z: Jaroměř-Nová Paka
END:VEVENT
BEGIN:VEVENT
UID:63393735-6330-4334-b739-396430323034
DTSTAMP:20260422T053913Z
DESCRIPTION:16/48 Jaroměř - Nová Paka 3:0 (10\,15\,9)
DTSTART;TZID=Europe/Berlin:20251207T130000
DTEND;TZID=Europe/Berlin:20251207T150000
LOCATION:Hala SŠŘ\, Na Karlově 798 Jaroměř - Pražské Předměstí
SUMMARY:HK-U20Z: Jaroměř-Nová Paka
END:VEVENT
BEGIN:VEVENT
UID:33356636-6138-4566-a236-643836343965
DTSTAMP:20260422T053913Z
DESCRIPTION:17/49 Jaroměř - TJ Jičín 3:0 (24\,16\,18)
DTSTART;TZID=Europe/Berlin:20251221T100000
DTEND;TZID=Europe/Berlin:20251221T120000
LOCATION:Hala SŠŘ\, Na Karlově 798 Jaroměř - Pražské Předměstí
SUMMARY:HK-U20Z: Jaroměř-TJ Jičín
END:VEVENT
BEGIN:VEVENT
UID:64373635-6566-4434-b532-656333623735
DTSTAMP:20260422T053913Z
DESCRIPTION:18/52 Jaroměř - TJ Jičín 3:0 (15\,21\,15)
DTSTART;TZID=Europe/Berlin:20251221T130000
DTEND;TZID=Europe/Berlin:20251221T150000
LOCATION:Hala SŠŘ\, Na Karlově 798 Jaroměř - Pražské Předměstí
SUMMARY:HK-U20Z: Jaroměř-TJ Jičín
END:VEVENT
BEGIN:VEVENT
UID:38396665-3736-4166-b634-643937336132
DTSTAMP:20260422T053913Z
DESCRIPTION:1/2 Staré M. Náchod - Jaroměř 0:3 (-15\,-14\,-18)
DTSTART;TZID=Europe/Berlin:20251123T100000
DTEND;TZID=Europe/Berlin:20251123T120000
LOCATION:Sportovni hala TJ. Sokol Staré Město - Náchod\, Na Skalce 263 Nách
 od - Staré Město nad Metují
SUMMARY:HK-U20Z: Staré M. Náchod-Jaroměř
END:VEVENT
BEGIN:VEVENT
UID:66336530-6664-4534-a433-316263306635
DTSTAMP:20260422T053913Z
DESCRIPTION:2/5 Staré M. Náchod - Jaroměř 1:3 (12\,-15\,-16\,-16)
DTSTART;TZID=Europe/Berlin:20251123T130000
DTEND;TZID=Europe/Berlin:20251123T150000
LOCATION:Sportovni hala TJ. Sokol Staré Město - Náchod\, Na Skalce 263 Nách
 od - Staré Město nad Metují
SUMMARY:HK-U20Z: Staré M. Náchod-Jaroměř
END:VEVENT
BEGIN:VEVENT
UID:30353263-3461-4436-a339-616165313030
DTSTAMP:20260422T053913Z
DESCRIPTION:5/15 Nová Paka - Jaroměř 0:3 (-11\,-11\,-21)
DTSTART;TZID=Europe/Berlin:20251019T100000
DTEND;TZID=Europe/Berlin:20251019T120000
LOCATION:hala ZŠ Husitská Nová Paka\, Husitská 1695 Nová Paka
SUMMARY:HK-U20Z: Nová Paka-Jaroměř
END:VEVENT
BEGIN:VEVENT
UID:34646436-3163-4635-a265-366332313538
DTSTAMP:20260422T053913Z
DESCRIPTION:6/18 Nová Paka - Jaroměř 0:3 (-18\,-19\,-14)
DTSTART;TZID=Europe/Berlin:20251019T130000
DTEND;TZID=Europe/Berlin:20251019T150000
LOCATION:hala ZŠ Husitská Nová Paka\, Husitská 1695 Nová Paka
SUMMARY:HK-U20Z: Nová Paka-Jaroměř
END:VEVENT
BEGIN:VEVENT
UID:66343362-3862-4930-a331-623763616636
DTSTAMP:20260422T053913Z
DESCRIPTION:7/19 TJ Jičín - Jaroměř 2:3 (-21\,23\,-23\,20\,-7)
DTSTART;TZID=Europe/Berlin:20251102T100000
DTEND;TZID=Europe/Berlin:20251102T120000
LOCATION:Hala Masarykovy obchodní akademie Jičín\, 17. listopadu 220 Jičín 
 - Valdické Předměstí
SUMMARY:HK-U20Z: TJ Jičín-Jaroměř
END:VEVENT
BEGIN:VEVENT
UID:39343135-3333-4733-a163-353131333635
DTSTAMP:20260422T053913Z
DESCRIPTION:8/22 TJ Jičín - Jaroměř 3:2 (14\,-24\,20\,-14\,7)
DTSTART;TZID=Europe/Berlin:20251102T130000
DTEND;TZID=Europe/Berlin:20251102T150000
LOCATION:Hala Masarykovy obchodní akademie Jičín\, 17. listopadu 220 Jičín 
 - Valdické Předměstí
SUMMARY:HK-U20Z: TJ Jičín-Jaroměř
END:VEVENT
BEGIN:VEVENT
UID:34353832-3330-4831-b565-336466623861
DTSTAMP:20260422T053913Z
DESCRIPTION:13/38 RÉMA Rychnov - Jaroměř 1:3 (-22\,-20\,24\,-22)
DTSTART;TZID=Europe/Berlin:20251213T083000
DTEND;TZID=Europe/Berlin:20251213T103000
LOCATION:Hala VOŠ a SPŠS\, U Stadionu 1166 Rychnov nad Kněžnou
SUMMARY:HK-U20Z: RÉMA Rychnov-Jaroměř
END:VEVENT
BEGIN:VEVENT
UID:32376533-3938-4130-a562-303130616431
DTSTAMP:20260422T053913Z
DESCRIPTION:14/41 RÉMA Rychnov - Jaroměř 0:3 (-21\,-20\,-22)
DTSTART;TZID=Europe/Berlin:20251213T100000
DTEND;TZID=Europe/Berlin:20251213T120000
LOCATION:Hala VOŠ a SPŠS\, U Stadionu 1166 Rychnov nad Kněžnou
SUMMARY:HK-U20Z: RÉMA Rychnov-Jaroměř
END:VEVENT
BEGIN:VEVENT
UID:32373634-3738-4530-b234-363434636462
DTSTAMP:20260422T053913Z
DESCRIPTION:19/57 Sokol Pouchov - Jaroměř 3:1 (-20\,23\,16\,23)
DTSTART;TZID=Europe/Berlin:20260104T100000
DTEND;TZID=Europe/Berlin:20260104T120000
LOCATION:Hala Pouchov\, K Sokolovně 544 Hradec Králové - Pouchov
SUMMARY:HK-U20Z: Sokol Pouchov-Jaroměř
END:VEVENT
BEGIN:VEVENT
UID:36643365-6564-4038-b736-306661333366
DTSTAMP:20260422T053913Z
DESCRIPTION:20/60 Sokol Pouchov - Jaroměř 3:0 (16\,19\,22)
DTSTART;TZID=Europe/Berlin:20260104T130000
DTEND;TZID=Europe/Berlin:20260104T150000
LOCATION:Hala Pouchov\, K Sokolovně 544 Hradec Králové - Pouchov
SUMMARY:HK-U20Z: Sokol Pouchov-Jaroměř
END:VEVENT
BEGIN:VEVENT
UID:31373464-3965-4537-b037-616664336233
DTSTAMP:20260422T053913Z
DESCRIPTION:3/7 Jaroměř - Staré M. Náchod 3:1 (-20\,24\,7\,22)\npoř: JAROMĚ
 Ř
DTSTART;TZID=Europe/Berlin:20260222T100000
DTEND;TZID=Europe/Berlin:20260222T120000
LOCATION:Hala SŠŘ\, Na Karlově 798 Jaroměř - Pražské Předměstí
SUMMARY:HK-U20Z-FA: Jaroměř-Staré M. Náchod
END:VEVENT
BEGIN:VEVENT
UID:61666361-6437-4231-a666-643134623265
DTSTAMP:20260422T053913Z
DESCRIPTION:3/9 Jaroměř - Sokol Pouchov 3:0 (21\,11\,11)
DTSTART;TZID=Europe/Berlin:20260222T140000
DTEND;TZID=Europe/Berlin:20260222T160000
LOCATION:Hala SŠŘ\, Na Karlově 798 Jaroměř - Pražské Předměstí
SUMMARY:HK-U20Z-FA: Jaroměř-Sokol Pouchov
END:VEVENT
BEGIN:VEVENT
UID:39373462-6337-4631-b333-336433613337
DTSTAMP:20260422T053913Z
DESCRIPTION:1/1 Staré M. Náchod - Jaroměř 3:0 (19\,20\,21)\npoř: St.M.-Nách
 od
DTSTART;TZID=Europe/Berlin:20260118T100000
DTEND;TZID=Europe/Berlin:20260118T120000
LOCATION:Hala SŠŘ\, Na Karlově 798 Jaroměř - Pražské Předměstí
SUMMARY:HK-U20Z-FA: Staré M. Náchod-Jaroměř
END:VEVENT
BEGIN:VEVENT
UID:65383063-6662-4537-b833-343132633961
DTSTAMP:20260422T053913Z
DESCRIPTION:1/2 Sokol Pouchov - Jaroměř 0:3 (-15\,-17\,-13)
DTSTART;TZID=Europe/Berlin:20260118T120000
DTEND;TZID=Europe/Berlin:20260118T140000
LOCATION:Hala SŠŘ\, Na Karlově 798 Jaroměř - Pražské Předměstí
SUMMARY:HK-U20Z-FA: Sokol Pouchov-Jaroměř
END:VEVENT
BEGIN:VEVENT
UID:37326665-3466-4965-a362-353961396134
DTSTAMP:20260422T053913Z
DESCRIPTION:2/5 Staré M. Náchod - Jaroměř 1:3 (-15\,23\,-23\,-20)
DTSTART;TZID=Europe/Berlin:20260125T120000
DTEND;TZID=Europe/Berlin:20260125T140000
LOCATION:Hala SŠŘ\, Na Karlově 798 Jaroměř - Pražské Předměstí
SUMMARY:HK-U20Z-FA: Staré M. Náchod-Jaroměř
END:VEVENT
BEGIN:VEVENT
UID:37373431-6162-4137-a632-343066393533
DTSTAMP:20260422T053913Z
DESCRIPTION:2/6 Sokol Pouchov - Jaroměř 3:0 (21\,19\,19)
DTSTART;TZID=Europe/Berlin:20260125T140000
DTEND;TZID=Europe/Berlin:20260125T160000
LOCATION:Hala SŠŘ\, Na Karlově 798 Jaroměř - Pražské Předměstí
SUMMARY:HK-U20Z-FA: Sokol Pouchov-Jaroměř
END:VEVENT
BEGIN:VEVENT
UID:62623131-6535-4135-a330-326163386236
DTSTAMP:20260422T053913Z
DESCRIPTION:2/4 Jaroměř - VK Karlovarsko 2:0 (7\,8)
DTSTART;TZID=Europe/Berlin:20250927T120000
DTEND;TZID=Europe/Berlin:20250927T140000
LOCATION:Hala SŠŘ\, Na Karlově 798 Jaroměř - Pražské Předměstí
SUMMARY:CP-U20Z-KC: Jaroměř-VK Karlovarsko
END:VEVENT
BEGIN:VEVENT
UID:32346361-3664-4235-a335-653363623035
DTSTAMP:20260422T053913Z
DESCRIPTION:3/8 Jaroměř - Volejbal Červený Kostelec 1:2 (15\,-20\,-13)
DTSTART;TZID=Europe/Berlin:20250927T133000
DTEND;TZID=Europe/Berlin:20250927T153000
LOCATION:Hala SŠŘ\, Na Karlově 798 Jaroměř - Pražské Předměstí
SUMMARY:CP-U20Z-KC: Jaroměř-Volejbal Červený Kostelec
END:VEVENT
BEGIN:VEVENT
UID:30396531-6438-4534-b837-376330316333
DTSTAMP:20260422T053913Z
DESCRIPTION:7/19 Jaroměř - VK Karlovy Vary 2:0 (12\,17)
DTSTART;TZID=Europe/Berlin:20250928T103000
DTEND;TZID=Europe/Berlin:20250928T123000
LOCATION:Hala SŠŘ\, Na Karlově 798 Jaroměř - Pražské Předměstí
SUMMARY:CP-U20Z-KC: Jaroměř-VK Karlovy Vary
END:VEVENT
BEGIN:VEVENT
UID:35326339-6631-4535-b763-643666356465
DTSTAMP:20260422T053913Z
DESCRIPTION:4/12 VK KRALUPY\, z.s. - Jaroměř 2:0 (19\,23)
DTSTART;TZID=Europe/Berlin:20250927T150000
DTEND;TZID=Europe/Berlin:20250927T170000
LOCATION:TJ KRALUPY\, z.s.\, Gen. Klapálka 1029 Kralupy nad Vltavou
SUMMARY:CP-U20Z-KC: VK KRALUPY\, z.s.-Jaroměř
END:VEVENT
BEGIN:VEVENT
UID:38326665-6163-4737-a134-373635323262
DTSTAMP:20260422T053913Z
DESCRIPTION:5/13 TJ Slavia Hradec Králové - Jaroměř 2:0 (18\,23)
DTSTART;TZID=Europe/Berlin:20250927T163000
DTEND;TZID=Europe/Berlin:20250927T183000
LOCATION:TJ Slavia Hradec Králové\, Víta Nejedlého 1216 Hradec Králové
SUMMARY:CP-U20Z-KC: TJ Slavia Hradec Králové-Jaroměř
END:VEVENT
BEGIN:VEVENT
UID:34666636-6264-4462-b561-303536323733
DTSTAMP:20260422T053913Z
DESCRIPTION:6/14 Sokolov - Jaroměř 2:1 (23\,-21\,8)
DTSTART;TZID=Europe/Berlin:20250928T090000
DTEND;TZID=Europe/Berlin:20250928T110000
LOCATION:Jiskra\, Maxima Gorkého 280 Sokolov
SUMMARY:CP-U20Z-KC: Sokolov-Jaroměř
END:VEVENT
BEGIN:VEVENT
UID:62393364-3737-4265-a464-643339306635
DTSTAMP:20260422T053913Z
DESCRIPTION:2/2 Jaroměř - Staré M. Náchod 2:1 (-21\,22\,14)
DTSTART;TZID=Europe/Berlin:20251115T110000
DTEND;TZID=Europe/Berlin:20251115T130000
LOCATION:Hala SŠŘ\, Na Karlově 798 Jaroměř - Pražské Předměstí
SUMMARY:CP-U20Z-1C: Jaroměř-Staré M. Náchod
END:VEVENT
BEGIN:VEVENT
UID:66633736-3737-4631-b030-326362636366
DTSTAMP:20260422T053913Z
DESCRIPTION:3/4 Jaroměř - Třebíč 1:2 (-12\,23\,-8)
DTSTART;TZID=Europe/Berlin:20251115T133000
DTEND;TZID=Europe/Berlin:20251115T153000
LOCATION:Hala SŠŘ\, Na Karlově 798 Jaroměř - Pražské Předměstí
SUMMARY:CP-U20Z-1C: Jaroměř-Třebíč
END:VEVENT
BEGIN:VEVENT
UID:32323431-6562-4131-b733-383063653034
DTSTAMP:20260422T053913Z
DESCRIPTION:4/9 Jaroměř - Volejbal Červený Kostelec 2:0 (10\,12)
DTSTART;TZID=Europe/Berlin:20251115T160000
DTEND;TZID=Europe/Berlin:20251115T180000
LOCATION:Hala SŠŘ\, Na Karlově 798 Jaroměř - Pražské Předměstí
SUMMARY:CP-U20Z-1C: Jaroměř-Volejbal Červený Kostelec
END:VEVENT
BEGIN:VEVENT
UID:39643662-3961-4831-b266-653738653937
DTSTAMP:20260422T053913Z
DESCRIPTION:7/13 Jaroměř - TJ Junior Brno 0:2 (-23\,-16)
DTSTART;TZID=Europe/Berlin:20251116T130000
DTEND;TZID=Europe/Berlin:20251116T150000
LOCATION:Hala SŠŘ\, Na Karlově 798 Jaroměř - Pražské Předměstí
SUMMARY:CP-U20Z-1C: Jaroměř-TJ Junior Brno
END:VEVENT
BEGIN:VEVENT
UID:34316564-6231-4931-b739-346638373061
DTSTAMP:20260422T053913Z
DESCRIPTION:5/11 Střešovice - Jaroměř 0:2 (-22\,-21)
DTSTART;TZID=Europe/Berlin:20251116T103000
DTEND;TZID=Europe/Berlin:20251116T123000
LOCATION:TJ Tatran Střešovice\, Sibeliova 368 Praha - Střešovice
SUMMARY:CP-U20Z-1C: Střešovice-Jaroměř
END:VEVENT
BEGIN:VEVENT
UID:65663362-6661-4136-b035-343262383438
DTSTAMP:20260422T053913Z
DESCRIPTION:2/4 Jaroměř - Tělovýchovná jednota Jiskra Nový Bor\, z.s. 2:0 (
 18\,16)
DTSTART;TZID=Europe/Berlin:20251213T111500
DTEND;TZID=Europe/Berlin:20251213T131500
LOCATION:Sportovni hala TJ. Sokol Staré Město - Náchod\, Na Skalce 263 Nách
 od - Staré Město nad Metují
SUMMARY:CP-U20Z-2C: Jaroměř-Tělovýchovná jednota Jiskra Nový Bor\, z.s.
END:VEVENT
BEGIN:VEVENT
UID:39646337-6634-4634-a332-376435343063
DTSTAMP:20260422T053913Z
DESCRIPTION:8/13 Jaroměř - Čížkovice 2:0 (16\,16)
DTSTART;TZID=Europe/Berlin:20251214T113000
DTEND;TZID=Europe/Berlin:20251214T133000
LOCATION:Sportovni hala TJ. Sokol Staré Město - Náchod\, Na Skalce 263 Nách
 od - Staré Město nad Metují
SUMMARY:CP-U20Z-2C: Jaroměř-Čížkovice
END:VEVENT
BEGIN:VEVENT
UID:31646235-3037-4063-a331-613361643535
DTSTAMP:20260422T053913Z
DESCRIPTION:10/15 Jaroměř - Staré M. Náchod 2:1 (14\,-24\,13)
DTSTART;TZID=Europe/Berlin:20251214T143000
DTEND;TZID=Europe/Berlin:20251214T163000
LOCATION:Sportovni hala TJ. Sokol Staré Město - Náchod\, Na Skalce 263 Nách
 od - Staré Město nad Metují
SUMMARY:CP-U20Z-2C: Jaroměř-Staré M. Náchod
END:VEVENT
BEGIN:VEVENT
UID:35393463-6261-4035-a161-373061666464
DTSTAMP:20260422T053913Z
DESCRIPTION:1/2 RÉMA Rychnov - Jaroměř 0:2 (-19\,-20)
DTSTART;TZID=Europe/Berlin:20251213T100000
DTEND;TZID=Europe/Berlin:20251213T120000
LOCATION:Sportovni hala TJ. Sokol Staré Město - Náchod\, Na Skalce 263 Nách
 od - Staré Město nad Metují
SUMMARY:CP-U20Z-2C: RÉMA Rychnov-Jaroměř
END:VEVENT
BEGIN:VEVENT
UID:30363666-3564-4466-a432-653161636566
DTSTAMP:20260422T053913Z
DESCRIPTION:4/7 Sokol Pouchov - Jaroměř 2:1 (13\,-25\,17)
DTSTART;TZID=Europe/Berlin:20251213T140000
DTEND;TZID=Europe/Berlin:20251213T160000
LOCATION:Sportovni hala TJ. Sokol Staré Město - Náchod\, Na Skalce 263 Nách
 od - Staré Město nad Metují
SUMMARY:CP-U20Z-2C: Sokol Pouchov-Jaroměř
END:VEVENT
BEGIN:VEVENT
UID:65376636-3535-4630-a536-326231383162
DTSTAMP:20260422T053913Z
DESCRIPTION:1/1 Jaroměř - VK Prostějov\, spolek C 0:2 (-9\,-7)
DTSTART;TZID=Europe/Berlin:20260110T100000
DTEND;TZID=Europe/Berlin:20260110T120000
LOCATION:Národní sportovní centrum\, Za velodromem 4187 Prostějov
SUMMARY:CP-U20Z-3B: Jaroměř-VK Prostějov\, spolek C
END:VEVENT
BEGIN:VEVENT
UID:64636138-3864-4735-a266-303432643531
DTSTAMP:20260422T053913Z
DESCRIPTION:3/4 Jaroměř - Braník 1:2 (-18\,15\,-8)
DTSTART;TZID=Europe/Berlin:20260110T123000
DTEND;TZID=Europe/Berlin:20260110T143000
LOCATION:Národní sportovní centrum\, Za velodromem 4187 Prostějov
SUMMARY:CP-U20Z-3B: Jaroměř-Braník
END:VEVENT
BEGIN:VEVENT
UID:33383034-3033-4234-b038-643765373863
DTSTAMP:20260422T053913Z
DESCRIPTION:5/8 Jaroměř - Staré M. Náchod 2:1 (-16\,16\,13)
DTSTART;TZID=Europe/Berlin:20260110T150000
DTEND;TZID=Europe/Berlin:20260110T170000
LOCATION:Národní sportovní centrum\, Za velodromem 4187 Prostějov
SUMMARY:CP-U20Z-3B: Jaroměř-Staré M. Náchod
END:VEVENT
BEGIN:VEVENT
UID:64303264-6365-4238-b564-626161343665
DTSTAMP:20260422T053913Z
DESCRIPTION:6/10 TJ Junior Brno - Jaroměř 2:0 (12\,16)
DTSTART;TZID=Europe/Berlin:20260111T093000
DTEND;TZID=Europe/Berlin:20260111T113000
LOCATION:Národní sportovní centrum\, Za velodromem 4187 Prostějov
SUMMARY:CP-U20Z-3B: TJ Junior Brno-Jaroměř
END:VEVENT
BEGIN:VEVENT
UID:32613537-3763-4333-b462-376335396263
DTSTAMP:20260422T053913Z
DESCRIPTION:7/12 TJ Slavia Hradec Králové - Jaroměř 2:1 (22\,-19\,9)
DTSTART;TZID=Europe/Berlin:20260111T104500
DTEND;TZID=Europe/Berlin:20260111T124500
LOCATION:Národní sportovní centrum\, Za velodromem 4187 Prostějov
SUMMARY:CP-U20Z-3B: TJ Slavia Hradec Králové-Jaroměř
END:VEVENT
BEGIN:VEVENT
UID:66623636-3162-4866-a638-386562303032
DTSTAMP:20260422T053913Z
DESCRIPTION:4/7 Jaroměř - Staré M. Náchod 0:2 (-18\,-24)
DTSTART;TZID=Europe/Berlin:20260411T140000
DTEND;TZID=Europe/Berlin:20260411T160000
LOCATION:Hala SŠŘ\, Na Karlově 798 Jaroměř - Pražské Předměstí
SUMMARY:CP-U20Z-4C: Jaroměř-Staré M. Náchod
END:VEVENT
BEGIN:VEVENT
UID:30616363-6436-4731-b937-323864323165
DTSTAMP:20260422T053913Z
DESCRIPTION:7/13 Jaroměř - RÉMA Rychnov 2:0 (9\,17)
DTSTART;TZID=Europe/Berlin:20260412T110000
DTEND;TZID=Europe/Berlin:20260412T130000
LOCATION:Hala SŠŘ\, Na Karlově 798 Jaroměř - Pražské Předměstí
SUMMARY:CP-U20Z-4C: Jaroměř-RÉMA Rychnov
END:VEVENT
BEGIN:VEVENT
UID:36646161-6631-4337-b263-663661356464
DTSTAMP:20260422T053913Z
DESCRIPTION:2/3 Střešovice - Jaroměř 2:1 (16\,-21\,13)
DTSTART;TZID=Europe/Berlin:20260411T110000
DTEND;TZID=Europe/Berlin:20260411T130000
LOCATION:TJ Tatran Střešovice\, Sibeliova 368 Praha - Střešovice
SUMMARY:CP-U20Z-4C: Střešovice-Jaroměř
END:VEVENT
BEGIN:VEVENT
UID:37383863-6539-4137-b035-333930346539
DTSTAMP:20260422T053913Z
DESCRIPTION:3/5 Čížkovice - Jaroměř 2:1 (-22\,14\,9)
DTSTART;TZID=Europe/Berlin:20260411T123000
DTEND;TZID=Europe/Berlin:20260411T143000
LOCATION:Hala při ZŠ Benešova 65\, 411 12 Čížkovice
SUMMARY:CP-U20Z-4C: Čížkovice-Jaroměř
END:VEVENT
BEGIN:VEVENT
UID:63633932-3537-4362-b636-376539376264
DTSTAMP:20260422T053913Z
DESCRIPTION:8/15 Sokol Pouchov - Jaroměř 0:2 (-20\,-15)
DTSTART;TZID=Europe/Berlin:20260412T123000
DTEND;TZID=Europe/Berlin:20260412T143000
LOCATION:Hala Pouchov\, K Sokolovně 544 Hradec Králové - Pouchov
SUMMARY:CP-U20Z-4C: Sokol Pouchov-Jaroměř
END:VEVENT
BEGIN:VEVENT
UID:64373463-3362-4335-b636-386533613938
DTSTAMP:20260422T053913Z
DESCRIPTION:1/6 Jaroměř - OlomoucVašíček Jiří
DTSTART;TZID=Europe/Berlin:20260509T120000
DTEND;TZID=Europe/Berlin:20260509T140000
LOCATION:Slovanské gymnázium Olomouc\, Jiřího z Poděbrad 936 Olomouc
SUMMARY:2-U20Z-KD: Jaroměř-Olomouc
END:VEVENT
BEGIN:VEVENT
UID:31613965-3633-4266-a338-653437363964
DTSTAMP:20260422T053913Z
DESCRIPTION:1/2 Braník - JaroměřAdamovský Pavel
DTSTART;TZID=Europe/Berlin:20260508T120000
DTEND;TZID=Europe/Berlin:20260508T140000
LOCATION:Slovanské gymnázium Olomouc\, Jiřího z Poděbrad 936 Olomouc
SUMMARY:2-U20Z-KD: Braník-Jaroměř
END:VEVENT
BEGIN:VEVENT
UID:65633764-3163-4531-b165-643663623039
DTSTAMP:20260422T053913Z
DESCRIPTION:1/4 Choceň - JaroměřHavlíček Petr
DTSTART;TZID=Europe/Berlin:20260508T170000
DTEND;TZID=Europe/Berlin:20260508T190000
LOCATION:Slovanské gymnázium Olomouc\, Jiřího z Poděbrad 936 Olomouc
SUMMARY:2-U20Z-KD: Choceň-Jaroměř
END:VEVENT
END:VCALENDAR
