BEGIN:VCALENDAR
VERSION:2.0
PRODID:-//TJ Spartak Uherský Brod89444//NONSGML kigkonsult.se iCalcreator 2.41.80//
CALSCALE:GREGORIAN
UID:32613365-3564-4237-b231-343232626261
BEGIN:VEVENT
UID:34376536-6365-4463-b064-626236343134
DTSTAMP:20260421T183720Z
DESCRIPTION:1/3 Uh.Brod - Kopřivnice 3:2 (24\,22\,-19\,-21\,12)
DTSTART;TZID=Europe/Berlin:20250921T100000
DTEND;TZID=Europe/Berlin:20250921T120000
LOCATION:TJ SPARTAK UHERSKÝ BROD z.s.\, U Stadionu 2295 Uherský Brod
SUMMARY:ZLK-U22Z: Uh.Brod-Kopřivnice
END:VEVENT
BEGIN:VEVENT
UID:33633964-3261-4166-b964-633831363433
DTSTAMP:20260421T183720Z
DESCRIPTION:2/7 Uh.Brod - Kopřivnice 3:2 (21\,-22\,24\,-25\,8)
DTSTART;TZID=Europe/Berlin:20250921T130000
DTEND;TZID=Europe/Berlin:20250921T150000
LOCATION:TJ SPARTAK UHERSKÝ BROD z.s.\, U Stadionu 2295 Uherský Brod
SUMMARY:ZLK-U22Z: Uh.Brod-Kopřivnice
END:VEVENT
BEGIN:VEVENT
UID:64343164-3232-4539-b337-613365356337
DTSTAMP:20260421T183720Z
DESCRIPTION:5/18 Uh.Brod - NIVNICE 3:0 (21\,13\,11)
DTSTART;TZID=Europe/Berlin:20251117T100000
DTEND;TZID=Europe/Berlin:20251117T120000
LOCATION:TJ SPARTAK UHERSKÝ BROD z.s.\, U Stadionu 2295 Uherský Brod
SUMMARY:ZLK-U22Z: Uh.Brod-NIVNICE
END:VEVENT
BEGIN:VEVENT
UID:33643430-6665-4465-a237-383430633936
DTSTAMP:20260421T183720Z
DESCRIPTION:6/22 Uh.Brod - NIVNICE 3:0 (15\,19\,23)
DTSTART;TZID=Europe/Berlin:20251117T130000
DTEND;TZID=Europe/Berlin:20251117T150000
LOCATION:TJ SPARTAK UHERSKÝ BROD z.s.\, U Stadionu 2295 Uherský Brod
SUMMARY:ZLK-U22Z: Uh.Brod-NIVNICE
END:VEVENT
BEGIN:VEVENT
UID:30663739-3635-4765-b933-366461666166
DTSTAMP:20260421T183720Z
DESCRIPTION:11/44 Uh.Brod - NAPAJEDLA 3:0 (18\,9\,15)
DTSTART;TZID=Europe/Berlin:20251109T100000
DTEND;TZID=Europe/Berlin:20251109T120000
LOCATION:TJ SPARTAK UHERSKÝ BROD z.s.\, U Stadionu 2295 Uherský Brod
SUMMARY:ZLK-U22Z: Uh.Brod-NAPAJEDLA
END:VEVENT
BEGIN:VEVENT
UID:32643035-3333-4666-b461-316439333831
DTSTAMP:20260421T183720Z
DESCRIPTION:12/48 Uh.Brod - NAPAJEDLA 3:1 (25\,21\,-23\,22)
DTSTART;TZID=Europe/Berlin:20251109T130000
DTEND;TZID=Europe/Berlin:20251109T150000
LOCATION:TJ SPARTAK UHERSKÝ BROD z.s.\, U Stadionu 2295 Uherský Brod
SUMMARY:ZLK-U22Z: Uh.Brod-NAPAJEDLA
END:VEVENT
BEGIN:VEVENT
UID:61336264-3131-4062-b431-633262336563
DTSTAMP:20260421T183720Z
DESCRIPTION:17/67 Uh.Brod - Slavičín U20 3:1 (22\,16\,-25\,20)
DTSTART;TZID=Europe/Berlin:20260118T100000
DTEND;TZID=Europe/Berlin:20260118T120000
LOCATION:TJ SPARTAK UHERSKÝ BROD z.s.\, U Stadionu 2295 Uherský Brod
SUMMARY:ZLK-U22Z: Uh.Brod-Slavičín U20
END:VEVENT
BEGIN:VEVENT
UID:62313938-3261-4562-b835-626663616331
DTSTAMP:20260421T183720Z
DESCRIPTION:18/71 Uh.Brod - Slavičín U20 3:0 (18\,18\,17)
DTSTART;TZID=Europe/Berlin:20260118T130000
DTEND;TZID=Europe/Berlin:20260118T150000
LOCATION:TJ SPARTAK UHERSKÝ BROD z.s.\, U Stadionu 2295 Uherský Brod
SUMMARY:ZLK-U22Z: Uh.Brod-Slavičín U20
END:VEVENT
BEGIN:VEVENT
UID:34636437-3765-4533-a461-353463383037
DTSTAMP:20260421T183720Z
DESCRIPTION:21/84 Uh.Brod - Střítež 3:0 (19\,22\,16)
DTSTART;TZID=Europe/Berlin:20260208T100000
DTEND;TZID=Europe/Berlin:20260208T120000
LOCATION:TJ SPARTAK UHERSKÝ BROD z.s.\, U Stadionu 2295 Uherský Brod
SUMMARY:ZLK-U22Z: Uh.Brod-Střítež
END:VEVENT
BEGIN:VEVENT
UID:62316536-6139-4134-b964-616663653566
DTSTAMP:20260421T183720Z
DESCRIPTION:22/88 Uh.Brod - Střítež 3:0 (20\,14\,20)
DTSTART;TZID=Europe/Berlin:20260208T130000
DTEND;TZID=Europe/Berlin:20260208T150000
LOCATION:TJ SPARTAK UHERSKÝ BROD z.s.\, U Stadionu 2295 Uherský Brod
SUMMARY:ZLK-U22Z: Uh.Brod-Střítež
END:VEVENT
BEGIN:VEVENT
UID:31356462-3231-4264-b561-616530336132
DTSTAMP:20260421T183720Z
DESCRIPTION:27/106 Uh.Brod - Rožnov pR 3:0 (18\,16\,21)
DTSTART;TZID=Europe/Berlin:20260315T100000
DTEND;TZID=Europe/Berlin:20260315T120000
LOCATION:TJ SPARTAK UHERSKÝ BROD z.s.\, U Stadionu 2295 Uherský Brod
SUMMARY:ZLK-U22Z: Uh.Brod-Rožnov pR
END:VEVENT
BEGIN:VEVENT
UID:31633437-3161-4833-b935-653361653335
DTSTAMP:20260421T183720Z
DESCRIPTION:28/110 Uh.Brod - Rožnov pR 3:0 (9\,18\,19)
DTSTART;TZID=Europe/Berlin:20260315T130000
DTEND;TZID=Europe/Berlin:20260315T150000
LOCATION:TJ SPARTAK UHERSKÝ BROD z.s.\, U Stadionu 2295 Uherský Brod
SUMMARY:ZLK-U22Z: Uh.Brod-Rožnov pR
END:VEVENT
BEGIN:VEVENT
UID:64393664-3761-4536-a332-353932643830
DTSTAMP:20260421T183720Z
DESCRIPTION:3/11 Slavičín U20 - Uh.Brod 1:3 (-25\,27\,-17\,-18)
DTSTART;TZID=Europe/Berlin:20250928T090000
DTEND;TZID=Europe/Berlin:20250928T110000
LOCATION:Sportovní hala Slavičín\, Školní 29 Slavičín
SUMMARY:ZLK-U22Z: Slavičín U20-Uh.Brod
END:VEVENT
BEGIN:VEVENT
UID:33666465-3633-4166-b530-626637373363
DTSTAMP:20260421T183720Z
DESCRIPTION:4/15 Slavičín U20 - Uh.Brod 3:2 (-23\,24\,17\,-22\,12)
DTSTART;TZID=Europe/Berlin:20250928T120000
DTEND;TZID=Europe/Berlin:20250928T140000
LOCATION:Sportovní hala Slavičín\, Školní 29 Slavičín
SUMMARY:ZLK-U22Z: Slavičín U20-Uh.Brod
END:VEVENT
BEGIN:VEVENT
UID:65343563-6561-4038-b661-373134373861
DTSTAMP:20260421T183720Z
DESCRIPTION:7/28 Střítež - Uh.Brod 1:3 (-17\,-20\,24\,-15)
DTSTART;TZID=Europe/Berlin:20251011T100000
DTEND;TZID=Europe/Berlin:20251011T120000
LOCATION:Sokolovna\,  Střítež nad Bečvou1
SUMMARY:ZLK-U22Z: Střítež-Uh.Brod
END:VEVENT
BEGIN:VEVENT
UID:66343533-6331-4933-b466-626633303863
DTSTAMP:20260421T183720Z
DESCRIPTION:8/32 Střítež - Uh.Brod 0:3 (-18\,-14\,-16)
DTSTART;TZID=Europe/Berlin:20251011T130000
DTEND;TZID=Europe/Berlin:20251011T150000
LOCATION:Sokolovna\,  Střítež nad Bečvou1
SUMMARY:ZLK-U22Z: Střítež-Uh.Brod
END:VEVENT
BEGIN:VEVENT
UID:65316164-3461-4734-b964-633230383565
DTSTAMP:20260421T183720Z
DESCRIPTION:13/50 Rožnov pR - Uh.Brod 0:3 (-18\,-11\,-15)
DTSTART;TZID=Europe/Berlin:20251130T100000
DTEND;TZID=Europe/Berlin:20251130T120000
LOCATION:ZŠ POD SKALKOU\, Bezručova 293 Rožnov pod Radhoštěm
SUMMARY:ZLK-U22Z: Rožnov pR-Uh.Brod
END:VEVENT
BEGIN:VEVENT
UID:61643164-3236-4239-b739-616139373934
DTSTAMP:20260421T183720Z
DESCRIPTION:14/54 Rožnov pR - Uh.Brod 0:3 (-12\,-24\,-24)
DTSTART;TZID=Europe/Berlin:20251130T130000
DTEND;TZID=Europe/Berlin:20251130T150000
LOCATION:ZŠ POD SKALKOU\, Bezručova 293 Rožnov pod Radhoštěm
SUMMARY:ZLK-U22Z: Rožnov pR-Uh.Brod
END:VEVENT
BEGIN:VEVENT
UID:36383430-3664-4432-a165-653831613435
DTSTAMP:20260421T183720Z
DESCRIPTION:15/59 Kopřivnice - Uh.Brod 2:3 (-14\,17\,21\,-18\,-8)
DTSTART;TZID=Europe/Berlin:20260111T100000
DTEND;TZID=Europe/Berlin:20260111T120000
LOCATION:Tělocvičny ZŠ 17.listopadu Kopřivnice\, 17. listopadu 1225 Kopřivn
 ice
SUMMARY:ZLK-U22Z: Kopřivnice-Uh.Brod
END:VEVENT
BEGIN:VEVENT
UID:61313261-3334-4130-a534-313364333930
DTSTAMP:20260421T183720Z
DESCRIPTION:16/63 Kopřivnice - Uh.Brod 1:3 (-21\,24\,-18\,-21)
DTSTART;TZID=Europe/Berlin:20260111T130000
DTEND;TZID=Europe/Berlin:20260111T150000
LOCATION:Tělocvičny ZŠ 17.listopadu Kopřivnice\, 17. listopadu 1225 Kopřivn
 ice
SUMMARY:ZLK-U22Z: Kopřivnice-Uh.Brod
END:VEVENT
BEGIN:VEVENT
UID:36373266-6664-4266-b131-653363383865
DTSTAMP:20260421T183720Z
DESCRIPTION:19/74 NIVNICE - Uh.Brod 1:3 (-20\,-16\,18\,-13)
DTSTART;TZID=Europe/Berlin:20260301T100000
DTEND;TZID=Europe/Berlin:20260301T120000
LOCATION:Sportovní hala Korytná\,  Korytná409
SUMMARY:ZLK-U22Z: NIVNICE-Uh.Brod
END:VEVENT
BEGIN:VEVENT
UID:65613032-3363-4439-b337-346433326534
DTSTAMP:20260421T183720Z
DESCRIPTION:20/78 NIVNICE - Uh.Brod 0:3 (-17\,-11\,-18)
DTSTART;TZID=Europe/Berlin:20260301T130000
DTEND;TZID=Europe/Berlin:20260301T150000
LOCATION:Sportovní hala Korytná\,  Korytná409
SUMMARY:ZLK-U22Z: NIVNICE-Uh.Brod
END:VEVENT
BEGIN:VEVENT
UID:36363362-3864-4439-b934-653831646539
DTSTAMP:20260421T183720Z
DESCRIPTION:25/100 NAPAJEDLA - Uh.Brod 2:3 (-20\,-24\,21\,23\,-7)
DTSTART;TZID=Europe/Berlin:20260314T100000
DTEND;TZID=Europe/Berlin:20260314T120000
LOCATION:2.ZŠ Napajedla\, Komenského 298 Napajedla
SUMMARY:ZLK-U22Z: NAPAJEDLA-Uh.Brod
END:VEVENT
BEGIN:VEVENT
UID:36363761-3934-4537-b466-373431646230
DTSTAMP:20260421T183720Z
DESCRIPTION:26/104 NAPAJEDLA - Uh.Brod 2:3 (25\,-15\,22\,-15\,-9)
DTSTART;TZID=Europe/Berlin:20260314T130000
DTEND;TZID=Europe/Berlin:20260314T150000
LOCATION:2.ZŠ Napajedla\, Komenského 298 Napajedla
SUMMARY:ZLK-U22Z: NAPAJEDLA-Uh.Brod
END:VEVENT
BEGIN:VEVENT
UID:38643063-3530-4864-a634-643339303666
DTSTAMP:20260421T183720Z
DESCRIPTION:1/3 Uh.Brod - Vejprnice
DTSTART;TZID=Europe/Berlin:20260508T140000
DTEND;TZID=Europe/Berlin:20260508T160000
LOCATION:ZŠ Žernosecká\, Žernosecká 1597 Praha - Kobylisy
SUMMARY:1-U22Z-KC: Uh.Brod-Vejprnice
END:VEVENT
BEGIN:VEVENT
UID:33663361-3737-4366-b833-336438663964
DTSTAMP:20260421T183720Z
DESCRIPTION:1/5 Uh.Brod - Rtyně
DTSTART;TZID=Europe/Berlin:20260508T180000
DTEND;TZID=Europe/Berlin:20260508T200000
LOCATION:ZŠ Žernosecká\, Žernosecká 1597 Praha - Kobylisy
SUMMARY:1-U22Z-KC: Uh.Brod-Rtyně
END:VEVENT
BEGIN:VEVENT
UID:39333830-6538-4631-b061-613864393161
DTSTAMP:20260421T183720Z
DESCRIPTION:1/7 Meteor - Uh.Brod
DTSTART;TZID=Europe/Berlin:20260509T110000
DTEND;TZID=Europe/Berlin:20260509T130000
LOCATION:ZŠ Žernosecká\, Žernosecká 1597 Praha - Kobylisy
SUMMARY:1-U22Z-KC: Meteor-Uh.Brod
END:VEVENT
BEGIN:VEVENT
UID:34346536-3261-4130-b765-346139643838
DTSTAMP:20260421T183720Z
DESCRIPTION:1/9 Šlapanice - Uh.Brod
DTSTART;TZID=Europe/Berlin:20260509T150000
DTEND;TZID=Europe/Berlin:20260509T170000
LOCATION:ZŠ Žernosecká\, Žernosecká 1597 Praha - Kobylisy
SUMMARY:1-U22Z-KC: Šlapanice-Uh.Brod
END:VEVENT
END:VCALENDAR
