BEGIN:VCALENDAR
VERSION:2.0
PRODID:-//Tělocvičná jednota Sokol Geodézie Česká Třebová89460//NONSGML kigkonsult.se iCalcreator 2.41.80//
CALSCALE:GREGORIAN
UID:36386261-6462-4565-b064-333038663663
BEGIN:VEVENT
UID:31373863-3330-4166-a236-333661656235
DTSTAMP:20260422T052723Z
DESCRIPTION:1/1 Česká Třebová U20 - Tělocvičná jednota Sokol Pardubice I. 2
 :0 (16\,23)
DTSTART;TZID=Europe/Berlin:20250913T090000
DTEND;TZID=Europe/Berlin:20250913T110000
LOCATION:Základní škola Česká Třebová Habrmanova\, Na Skále\, Na Skále 566 
 Česká Třebová
SUMMARY:PA-U22M-K-II: Česká Třebová U20-Tělocvičná jednota Sokol Pardubice 
 I.
END:VEVENT
BEGIN:VEVENT
UID:35346663-3938-4162-a234-666334393761
DTSTAMP:20260422T052723Z
DESCRIPTION:1/9 Česká Třebová U20 - Sokol Pardubice I. 2:0 (12\,16)
DTSTART;TZID=Europe/Berlin:20250913T121500
DTEND;TZID=Europe/Berlin:20250913T141500
LOCATION:Základní škola Česká Třebová Habrmanova\, Na Skále\, Na Skále 566 
 Česká Třebová
SUMMARY:PA-U22M-K-II: Česká Třebová U20-Sokol Pardubice I.
END:VEVENT
BEGIN:VEVENT
UID:32313231-6266-4231-a533-656635343437
DTSTAMP:20260422T052723Z
DESCRIPTION:1/14 Česká Třebová U20 - Choceň U20 1:1 (17\,-23)
DTSTART;TZID=Europe/Berlin:20250913T134500
DTEND;TZID=Europe/Berlin:20250913T154500
LOCATION:Základní škola Česká Třebová Habrmanova\, Na Skále\, Na Skále 566 
 Česká Třebová
SUMMARY:PA-U22M-K-II: Česká Třebová U20-Choceň U20
END:VEVENT
BEGIN:VEVENT
UID:38613931-6161-4632-b131-346235353336
DTSTAMP:20260422T052723Z
DESCRIPTION:1/5 Litomyšl U20 - Česká Třebová U20 0:2 (-23\,-9)
DTSTART;TZID=Europe/Berlin:20250913T104500
DTEND;TZID=Europe/Berlin:20250913T124500
LOCATION:Městská sportovní hala\, T. G. Masaryka 1145 Litomyšl - Litomyšl-M
 ěsto
SUMMARY:PA-U22M-K-II: Litomyšl U20-Česká Třebová U20
END:VEVENT
BEGIN:VEVENT
UID:39616138-6533-4262-a538-333965623433
DTSTAMP:20260422T052723Z
DESCRIPTION:1/12 Orel Letohrad - Česká Třebová U20 2:0 (23\,29)
DTSTART;TZID=Europe/Berlin:20250913T130000
DTEND;TZID=Europe/Berlin:20250913T150000
LOCATION:TJ Spartak Letohrad\, Jilemnického 341 Letohrad
SUMMARY:PA-U22M-K-II: Orel Letohrad-Česká Třebová U20
END:VEVENT
BEGIN:VEVENT
UID:32626161-3931-4461-a636-656337396566
DTSTAMP:20260422T052723Z
DESCRIPTION:1/1 Svitavy B U18 - Česká Třebová U20 3:1 (-20\,15\,22\,14)
DTSTART;TZID=Europe/Berlin:20251011T090000
DTEND;TZID=Europe/Berlin:20251011T110000
LOCATION:Sportovní hala Na Střelnici\, Pražská 2162 Svitavy - Předměstí
SUMMARY:PA-U22M-1B: Svitavy B U18-Česká Třebová U20
END:VEVENT
BEGIN:VEVENT
UID:64373237-6665-4439-b330-313339616166
DTSTAMP:20260422T052723Z
DESCRIPTION:1/2 VK SPORT Rychnov nad Kněžnou\, z.s. - Česká Třebová U20 3:0
  (11\,20\,17)
DTSTART;TZID=Europe/Berlin:20251011T110000
DTEND;TZID=Europe/Berlin:20251011T130000
LOCATION:Hala VOŠ a SPŠS\, U Stadionu 1166 Rychnov nad Kněžnou
SUMMARY:PA-U22M-1B: VK SPORT Rychnov nad Kněžnou\, z.s.-Česká Třebová U20
END:VEVENT
BEGIN:VEVENT
UID:63383135-3462-4837-b831-303639616464
DTSTAMP:20260422T052723Z
DESCRIPTION:1/1 Tělocvičná jednota Sokol Pardubice I. - Česká Třebová U20 0
 :3 (-23\,-18\,-17)
DTSTART;TZID=Europe/Berlin:20251108T090000
DTEND;TZID=Europe/Berlin:20251108T110000
LOCATION:Sportovní hala\, Masarykovo nám. 108 Lázně Bohdaneč
SUMMARY:PA-U22M-2C: Tělocvičná jednota Sokol Pardubice I.-Česká Třebová U20
END:VEVENT
BEGIN:VEVENT
UID:63343631-3830-4737-b939-646536336339
DTSTAMP:20260422T052723Z
DESCRIPTION:1/2 Polička U20 - Česká Třebová U20 2:3 (23\,-17\,23\,-18\,-10)
DTSTART;TZID=Europe/Berlin:20251108T110000
DTEND;TZID=Europe/Berlin:20251108T130000
LOCATION:, Tyršova 60 Polička - Horní Předměstí
SUMMARY:PA-U22M-2C: Polička U20-Česká Třebová U20
END:VEVENT
BEGIN:VEVENT
UID:31343535-3533-4662-b138-333635356337
DTSTAMP:20260422T052723Z
DESCRIPTION:1/1 Česká Třebová U20 - Hronov 0:3 (-17\,-15\,-16)
DTSTART;TZID=Europe/Berlin:20251206T090000
DTEND;TZID=Europe/Berlin:20251206T110000
LOCATION:Základní škola Česká Třebová Habrmanova\, Na Skále\, Na Skále 566 
 Česká Třebová
SUMMARY:PA-U22M-3B: Česká Třebová U20-Hronov
END:VEVENT
BEGIN:VEVENT
UID:34663033-3263-4137-b933-343234396166
DTSTAMP:20260422T052723Z
DESCRIPTION:1/3 Česká Třebová U20 - TJ LOKOMOTIVA TRUTNOV\, z.s.
DTSTART;TZID=Europe/Berlin:20251206T130000
DTEND;TZID=Europe/Berlin:20251206T150000
LOCATION:Základní škola Česká Třebová Habrmanova\, Na Skále\, Na Skále 566 
 Česká Třebová
SUMMARY:PA-U22M-3B: Česká Třebová U20-TJ LOKOMOTIVA TRUTNOV\, z.s.
END:VEVENT
BEGIN:VEVENT
UID:64356130-6362-4162-a463-646236623535
DTSTAMP:20260422T052723Z
DESCRIPTION:1/1 Polička U20 - Česká Třebová U20 3:1 (20\,18\,-23\,19)
DTSTART;TZID=Europe/Berlin:20260110T103000
DTEND;TZID=Europe/Berlin:20260110T123000
LOCATION:, Tyršova 60 Polička - Horní Předměstí
SUMMARY:PA-U22M-4B: Polička U20-Česká Třebová U20
END:VEVENT
BEGIN:VEVENT
UID:66303763-6630-4934-b363-653063633762
DTSTAMP:20260422T052723Z
DESCRIPTION:1/2 VK SPORT Rychnov nad Kněžnou\, z.s. - Česká Třebová U20 1:3
  (19\,-18\,-23\,-21)
DTSTART;TZID=Europe/Berlin:20260110T123000
DTEND;TZID=Europe/Berlin:20260110T143000
LOCATION:Hala VOŠ a SPŠS\, U Stadionu 1166 Rychnov nad Kněžnou
SUMMARY:PA-U22M-4B: VK SPORT Rychnov nad Kněžnou\, z.s.-Česká Třebová U20
END:VEVENT
BEGIN:VEVENT
UID:65323664-3430-4564-a632-643135646436
DTSTAMP:20260422T052723Z
DESCRIPTION:1/1 Orel Letohrad - Česká Třebová U20 3:2 (20\,18\,-21\,-19\,9)
DTSTART;TZID=Europe/Berlin:20260221T090000
DTEND;TZID=Europe/Berlin:20260221T110000
LOCATION:TJ Spartak Letohrad\, Jilemnického 341 Letohrad
SUMMARY:PA-U22M-5B: Orel Letohrad-Česká Třebová U20
END:VEVENT
BEGIN:VEVENT
UID:30393365-3332-4734-a536-616332353531
DTSTAMP:20260422T052723Z
DESCRIPTION:1/2 TJ LOKOMOTIVA TRUTNOV\, z.s. - Česká Třebová U20 0:3 (-0\,-
 0\,-0)
DTSTART;TZID=Europe/Berlin:20260221T110000
DTEND;TZID=Europe/Berlin:20260221T130000
LOCATION:Základní škola. Trutnov\, V Domcích 488\, V Domcích 488 Trutnov - 
 Horní Předměstí
SUMMARY:PA-U22M-5B: TJ LOKOMOTIVA TRUTNOV\, z.s.-Česká Třebová U20
END:VEVENT
BEGIN:VEVENT
UID:65393665-3038-4037-b834-396638653163
DTSTAMP:20260422T052723Z
DESCRIPTION:1/1 VK SPORT Rychnov nad Kněžnou\, z.s. - Česká Třebová U20 3:1
  (19\,14\,-15\,14)
DTSTART;TZID=Europe/Berlin:20260307T090000
DTEND;TZID=Europe/Berlin:20260307T110000
LOCATION:Hala VOŠ a SPŠS\, U Stadionu 1166 Rychnov nad Kněžnou
SUMMARY:PA-U22M-6B: VK SPORT Rychnov nad Kněžnou\, z.s.-Česká Třebová U20
END:VEVENT
BEGIN:VEVENT
UID:66333736-3761-4230-b232-653331313635
DTSTAMP:20260422T052723Z
DESCRIPTION:1/2 Svitavy - Česká Třebová U20 3:0 (18\,18\,22)
DTSTART;TZID=Europe/Berlin:20260307T110000
DTEND;TZID=Europe/Berlin:20260307T130000
LOCATION:Sportovní hala Na Střelnici\, Pražská 2162 Svitavy - Předměstí
SUMMARY:PA-U22M-6B: Svitavy-Česká Třebová U20
END:VEVENT
END:VCALENDAR
