BEGIN:VCALENDAR
VERSION:2.0
PRODID:-//Orel jednota Letohrad89466//NONSGML kigkonsult.se iCalcreator 2.41.80//
CALSCALE:GREGORIAN
UID:64316161-3733-4362-a332-643365373736
BEGIN:VEVENT
UID:39303235-6339-4234-a235-346263346538
DTSTAMP:20260422T235618Z
DESCRIPTION:1/2 Orel Letohrad - Sokol Pardubice I. 2:0 (12\,14)
DTSTART;TZID=Europe/Berlin:20250913T090000
DTEND;TZID=Europe/Berlin:20250913T110000
LOCATION:TJ Spartak Letohrad\, Jilemnického 341 Letohrad
SUMMARY:PA-U22M-K-II: Orel Letohrad-Sokol Pardubice I.
END:VEVENT
BEGIN:VEVENT
UID:62623939-3531-4661-a637-333562333762
DTSTAMP:20260422T235618Z
DESCRIPTION:1/12 Orel Letohrad - Česká Třebová U20 2:0 (23\,29)
DTSTART;TZID=Europe/Berlin:20250913T130000
DTEND;TZID=Europe/Berlin:20250913T150000
LOCATION:TJ Spartak Letohrad\, Jilemnického 341 Letohrad
SUMMARY:PA-U22M-K-II: Orel Letohrad-Česká Třebová U20
END:VEVENT
BEGIN:VEVENT
UID:62353330-3331-4662-b866-653337366435
DTSTAMP:20260422T235618Z
DESCRIPTION:1/4 Tělocvičná jednota Sokol Pardubice I. - Orel Letohrad 1:1 (
 -24\,23)
DTSTART;TZID=Europe/Berlin:20250913T100000
DTEND;TZID=Europe/Berlin:20250913T120000
LOCATION:Sportovní hala\, Masarykovo nám. 108 Lázně Bohdaneč
SUMMARY:PA-U22M-K-II: Tělocvičná jednota Sokol Pardubice I.-Orel Letohrad
END:VEVENT
BEGIN:VEVENT
UID:63353333-3962-4636-b436-393139323062
DTSTAMP:20260422T235618Z
DESCRIPTION:1/8 Choceň U20 - Orel Letohrad 0:2 (-19\,-20)
DTSTART;TZID=Europe/Berlin:20250913T113000
DTEND;TZID=Europe/Berlin:20250913T133000
LOCATION:Volejbalová hala \, U Koupaliště 1734 Choceň
SUMMARY:PA-U22M-K-II: Choceň U20-Orel Letohrad
END:VEVENT
BEGIN:VEVENT
UID:63666439-3164-4133-b338-373734356131
DTSTAMP:20260422T235618Z
DESCRIPTION:1/15 Litomyšl U20 - Orel Letohrad 0:2 (-9\,-20)
DTSTART;TZID=Europe/Berlin:20250913T150000
DTEND;TZID=Europe/Berlin:20250913T170000
LOCATION:Městská sportovní hala\, T. G. Masaryka 1145 Litomyšl - Litomyšl-M
 ěsto
SUMMARY:PA-U22M-K-II: Litomyšl U20-Orel Letohrad
END:VEVENT
BEGIN:VEVENT
UID:64633566-3062-4532-b537-356535666132
DTSTAMP:20260422T235618Z
DESCRIPTION:1/1 Svitavy - Orel Letohrad 3:0 (22\,19\,17)
DTSTART;TZID=Europe/Berlin:20251011T090000
DTEND;TZID=Europe/Berlin:20251011T110000
LOCATION:Sportovní hala Na Střelnici\, Pražská 2162 Svitavy - Předměstí
SUMMARY:PA-U22M-1A: Svitavy-Orel Letohrad
END:VEVENT
BEGIN:VEVENT
UID:65333462-3139-4533-b331-663863303132
DTSTAMP:20260422T235618Z
DESCRIPTION:1/2 Hronov - Orel Letohrad 3:2 (-21\,20\,-19\,24\,15)
DTSTART;TZID=Europe/Berlin:20251011T110000
DTEND;TZID=Europe/Berlin:20251011T130000
LOCATION:ZŠ Hronov\, Palackého 162 Hronov
SUMMARY:PA-U22M-1A: Hronov-Orel Letohrad
END:VEVENT
BEGIN:VEVENT
UID:30636565-6534-4234-a539-623432353636
DTSTAMP:20260422T235618Z
DESCRIPTION:1/1 Orel Letohrad - Svitavy 1:3 (-21\,20\,-20\,-22)
DTSTART;TZID=Europe/Berlin:20251206T090000
DTEND;TZID=Europe/Berlin:20251206T110000
LOCATION:TJ Spartak Letohrad\, Jilemnického 341 Letohrad
SUMMARY:PA-U22M-3A: Orel Letohrad-Svitavy
END:VEVENT
BEGIN:VEVENT
UID:62393031-3634-4138-a434-353330316238
DTSTAMP:20260422T235618Z
DESCRIPTION:1/3 Orel Letohrad - VK SPORT Rychnov nad Kněžnou\, z.s. 3:2 (16
 \,-11\,-23\,18\,10)
DTSTART;TZID=Europe/Berlin:20251206T130000
DTEND;TZID=Europe/Berlin:20251206T150000
LOCATION:TJ Spartak Letohrad\, Jilemnického 341 Letohrad
SUMMARY:PA-U22M-3A: Orel Letohrad-VK SPORT Rychnov nad Kněžnou\, z.s.
END:VEVENT
BEGIN:VEVENT
UID:65653439-3861-4638-a362-383663613031
DTSTAMP:20260422T235618Z
DESCRIPTION:1/1 Svitavy - Orel Letohrad 3:0 (13\,22\,16)
DTSTART;TZID=Europe/Berlin:20260110T090000
DTEND;TZID=Europe/Berlin:20260110T110000
LOCATION:Sportovní hala Na Střelnici\, Pražská 2162 Svitavy - Předměstí
SUMMARY:PA-U22M-4A: Svitavy-Orel Letohrad
END:VEVENT
BEGIN:VEVENT
UID:33363736-6337-4462-a331-313862656437
DTSTAMP:20260422T235618Z
DESCRIPTION:1/2 Hronov - Orel Letohrad 3:2 (-20\,-20\,20\,26\,13)
DTSTART;TZID=Europe/Berlin:20260110T110000
DTEND;TZID=Europe/Berlin:20260110T130000
LOCATION:ZŠ Hronov\, Palackého 162 Hronov
SUMMARY:PA-U22M-4A: Hronov-Orel Letohrad
END:VEVENT
BEGIN:VEVENT
UID:36376633-6236-4032-a337-663064613661
DTSTAMP:20260422T235618Z
DESCRIPTION:1/1 Orel Letohrad - Polička U20 3:0 (10\,19\,19)
DTSTART;TZID=Europe/Berlin:20260307T090000
DTEND;TZID=Europe/Berlin:20260307T110000
LOCATION:TJ Spartak Letohrad\, Jilemnického 341 Letohrad
SUMMARY:PA-U22M-6A: Orel Letohrad-Polička U20
END:VEVENT
BEGIN:VEVENT
UID:30316338-6636-4463-b435-393461633265
DTSTAMP:20260422T235618Z
DESCRIPTION:1/3 Orel Letohrad - Hronov 3:2 (24\,-23\,-23\,9\,8)
DTSTART;TZID=Europe/Berlin:20260307T130000
DTEND;TZID=Europe/Berlin:20260307T150000
LOCATION:TJ Spartak Letohrad\, Jilemnického 341 Letohrad
SUMMARY:PA-U22M-6A: Orel Letohrad-Hronov
END:VEVENT
BEGIN:VEVENT
UID:61373531-3966-4663-b137-306630613037
DTSTAMP:20260422T235618Z
DESCRIPTION:1/1 Orel Letohrad - Svitavy B U18 3:0 (23\,17\,17)
DTSTART;TZID=Europe/Berlin:20251108T090000
DTEND;TZID=Europe/Berlin:20251108T110000
LOCATION:TJ Spartak Letohrad\, Jilemnického 341 Letohrad
SUMMARY:PA-U22M-2B: Orel Letohrad-Svitavy B U18
END:VEVENT
BEGIN:VEVENT
UID:31306365-3166-4533-b261-633835373735
DTSTAMP:20260422T235618Z
DESCRIPTION:1/3 Orel Letohrad - TJ LOKOMOTIVA TRUTNOV\, z.s. 3:0 (20\,25\,1
 9)
DTSTART;TZID=Europe/Berlin:20251108T130000
DTEND;TZID=Europe/Berlin:20251108T150000
LOCATION:TJ Spartak Letohrad\, Jilemnického 341 Letohrad
SUMMARY:PA-U22M-2B: Orel Letohrad-TJ LOKOMOTIVA TRUTNOV\, z.s.
END:VEVENT
BEGIN:VEVENT
UID:66613936-3132-4163-b031-653130353736
DTSTAMP:20260422T235618Z
DESCRIPTION:1/1 Orel Letohrad - Česká Třebová U20 3:2 (20\,18\,-21\,-19\,9)
DTSTART;TZID=Europe/Berlin:20260221T090000
DTEND;TZID=Europe/Berlin:20260221T110000
LOCATION:TJ Spartak Letohrad\, Jilemnického 341 Letohrad
SUMMARY:PA-U22M-5B: Orel Letohrad-Česká Třebová U20
END:VEVENT
BEGIN:VEVENT
UID:66316531-3331-4866-b164-643965393866
DTSTAMP:20260422T235618Z
DESCRIPTION:1/3 Orel Letohrad - TJ LOKOMOTIVA TRUTNOV\, z.s. 3:0 (0\,0\,0)
DTSTART;TZID=Europe/Berlin:20260221T130000
DTEND;TZID=Europe/Berlin:20260221T150000
LOCATION:TJ Spartak Letohrad\, Jilemnického 341 Letohrad
SUMMARY:PA-U22M-5B: Orel Letohrad-TJ LOKOMOTIVA TRUTNOV\, z.s.
END:VEVENT
END:VCALENDAR
