BEGIN:VCALENDAR
VERSION:2.0
PRODID:-//Volejbalový klub MEZ Vsetín89470//NONSGML kigkonsult.se iCalcreator 2.41.80//
CALSCALE:GREGORIAN
UID:31356331-3663-4461-b536-663861373635
BEGIN:VEVENT
UID:34356432-6232-4666-b136-303130646435
DTSTAMP:20260422T205207Z
DESCRIPTION:1/4 MEZ Vsetín - Bojkovice 0:2 (-16\,-11)
DTSTART;TZID=Europe/Berlin:20251019T100000
DTEND;TZID=Europe/Berlin:20251019T120000
LOCATION:Sokolovna Vsetín\, Mostecká 367 Vsetín
SUMMARY:ZLK-U14M: MEZ Vsetín-Bojkovice
END:VEVENT
BEGIN:VEVENT
UID:66353236-3337-4230-b237-343761323438
DTSTAMP:20260422T205207Z
DESCRIPTION:2/8 MEZ Vsetín - Staré Město 0:2 (-17\,-6)
DTSTART;TZID=Europe/Berlin:20251109T090000
DTEND;TZID=Europe/Berlin:20251109T110000
LOCATION:Sokolovna Vsetín\, Mostecká 367 Vsetín
SUMMARY:ZLK-U14M: MEZ Vsetín-Staré Město
END:VEVENT
BEGIN:VEVENT
UID:36306536-3162-4365-a432-666566316236
DTSTAMP:20260422T205207Z
DESCRIPTION:3/17 MEZ Vsetín - VSC Zlín 0:2 (-13\,-16)
DTSTART;TZID=Europe/Berlin:20251123T110000
DTEND;TZID=Europe/Berlin:20251123T130000
LOCATION:Sokolovna Vsetín\, Mostecká 367 Vsetín
SUMMARY:ZLK-U14M: MEZ Vsetín-VSC Zlín
END:VEVENT
BEGIN:VEVENT
UID:39363438-3339-4132-a661-613466303962
DTSTAMP:20260422T205207Z
DESCRIPTION:4/19 MEZ Vsetín - Staré Město 0:2 (-22\,-14)\nTurnaj Vsetín
DTSTART;TZID=Europe/Berlin:20251214T090000
DTEND;TZID=Europe/Berlin:20251214T110000
LOCATION:Sokolovna Vsetín\, Mostecká 367 Vsetín
SUMMARY:ZLK-U14M: MEZ Vsetín-Staré Město
END:VEVENT
BEGIN:VEVENT
UID:62666461-3937-4637-a431-343438343636
DTSTAMP:20260422T205207Z
DESCRIPTION:4/22 MEZ Vsetín - Bojkovice 0:2 (-25\,-22)
DTSTART;TZID=Europe/Berlin:20251214T100000
DTEND;TZID=Europe/Berlin:20251214T120000
LOCATION:Sokolovna Vsetín\, Mostecká 367 Vsetín
SUMMARY:ZLK-U14M: MEZ Vsetín-Bojkovice
END:VEVENT
BEGIN:VEVENT
UID:61643135-3664-4934-b166-383632643963
DTSTAMP:20260422T205207Z
DESCRIPTION:4/24 MEZ Vsetín - VSC Zlín 0:2 (-14\,-14)
DTSTART;TZID=Europe/Berlin:20251214T110000
DTEND;TZID=Europe/Berlin:20251214T130000
LOCATION:Sokolovna Vsetín\, Mostecká 367 Vsetín
SUMMARY:ZLK-U14M: MEZ Vsetín-VSC Zlín
END:VEVENT
BEGIN:VEVENT
UID:66393333-3963-4662-b063-666337616664
DTSTAMP:20260422T205207Z
DESCRIPTION:5/28 MEZ Vsetín - Bojkovice 2:0 (19\,13)
DTSTART;TZID=Europe/Berlin:20260118T100000
DTEND;TZID=Europe/Berlin:20260118T120000
LOCATION:Sokolovna Vsetín\, Mostecká 367 Vsetín
SUMMARY:ZLK-U14M: MEZ Vsetín-Bojkovice
END:VEVENT
BEGIN:VEVENT
UID:32366164-6635-4332-b437-316135376139
DTSTAMP:20260422T205207Z
DESCRIPTION:6/32 MEZ Vsetín - Staré Město 0:2 (-12\,-10)
DTSTART;TZID=Europe/Berlin:20260215T090000
DTEND;TZID=Europe/Berlin:20260215T110000
LOCATION:Sokolovna Vsetín\, Mostecká 367 Vsetín
SUMMARY:ZLK-U14M: MEZ Vsetín-Staré Město
END:VEVENT
BEGIN:VEVENT
UID:39363331-6537-4336-b263-323164613837
DTSTAMP:20260422T205207Z
DESCRIPTION:7/41 MEZ Vsetín - VSC Zlín 0:2 (-23\,-17)
DTSTART;TZID=Europe/Berlin:20260313T173000
DTEND;TZID=Europe/Berlin:20260313T193000
LOCATION:Sokolovna Vsetín\, Mostecká 367 Vsetín
SUMMARY:ZLK-U14M: MEZ Vsetín-VSC Zlín
END:VEVENT
BEGIN:VEVENT
UID:31356633-6262-4239-b437-636134383061
DTSTAMP:20260422T205207Z
DESCRIPTION:8/43 MEZ Vsetín - Staré Město 0:2 (-14\,-13)\nTurnaj Vsetín
DTSTART;TZID=Europe/Berlin:20260412T143000
DTEND;TZID=Europe/Berlin:20260412T163000
LOCATION:Sokolovna Vsetín\, Mostecká 367 Vsetín
SUMMARY:ZLK-U14M: MEZ Vsetín-Staré Město
END:VEVENT
BEGIN:VEVENT
UID:37393765-3336-4063-a136-613733323934
DTSTAMP:20260422T205207Z
DESCRIPTION:8/46 MEZ Vsetín - Bojkovice 1:2 (-16\,17\,-11)
DTSTART;TZID=Europe/Berlin:20260412T153000
DTEND;TZID=Europe/Berlin:20260412T173000
LOCATION:Sokolovna Vsetín\, Mostecká 367 Vsetín
SUMMARY:ZLK-U14M: MEZ Vsetín-Bojkovice
END:VEVENT
BEGIN:VEVENT
UID:37623837-3835-4261-b932-613934396161
DTSTAMP:20260422T205207Z
DESCRIPTION:8/48 MEZ Vsetín - VSC Zlín 0:2 (-15\,-14)
DTSTART;TZID=Europe/Berlin:20260412T163000
DTEND;TZID=Europe/Berlin:20260412T183000
LOCATION:Sokolovna Vsetín\, Mostecká 367 Vsetín
SUMMARY:ZLK-U14M: MEZ Vsetín-VSC Zlín
END:VEVENT
BEGIN:VEVENT
UID:63376565-6663-4262-b731-616364646462
DTSTAMP:20260422T205207Z
DESCRIPTION:1/2 Staré Město - MEZ Vsetín 2:0 (14\,22)
DTSTART;TZID=Europe/Berlin:20251019T090000
DTEND;TZID=Europe/Berlin:20251019T110000
LOCATION:Městská sportovní hala Širůch\, Nad Hřištěm 1921 Staré Město
SUMMARY:ZLK-U14M: Staré Město-MEZ Vsetín
END:VEVENT
BEGIN:VEVENT
UID:61376431-3961-4261-b932-646636336565
DTSTAMP:20260422T205207Z
DESCRIPTION:1/6 VSC Zlín - MEZ Vsetín 2:0 (23\,9)
DTSTART;TZID=Europe/Berlin:20251019T110000
DTEND;TZID=Europe/Berlin:20251019T130000
LOCATION:ZŠ Okružní Zlín\, Okružní 4685 Zlín
SUMMARY:ZLK-U14M: VSC Zlín-MEZ Vsetín
END:VEVENT
BEGIN:VEVENT
UID:31326336-6362-4164-b230-356333313730
DTSTAMP:20260422T205207Z
DESCRIPTION:2/10 Bojkovice - MEZ Vsetín 2:0 (17\,16)
DTSTART;TZID=Europe/Berlin:20251109T100000
DTEND;TZID=Europe/Berlin:20251109T120000
LOCATION:ZŠ TGM Bojkovice\, Štefánikova 460 Bojkovice
SUMMARY:ZLK-U14M: Bojkovice-MEZ Vsetín
END:VEVENT
BEGIN:VEVENT
UID:65633736-3362-4833-b063-643062633961
DTSTAMP:20260422T205207Z
DESCRIPTION:2/11 VSC Zlín - MEZ Vsetín 2:0 (10\,16)
DTSTART;TZID=Europe/Berlin:20251109T110000
DTEND;TZID=Europe/Berlin:20251109T130000
LOCATION:ZŠ Okružní Zlín\, Okružní 4685 Zlín
SUMMARY:ZLK-U14M: VSC Zlín-MEZ Vsetín
END:VEVENT
BEGIN:VEVENT
UID:61383965-3661-4866-a333-353061393038
DTSTAMP:20260422T205207Z
DESCRIPTION:3/13 Staré Město - MEZ Vsetín 2:0 (15\,7)\nTurnaj Staré Město
DTSTART;TZID=Europe/Berlin:20251123T090000
DTEND;TZID=Europe/Berlin:20251123T110000
LOCATION:Městská sportovní hala Širůch\, Nad Hřištěm 1921 Staré Město
SUMMARY:ZLK-U14M: Staré Město-MEZ Vsetín
END:VEVENT
BEGIN:VEVENT
UID:38373238-3763-4366-a466-383435396666
DTSTAMP:20260422T205207Z
DESCRIPTION:3/16 Bojkovice - MEZ Vsetín 2:0 (14\,19)
DTSTART;TZID=Europe/Berlin:20251123T100000
DTEND;TZID=Europe/Berlin:20251123T120000
LOCATION:ZŠ TGM Bojkovice\, Štefánikova 460 Bojkovice
SUMMARY:ZLK-U14M: Bojkovice-MEZ Vsetín
END:VEVENT
BEGIN:VEVENT
UID:33613362-6339-4963-a337-393033663030
DTSTAMP:20260422T205207Z
DESCRIPTION:5/26 Staré Město - MEZ Vsetín 2:0 (10\,11)
DTSTART;TZID=Europe/Berlin:20260118T090000
DTEND;TZID=Europe/Berlin:20260118T110000
LOCATION:Městská sportovní hala Širůch\, Nad Hřištěm 1921 Staré Město
SUMMARY:ZLK-U14M: Staré Město-MEZ Vsetín
END:VEVENT
BEGIN:VEVENT
UID:63366535-6432-4063-b264-616134336230
DTSTAMP:20260422T205207Z
DESCRIPTION:5/30 VSC Zlín - MEZ Vsetín 2:0 (12\,18)
DTSTART;TZID=Europe/Berlin:20260118T110000
DTEND;TZID=Europe/Berlin:20260118T130000
LOCATION:ZŠ Okružní Zlín\, Okružní 4685 Zlín
SUMMARY:ZLK-U14M: VSC Zlín-MEZ Vsetín
END:VEVENT
BEGIN:VEVENT
UID:31376330-3433-4235-a366-653632343231
DTSTAMP:20260422T205207Z
DESCRIPTION:6/34 Bojkovice - MEZ Vsetín 2:0 (22\,14)
DTSTART;TZID=Europe/Berlin:20260215T100000
DTEND;TZID=Europe/Berlin:20260215T120000
LOCATION:ZŠ TGM Bojkovice\, Štefánikova 460 Bojkovice
SUMMARY:ZLK-U14M: Bojkovice-MEZ Vsetín
END:VEVENT
BEGIN:VEVENT
UID:63326232-6562-4333-a332-373763366635
DTSTAMP:20260422T205207Z
DESCRIPTION:6/35 VSC Zlín - MEZ Vsetín 2:0 (7\,9)
DTSTART;TZID=Europe/Berlin:20260215T110000
DTEND;TZID=Europe/Berlin:20260215T130000
LOCATION:ZŠ Okružní Zlín\, Okružní 4685 Zlín
SUMMARY:ZLK-U14M: VSC Zlín-MEZ Vsetín
END:VEVENT
BEGIN:VEVENT
UID:37636163-3261-4135-b261-386663616563
DTSTAMP:20260422T205207Z
DESCRIPTION:7/37 Staré Město - MEZ Vsetín 2:0 (10\,8)\nTurnaj Staré Město
DTSTART;TZID=Europe/Berlin:20260313T153000
DTEND;TZID=Europe/Berlin:20260313T173000
LOCATION:Městská sportovní hala Širůch\, Nad Hřištěm 1921 Staré Město
SUMMARY:ZLK-U14M: Staré Město-MEZ Vsetín
END:VEVENT
BEGIN:VEVENT
UID:35376534-3531-4363-b838-333832373063
DTSTAMP:20260422T205207Z
DESCRIPTION:7/40 Bojkovice - MEZ Vsetín 0:2 (-28\,-21)
DTSTART;TZID=Europe/Berlin:20260313T163000
DTEND;TZID=Europe/Berlin:20260313T183000
LOCATION:ZŠ TGM Bojkovice\, Štefánikova 460 Bojkovice
SUMMARY:ZLK-U14M: Bojkovice-MEZ Vsetín
END:VEVENT
END:VCALENDAR
