BEGIN:VCALENDAR
VERSION:2.0
PRODID:-//TJ Svitavy, z.s.89484//NONSGML kigkonsult.se iCalcreator 2.41.80//
CALSCALE:GREGORIAN
UID:63656362-6133-4362-b933-396365343338
BEGIN:VEVENT
UID:38306666-3834-4834-b664-653239656233
DTSTAMP:20260422T164736Z
DESCRIPTION:1/1 TJ Svitavy - VK Litomyšl 3:0 (13\,24\,9)
DTSTART;TZID=Europe/Berlin:20251018T100000
DTEND;TZID=Europe/Berlin:20251018T120000
LOCATION:Sportovní hala Na Střelnici\, Pražská 2162 Svitavy - Předměstí
SUMMARY:PA-Z-1: TJ Svitavy-VK Litomyšl
END:VEVENT
BEGIN:VEVENT
UID:36646161-6566-4239-a563-313964346634
DTSTAMP:20260422T164736Z
DESCRIPTION:2/4 TJ Svitavy - VK Litomyšl 2:3 (22\,-17\,-16\,16\,-13)
DTSTART;TZID=Europe/Berlin:20251018T130000
DTEND;TZID=Europe/Berlin:20251018T150000
LOCATION:Sportovní hala Na Střelnici\, Pražská 2162 Svitavy - Předměstí
SUMMARY:PA-Z-1: TJ Svitavy-VK Litomyšl
END:VEVENT
BEGIN:VEVENT
UID:61313134-3134-4037-b631-313438353735
DTSTAMP:20260422T164736Z
DESCRIPTION:3/9 TJ Svitavy - VO TJ Lanškroun 3:0 (16\,15\,16)
DTSTART;TZID=Europe/Berlin:20251206T100000
DTEND;TZID=Europe/Berlin:20251206T120000
LOCATION:Sportovní hala Na Střelnici\, Pražská 2162 Svitavy - Předměstí
SUMMARY:PA-Z-1: TJ Svitavy-VO TJ Lanškroun
END:VEVENT
BEGIN:VEVENT
UID:35633862-6637-4963-a133-333931663838
DTSTAMP:20260422T164736Z
DESCRIPTION:4/12 TJ Svitavy - VO TJ Lanškroun 3:0 (12\,18\,21)
DTSTART;TZID=Europe/Berlin:20251206T130000
DTEND;TZID=Europe/Berlin:20251206T150000
LOCATION:Sportovní hala Na Střelnici\, Pražská 2162 Svitavy - Předměstí
SUMMARY:PA-Z-1: TJ Svitavy-VO TJ Lanškroun
END:VEVENT
BEGIN:VEVENT
UID:62363466-3531-4364-b735-353363626235
DTSTAMP:20260422T164736Z
DESCRIPTION:7/20 TJ Svitavy - TJ Sokol Dolní Újezd 3:1 (21\,25\,-19\,18)
DTSTART;TZID=Europe/Berlin:20251122T100000
DTEND;TZID=Europe/Berlin:20251122T120000
LOCATION:Sportovní hala Na Střelnici\, Pražská 2162 Svitavy - Předměstí
SUMMARY:PA-Z-1: TJ Svitavy-TJ Sokol Dolní Újezd
END:VEVENT
BEGIN:VEVENT
UID:38643063-3261-4238-b537-653733656336
DTSTAMP:20260422T164736Z
DESCRIPTION:8/23 TJ Svitavy - TJ Sokol Dolní Újezd 3:2 (-25\,-21\,12\,15\,1
 0)
DTSTART;TZID=Europe/Berlin:20251122T130000
DTEND;TZID=Europe/Berlin:20251122T150000
LOCATION:Sportovní hala Na Střelnici\, Pražská 2162 Svitavy - Předměstí
SUMMARY:PA-Z-1: TJ Svitavy-TJ Sokol Dolní Újezd
END:VEVENT
BEGIN:VEVENT
UID:66663262-3230-4862-a262-643133356637
DTSTAMP:20260422T164736Z
DESCRIPTION:15/44 TJ Svitavy - USK Pardubice 3:0 (19\,15\,14)
DTSTART;TZID=Europe/Berlin:20260201T100000
DTEND;TZID=Europe/Berlin:20260201T120000
LOCATION:Sportovní hala Na Střelnici\, Pražská 2162 Svitavy - Předměstí
SUMMARY:PA-Z-1: TJ Svitavy-USK Pardubice
END:VEVENT
BEGIN:VEVENT
UID:33633936-3962-4536-b439-663432393631
DTSTAMP:20260422T164736Z
DESCRIPTION:16/47 TJ Svitavy - USK Pardubice 3:0 (15\,9\,13)
DTSTART;TZID=Europe/Berlin:20260201T130000
DTEND;TZID=Europe/Berlin:20260201T150000
LOCATION:Sportovní hala Na Střelnici\, Pražská 2162 Svitavy - Předměstí
SUMMARY:PA-Z-1: TJ Svitavy-USK Pardubice
END:VEVENT
BEGIN:VEVENT
UID:39646563-6431-4435-b066-353561326535
DTSTAMP:20260422T164736Z
DESCRIPTION:19/57 TJ Svitavy - VK Choceň 3:0 (10\,21\,16)
DTSTART;TZID=Europe/Berlin:20260307T100000
DTEND;TZID=Europe/Berlin:20260307T120000
LOCATION:Sportovní hala Na Střelnici\, Pražská 2162 Svitavy - Předměstí
SUMMARY:PA-Z-1: TJ Svitavy-VK Choceň
END:VEVENT
BEGIN:VEVENT
UID:33636164-3330-4037-a631-613661356461
DTSTAMP:20260422T164736Z
DESCRIPTION:20/60 TJ Svitavy - VK Choceň 3:1 (-14\,9\,21\,22)
DTSTART;TZID=Europe/Berlin:20260307T130000
DTEND;TZID=Europe/Berlin:20260307T150000
LOCATION:Sportovní hala Na Střelnici\, Pražská 2162 Svitavy - Předměstí
SUMMARY:PA-Z-1: TJ Svitavy-VK Choceň
END:VEVENT
BEGIN:VEVENT
UID:61323761-3832-4835-a535-666339666237
DTSTAMP:20260422T164736Z
DESCRIPTION:5/14 USK Pardubice - TJ Svitavy 0:3 (-16\,-16\,-22)
DTSTART;TZID=Europe/Berlin:20251108T100000
DTEND;TZID=Europe/Berlin:20251108T120000
LOCATION:Sportovní areál Univerzity Pardubice\, Studentská 95 Pardubice - P
 olabiny
SUMMARY:PA-Z-1: USK Pardubice-TJ Svitavy
END:VEVENT
BEGIN:VEVENT
UID:32343032-6362-4435-a631-356561633532
DTSTAMP:20260422T164736Z
DESCRIPTION:6/17 USK Pardubice - TJ Svitavy 1:3 (11\,-11\,-12\,-16)
DTSTART;TZID=Europe/Berlin:20251108T130000
DTEND;TZID=Europe/Berlin:20251108T150000
LOCATION:Sportovní areál Univerzity Pardubice\, Studentská 95 Pardubice - P
 olabiny
SUMMARY:PA-Z-1: USK Pardubice-TJ Svitavy
END:VEVENT
BEGIN:VEVENT
UID:61653034-6438-4232-b833-393631653431
DTSTAMP:20260422T164736Z
DESCRIPTION:9/27 VK Choceň - TJ Svitavy 0:3 (-24\,-15\,-20)
DTSTART;TZID=Europe/Berlin:20251130T090000
DTEND;TZID=Europe/Berlin:20251130T110000
LOCATION:Volejbalová hala \, U Koupaliště 1734 Choceň
SUMMARY:PA-Z-1: VK Choceň-TJ Svitavy
END:VEVENT
BEGIN:VEVENT
UID:35316564-3462-4061-b337-613137316236
DTSTAMP:20260422T164736Z
DESCRIPTION:10/30 VK Choceň - TJ Svitavy 2:3 (20\,20\,-16\,-21\,-4)
DTSTART;TZID=Europe/Berlin:20251130T130000
DTEND;TZID=Europe/Berlin:20251130T150000
LOCATION:Volejbalová hala \, U Koupaliště 1734 Choceň
SUMMARY:PA-Z-1: VK Choceň-TJ Svitavy
END:VEVENT
BEGIN:VEVENT
UID:39383531-6439-4630-a130-623634346333
DTSTAMP:20260422T164736Z
DESCRIPTION:11/31 VK Litomyšl - TJ Svitavy 0:3 (-19\,-20\,-20)
DTSTART;TZID=Europe/Berlin:20260221T090000
DTEND;TZID=Europe/Berlin:20260221T110000
LOCATION:Městská sportovní hala\, T. G. Masaryka 1145 Litomyšl - Litomyšl-M
 ěsto
SUMMARY:PA-Z-1: VK Litomyšl-TJ Svitavy
END:VEVENT
BEGIN:VEVENT
UID:61373237-3066-4365-b730-353862393937
DTSTAMP:20260422T164736Z
DESCRIPTION:12/34 VK Litomyšl - TJ Svitavy 0:3 (-21\,-23\,-21)
DTSTART;TZID=Europe/Berlin:20260221T120000
DTEND;TZID=Europe/Berlin:20260221T140000
LOCATION:Městská sportovní hala\, T. G. Masaryka 1145 Litomyšl - Litomyšl-M
 ěsto
SUMMARY:PA-Z-1: VK Litomyšl-TJ Svitavy
END:VEVENT
BEGIN:VEVENT
UID:39663565-3733-4239-b935-613766303436
DTSTAMP:20260422T164736Z
DESCRIPTION:13/39 VO TJ Lanškroun - TJ Svitavy 2:3 (22\,-11\,18\,-17\,-11)
DTSTART;TZID=Europe/Berlin:20260117T100000
DTEND;TZID=Europe/Berlin:20260117T120000
LOCATION:SOŠ a SOU Lanškroun\, Sokolská 288 Lanškroun - Ostrovské Předměstí
SUMMARY:PA-Z-1: VO TJ Lanškroun-TJ Svitavy
END:VEVENT
BEGIN:VEVENT
UID:39373636-3261-4737-a265-363061396565
DTSTAMP:20260422T164736Z
DESCRIPTION:14/42 VO TJ Lanškroun - TJ Svitavy 1:3 (-15\,-19\,19\,-17)
DTSTART;TZID=Europe/Berlin:20260117T130000
DTEND;TZID=Europe/Berlin:20260117T150000
LOCATION:SOŠ a SOU Lanškroun\, Sokolská 288 Lanškroun - Ostrovské Předměstí
SUMMARY:PA-Z-1: VO TJ Lanškroun-TJ Svitavy
END:VEVENT
BEGIN:VEVENT
UID:35643335-3661-4336-a332-336165386535
DTSTAMP:20260422T164736Z
DESCRIPTION:17/50 TJ Sokol Dolní Újezd - TJ Svitavy 1:3 (-15\,19\,-19\,-17)
DTSTART;TZID=Europe/Berlin:20260228T100000
DTEND;TZID=Europe/Berlin:20260228T120000
LOCATION:tělocvična Základní školy\,  Dolní Újezd342
SUMMARY:PA-Z-1: TJ Sokol Dolní Újezd-TJ Svitavy
END:VEVENT
BEGIN:VEVENT
UID:65396362-3062-4865-b732-633965623862
DTSTAMP:20260422T164736Z
DESCRIPTION:18/53 TJ Sokol Dolní Újezd - TJ Svitavy 3:2 (-22\,13\,12\,-23\,
 9)
DTSTART;TZID=Europe/Berlin:20260228T130000
DTEND;TZID=Europe/Berlin:20260228T150000
LOCATION:tělocvična Základní školy\,  Dolní Újezd342
SUMMARY:PA-Z-1: TJ Sokol Dolní Újezd-TJ Svitavy
END:VEVENT
BEGIN:VEVENT
UID:33363130-3438-4437-a664-373764303565
DTSTAMP:20260422T164736Z
DESCRIPTION:1/6 TJ Svitavy - Újezd u Brna 3:1 (-12\,18\,19\,24)
DTSTART;TZID=Europe/Berlin:20260419T090000
DTEND;TZID=Europe/Berlin:20260419T110000
LOCATION:VOŠ a SPŠE Olomouc\, Božetěchova 755 Olomouc - Hodolany
SUMMARY:2-Z-KC: TJ Svitavy-Újezd u Brna
END:VEVENT
BEGIN:VEVENT
UID:37643964-3463-4439-b161-633732353332
DTSTAMP:20260422T164736Z
DESCRIPTION:1/1 VAM Olomouc - TJ Svitavy 3:1 (-20\,19\,16\,22)
DTSTART;TZID=Europe/Berlin:20260418T100000
DTEND;TZID=Europe/Berlin:20260418T120000
LOCATION:VOŠ a SPŠE Olomouc\, Božetěchova 755 Olomouc - Hodolany
SUMMARY:2-Z-KC: VAM Olomouc-TJ Svitavy
END:VEVENT
BEGIN:VEVENT
UID:37303064-3734-4535-b235-653164386139
DTSTAMP:20260422T164736Z
DESCRIPTION:1/3 VK Polanka - TJ Svitavy 3:0 (21\,16\,23)
DTSTART;TZID=Europe/Berlin:20260418T140000
DTEND;TZID=Europe/Berlin:20260418T160000
LOCATION:VOŠ a SPŠE Olomouc\, Božetěchova 755 Olomouc - Hodolany
SUMMARY:2-Z-KC: VK Polanka-TJ Svitavy
END:VEVENT
BEGIN:VEVENT
UID:35383762-6336-4132-a264-353833386636
DTSTAMP:20260422T164736Z
DESCRIPTION:1/8 Uh.Hradiště - TJ Svitavy 0:3 (-14\,-14\,-24)
DTSTART;TZID=Europe/Berlin:20260419T130000
DTEND;TZID=Europe/Berlin:20260419T150000
LOCATION:VOŠ a SPŠE Olomouc\, Božetěchova 755 Olomouc - Hodolany
SUMMARY:2-Z-KC: Uh.Hradiště-TJ Svitavy
END:VEVENT
END:VCALENDAR
