BEGIN:VCALENDAR
VERSION:2.0
PRODID:-//Volejbalový klub Litomyšl, z.s.89486//NONSGML kigkonsult.se iCalcreator 2.41.80//
CALSCALE:GREGORIAN
UID:30393731-6464-4230-b333-373631633633
BEGIN:VEVENT
UID:38333865-6336-4537-b665-643930613665
DTSTAMP:20260422T145015Z
DESCRIPTION:3/7 VK Litomyšl - TJ Sokol Dolní Újezd 0:3 (-25\,-20\,-18)
DTSTART;TZID=Europe/Berlin:20251025T090000
DTEND;TZID=Europe/Berlin:20251025T110000
LOCATION:Městská sportovní hala\, T. G. Masaryka 1145 Litomyšl - Litomyšl-M
 ěsto
SUMMARY:PA-Z-1: VK Litomyšl-TJ Sokol Dolní Újezd
END:VEVENT
BEGIN:VEVENT
UID:63643837-6662-4066-a530-323062383035
DTSTAMP:20260422T145015Z
DESCRIPTION:4/10 VK Litomyšl - TJ Sokol Dolní Újezd 0:3 (-18\,-20\,-11)
DTSTART;TZID=Europe/Berlin:20251025T130000
DTEND;TZID=Europe/Berlin:20251025T150000
LOCATION:Městská sportovní hala\, T. G. Masaryka 1145 Litomyšl - Litomyšl-M
 ěsto
SUMMARY:PA-Z-1: VK Litomyšl-TJ Sokol Dolní Újezd
END:VEVENT
BEGIN:VEVENT
UID:62313263-3432-4037-b536-613336393465
DTSTAMP:20260422T145015Z
DESCRIPTION:7/19 VK Litomyšl - VK Choceň 3:0 (22\,23\,21)
DTSTART;TZID=Europe/Berlin:20251122T090000
DTEND;TZID=Europe/Berlin:20251122T110000
LOCATION:Městská sportovní hala\, T. G. Masaryka 1145 Litomyšl - Litomyšl-M
 ěsto
SUMMARY:PA-Z-1: VK Litomyšl-VK Choceň
END:VEVENT
BEGIN:VEVENT
UID:34353238-6437-4565-b734-346261303033
DTSTAMP:20260422T145015Z
DESCRIPTION:8/22 VK Litomyšl - VK Choceň 0:3 (-18\,-24\,-18)
DTSTART;TZID=Europe/Berlin:20251122T130000
DTEND;TZID=Europe/Berlin:20251122T150000
LOCATION:Městská sportovní hala\, T. G. Masaryka 1145 Litomyšl - Litomyšl-M
 ěsto
SUMMARY:PA-Z-1: VK Litomyšl-VK Choceň
END:VEVENT
BEGIN:VEVENT
UID:35616564-3961-4432-a163-643866306339
DTSTAMP:20260422T145015Z
DESCRIPTION:11/31 VK Litomyšl - TJ Svitavy 0:3 (-19\,-20\,-20)
DTSTART;TZID=Europe/Berlin:20260221T090000
DTEND;TZID=Europe/Berlin:20260221T110000
LOCATION:Městská sportovní hala\, T. G. Masaryka 1145 Litomyšl - Litomyšl-M
 ěsto
SUMMARY:PA-Z-1: VK Litomyšl-TJ Svitavy
END:VEVENT
BEGIN:VEVENT
UID:63636436-3163-4530-a639-356264333037
DTSTAMP:20260422T145015Z
DESCRIPTION:12/34 VK Litomyšl - TJ Svitavy 0:3 (-21\,-23\,-21)
DTSTART;TZID=Europe/Berlin:20260221T120000
DTEND;TZID=Europe/Berlin:20260221T140000
LOCATION:Městská sportovní hala\, T. G. Masaryka 1145 Litomyšl - Litomyšl-M
 ěsto
SUMMARY:PA-Z-1: VK Litomyšl-TJ Svitavy
END:VEVENT
BEGIN:VEVENT
UID:37333932-3137-4530-a461-643033313934
DTSTAMP:20260422T145015Z
DESCRIPTION:15/43 VK Litomyšl - VO TJ Lanškroun 2:3 (-21\,12\,-16\,19\,-11)
DTSTART;TZID=Europe/Berlin:20260124T090000
DTEND;TZID=Europe/Berlin:20260124T110000
LOCATION:Městská sportovní hala\, T. G. Masaryka 1145 Litomyšl - Litomyšl-M
 ěsto
SUMMARY:PA-Z-1: VK Litomyšl-VO TJ Lanškroun
END:VEVENT
BEGIN:VEVENT
UID:30373932-3430-4637-b534-636364356636
DTSTAMP:20260422T145015Z
DESCRIPTION:16/46 VK Litomyšl - VO TJ Lanškroun 0:3 (-15\,-20\,-18)
DTSTART;TZID=Europe/Berlin:20260124T130000
DTEND;TZID=Europe/Berlin:20260124T150000
LOCATION:Městská sportovní hala\, T. G. Masaryka 1145 Litomyšl - Litomyšl-M
 ěsto
SUMMARY:PA-Z-1: VK Litomyšl-VO TJ Lanškroun
END:VEVENT
BEGIN:VEVENT
UID:65373466-3863-4265-a435-643739653233
DTSTAMP:20260422T145015Z
DESCRIPTION:19/55 VK Litomyšl - USK Pardubice 3:0 (6\,12\,21)
DTSTART;TZID=Europe/Berlin:20260307T090000
DTEND;TZID=Europe/Berlin:20260307T110000
LOCATION:Městská sportovní hala\, T. G. Masaryka 1145 Litomyšl - Litomyšl-M
 ěsto
SUMMARY:PA-Z-1: VK Litomyšl-USK Pardubice
END:VEVENT
BEGIN:VEVENT
UID:63376232-6633-4432-b761-306264353863
DTSTAMP:20260422T145015Z
DESCRIPTION:20/58 VK Litomyšl - USK Pardubice 3:0 (4\,19\,17)
DTSTART;TZID=Europe/Berlin:20260307T130000
DTEND;TZID=Europe/Berlin:20260307T150000
LOCATION:Městská sportovní hala\, T. G. Masaryka 1145 Litomyšl - Litomyšl-M
 ěsto
SUMMARY:PA-Z-1: VK Litomyšl-USK Pardubice
END:VEVENT
BEGIN:VEVENT
UID:62623065-6237-4339-b637-373037376266
DTSTAMP:20260422T145015Z
DESCRIPTION:1/1 TJ Svitavy - VK Litomyšl 3:0 (13\,24\,9)
DTSTART;TZID=Europe/Berlin:20251018T100000
DTEND;TZID=Europe/Berlin:20251018T120000
LOCATION:Sportovní hala Na Střelnici\, Pražská 2162 Svitavy - Předměstí
SUMMARY:PA-Z-1: TJ Svitavy-VK Litomyšl
END:VEVENT
BEGIN:VEVENT
UID:63363932-3766-4062-b861-333237653063
DTSTAMP:20260422T145015Z
DESCRIPTION:2/4 TJ Svitavy - VK Litomyšl 2:3 (22\,-17\,-16\,16\,-13)
DTSTART;TZID=Europe/Berlin:20251018T130000
DTEND;TZID=Europe/Berlin:20251018T150000
LOCATION:Sportovní hala Na Střelnici\, Pražská 2162 Svitavy - Předměstí
SUMMARY:PA-Z-1: TJ Svitavy-VK Litomyšl
END:VEVENT
BEGIN:VEVENT
UID:38363333-3163-4138-b434-366536643863
DTSTAMP:20260422T145015Z
DESCRIPTION:5/13 VO TJ Lanškroun - VK Litomyšl 1:3 (-21\,17\,-17\,-16)
DTSTART;TZID=Europe/Berlin:20251108T100000
DTEND;TZID=Europe/Berlin:20251108T120000
LOCATION:SOŠ a SOU Lanškroun\, Sokolská 288 Lanškroun - Ostrovské Předměstí
SUMMARY:PA-Z-1: VO TJ Lanškroun-VK Litomyšl
END:VEVENT
BEGIN:VEVENT
UID:62373965-3339-4433-b236-636136643130
DTSTAMP:20260422T145015Z
DESCRIPTION:6/16 VO TJ Lanškroun - VK Litomyšl 3:0 (13\,23\,17)
DTSTART;TZID=Europe/Berlin:20251108T130000
DTEND;TZID=Europe/Berlin:20251108T150000
LOCATION:SOŠ a SOU Lanškroun\, Sokolská 288 Lanškroun - Ostrovské Předměstí
SUMMARY:PA-Z-1: VO TJ Lanškroun-VK Litomyšl
END:VEVENT
BEGIN:VEVENT
UID:38653362-3034-4765-b537-323963623433
DTSTAMP:20260422T145015Z
DESCRIPTION:9/25 USK Pardubice - VK Litomyšl 1:3 (-18\,19\,-20\,-22)
DTSTART;TZID=Europe/Berlin:20251129T100000
DTEND;TZID=Europe/Berlin:20251129T120000
LOCATION:Sportovní areál Univerzity Pardubice\, Studentská 95 Pardubice - P
 olabiny
SUMMARY:PA-Z-1: USK Pardubice-VK Litomyšl
END:VEVENT
BEGIN:VEVENT
UID:36396237-3239-4561-b332-663032616336
DTSTAMP:20260422T145015Z
DESCRIPTION:10/28 USK Pardubice - VK Litomyšl 0:3 (-21\,-21\,-28)
DTSTART;TZID=Europe/Berlin:20251129T130000
DTEND;TZID=Europe/Berlin:20251129T150000
LOCATION:Sportovní areál Univerzity Pardubice\, Studentská 95 Pardubice - P
 olabiny
SUMMARY:PA-Z-1: USK Pardubice-VK Litomyšl
END:VEVENT
BEGIN:VEVENT
UID:66326438-6439-4638-a263-316662663337
DTSTAMP:20260422T145015Z
DESCRIPTION:13/37 TJ Sokol Dolní Újezd - VK Litomyšl 3:0 (16\,13\,13)
DTSTART;TZID=Europe/Berlin:20260117T100000
DTEND;TZID=Europe/Berlin:20260117T120000
LOCATION:tělocvična Základní školy\,  Dolní Újezd342
SUMMARY:PA-Z-1: TJ Sokol Dolní Újezd-VK Litomyšl
END:VEVENT
BEGIN:VEVENT
UID:33356235-3934-4031-b762-363863646466
DTSTAMP:20260422T145015Z
DESCRIPTION:14/40 TJ Sokol Dolní Újezd - VK Litomyšl 3:1 (25\,15\,-23\,18)
DTSTART;TZID=Europe/Berlin:20260117T130000
DTEND;TZID=Europe/Berlin:20260117T150000
LOCATION:tělocvična Základní školy\,  Dolní Újezd342
SUMMARY:PA-Z-1: TJ Sokol Dolní Újezd-VK Litomyšl
END:VEVENT
BEGIN:VEVENT
UID:38646139-6563-4562-b533-616534373031
DTSTAMP:20260422T145015Z
DESCRIPTION:17/49 VK Choceň - VK Litomyšl 1:3 (-22\,-18\,20\,-23)
DTSTART;TZID=Europe/Berlin:20260301T100000
DTEND;TZID=Europe/Berlin:20260301T120000
LOCATION:Volejbalová hala \, U Koupaliště 1734 Choceň
SUMMARY:PA-Z-1: VK Choceň-VK Litomyšl
END:VEVENT
BEGIN:VEVENT
UID:30333266-6434-4235-b632-636366323330
DTSTAMP:20260422T145015Z
DESCRIPTION:18/52 VK Choceň - VK Litomyšl 0:3 (-23\,-24\,-21)
DTSTART;TZID=Europe/Berlin:20260301T130000
DTEND;TZID=Europe/Berlin:20260301T150000
LOCATION:Volejbalová hala \, U Koupaliště 1734 Choceň
SUMMARY:PA-Z-1: VK Choceň-VK Litomyšl
END:VEVENT
END:VCALENDAR
