BEGIN:VCALENDAR
VERSION:2.0
PRODID:-//VK Polanka nad Odrou89510//NONSGML kigkonsult.se iCalcreator 2.41.80//
CALSCALE:GREGORIAN
UID:39333663-6230-4532-b930-663536396263
BEGIN:VEVENT
UID:61306437-3030-4865-a231-336537383134
DTSTAMP:20260421T171359Z
DESCRIPTION:1/1 Polanka n. O. - TJ Hlučín B 3:0 (19\,11\,14)
DTSTART;TZID=Europe/Berlin:20250920T090000
DTEND;TZID=Europe/Berlin:20250920T110000
LOCATION:Sportovní hala\, Heleny Salichové 1275 Ostrava - Polanka nad Odrou
SUMMARY:MS-U18Z-A: Polanka n. O.-TJ Hlučín B
END:VEVENT
BEGIN:VEVENT
UID:36636235-6161-4861-b834-633861623565
DTSTAMP:20260421T171359Z
DESCRIPTION:2/4 Polanka n. O. - TJ Hlučín B 3:1 (11\,-22\,5\,12)
DTSTART;TZID=Europe/Berlin:20250920T130000
DTEND;TZID=Europe/Berlin:20250920T150000
LOCATION:Sportovní hala\, Heleny Salichové 1275 Ostrava - Polanka nad Odrou
SUMMARY:MS-U18Z-A: Polanka n. O.-TJ Hlučín B
END:VEVENT
BEGIN:VEVENT
UID:37633163-3034-4138-a435-643737666661
DTSTAMP:20260421T171359Z
DESCRIPTION:3/9 Polanka n. O. - TJ Krnov 3:0 (10\,15\,14)
DTSTART;TZID=Europe/Berlin:20250927T090000
DTEND;TZID=Europe/Berlin:20250927T110000
LOCATION:Sportovní hala\, Heleny Salichové 1275 Ostrava - Polanka nad Odrou
SUMMARY:MS-U18Z-A: Polanka n. O.-TJ Krnov
END:VEVENT
BEGIN:VEVENT
UID:64353331-3639-4235-b362-613231656430
DTSTAMP:20260421T171359Z
DESCRIPTION:4/12 Polanka n. O. - TJ Krnov 3:0 (13\,6\,18)
DTSTART;TZID=Europe/Berlin:20250927T130000
DTEND;TZID=Europe/Berlin:20250927T150000
LOCATION:Sportovní hala\, Heleny Salichové 1275 Ostrava - Polanka nad Odrou
SUMMARY:MS-U18Z-A: Polanka n. O.-TJ Krnov
END:VEVENT
BEGIN:VEVENT
UID:62663461-3936-4632-a564-393533383836
DTSTAMP:20260421T171359Z
DESCRIPTION:7/20 Polanka n. O. - Happy Opava 3:0 (11\,13\,9)
DTSTART;TZID=Europe/Berlin:20251011T090000
DTEND;TZID=Europe/Berlin:20251011T110000
LOCATION:Sportovní hala\, Heleny Salichové 1275 Ostrava - Polanka nad Odrou
SUMMARY:MS-U18Z-A: Polanka n. O.-Happy Opava
END:VEVENT
BEGIN:VEVENT
UID:64316236-3637-4134-b063-643137373938
DTSTAMP:20260421T171359Z
DESCRIPTION:8/23 Polanka n. O. - Happy Opava 3:0 (9\,12\,12)
DTSTART;TZID=Europe/Berlin:20251011T130000
DTEND;TZID=Europe/Berlin:20251011T150000
LOCATION:Sportovní hala\, Heleny Salichové 1275 Ostrava - Polanka nad Odrou
SUMMARY:MS-U18Z-A: Polanka n. O.-Happy Opava
END:VEVENT
BEGIN:VEVENT
UID:30316538-3230-4137-a134-613532333130
DTSTAMP:20260421T171359Z
DESCRIPTION:15/44 Polanka n. O. - Volejbal Ostrava 3:0 (12\,13\,22)
DTSTART;TZID=Europe/Berlin:20251122T090000
DTEND;TZID=Europe/Berlin:20251122T110000
LOCATION:Sportovní hala\, Heleny Salichové 1275 Ostrava - Polanka nad Odrou
SUMMARY:MS-U18Z-A: Polanka n. O.-Volejbal Ostrava
END:VEVENT
BEGIN:VEVENT
UID:66396630-3362-4734-a139-663035653361
DTSTAMP:20260421T171359Z
DESCRIPTION:16/47 Polanka n. O. - Volejbal Ostrava 3:0 (20\,20\,20)
DTSTART;TZID=Europe/Berlin:20251122T130000
DTEND;TZID=Europe/Berlin:20251122T150000
LOCATION:Sportovní hala\, Heleny Salichové 1275 Ostrava - Polanka nad Odrou
SUMMARY:MS-U18Z-A: Polanka n. O.-Volejbal Ostrava
END:VEVENT
BEGIN:VEVENT
UID:35656134-3866-4234-b836-333634333962
DTSTAMP:20260421T171359Z
DESCRIPTION:19/57 Polanka n. O. - VO Slezská Orlice 3:0 (23\,16\,20)
DTSTART;TZID=Europe/Berlin:20251220T090000
DTEND;TZID=Europe/Berlin:20251220T110000
LOCATION:Sportovní hala\, Heleny Salichové 1275 Ostrava - Polanka nad Odrou
SUMMARY:MS-U18Z-A: Polanka n. O.-VO Slezská Orlice
END:VEVENT
BEGIN:VEVENT
UID:39353631-6130-4239-b562-353462656635
DTSTAMP:20260421T171359Z
DESCRIPTION:20/60 Polanka n. O. - VO Slezská Orlice 3:1 (-20\,13\,18\,15)
DTSTART;TZID=Europe/Berlin:20251220T130000
DTEND;TZID=Europe/Berlin:20251220T150000
LOCATION:Sportovní hala\, Heleny Salichové 1275 Ostrava - Polanka nad Odrou
SUMMARY:MS-U18Z-A: Polanka n. O.-VO Slezská Orlice
END:VEVENT
BEGIN:VEVENT
UID:33613339-3363-4635-b534-646235363866
DTSTAMP:20260421T171359Z
DESCRIPTION:5/14 Volejbal Ostrava - Polanka n. O. 1:3 (18\,-24\,-18\,-22)
DTSTART;TZID=Europe/Berlin:20251004T100000
DTEND;TZID=Europe/Berlin:20251004T120000
LOCATION:SPŠ Stavební Ostrava\, Středoškolská 2992 Ostrava - Zábřeh
SUMMARY:MS-U18Z-A: Volejbal Ostrava-Polanka n. O.
END:VEVENT
BEGIN:VEVENT
UID:39663639-3238-4362-b164-383331313466
DTSTAMP:20260421T171359Z
DESCRIPTION:6/17 Volejbal Ostrava - Polanka n. O. 1:3 (-15\,22\,-23\,-17)
DTSTART;TZID=Europe/Berlin:20251004T140000
DTEND;TZID=Europe/Berlin:20251004T160000
LOCATION:SPŠ Stavební Ostrava\, Středoškolská 2992 Ostrava - Zábřeh
SUMMARY:MS-U18Z-A: Volejbal Ostrava-Polanka n. O.
END:VEVENT
BEGIN:VEVENT
UID:65643536-3934-4539-a530-336336613539
DTSTAMP:20260421T171359Z
DESCRIPTION:9/27 VO Slezská Orlice - Polanka n. O. 1:3 (-23\,16\,-18\,-19)
DTSTART;TZID=Europe/Berlin:20251101T100000
DTEND;TZID=Europe/Berlin:20251101T120000
LOCATION:ZŠ Janáčkovo náměstí 17\, Janáčkovo náměstí 1970 Krnov - Pod Bezru
 čovým vrchem
SUMMARY:MS-U18Z-A: VO Slezská Orlice-Polanka n. O.
END:VEVENT
BEGIN:VEVENT
UID:32653562-3161-4566-b330-626231383465
DTSTAMP:20260421T171359Z
DESCRIPTION:10/30 VO Slezská Orlice - Polanka n. O. 2:3 (15\,-21\,16\,-15\,
 -11)
DTSTART;TZID=Europe/Berlin:20251101T140000
DTEND;TZID=Europe/Berlin:20251101T160000
LOCATION:ZŠ Janáčkovo náměstí 17\, Janáčkovo náměstí 1970 Krnov - Pod Bezru
 čovým vrchem
SUMMARY:MS-U18Z-A: VO Slezská Orlice-Polanka n. O.
END:VEVENT
BEGIN:VEVENT
UID:32663234-3566-4335-b739-656563393431
DTSTAMP:20260421T171359Z
DESCRIPTION:11/31 TJ Hlučín B - Polanka n. O. 0:3 (-23\,-18\,-18)
DTSTART;TZID=Europe/Berlin:20251108T090000
DTEND;TZID=Europe/Berlin:20251108T110000
LOCATION:Sportovní hala\, Tyršova 1668 Hlučín
SUMMARY:MS-U18Z-A: TJ Hlučín B-Polanka n. O.
END:VEVENT
BEGIN:VEVENT
UID:38343030-6462-4532-a232-353735306536
DTSTAMP:20260421T171359Z
DESCRIPTION:12/34 TJ Hlučín B - Polanka n. O. 0:3 (-11\,-9\,-21)
DTSTART;TZID=Europe/Berlin:20251108T130000
DTEND;TZID=Europe/Berlin:20251108T150000
LOCATION:Sportovní hala\, Tyršova 1668 Hlučín
SUMMARY:MS-U18Z-A: TJ Hlučín B-Polanka n. O.
END:VEVENT
BEGIN:VEVENT
UID:64353836-6363-4665-b664-363463326130
DTSTAMP:20260421T171359Z
DESCRIPTION:13/39 TJ Krnov - Polanka n. O. 1:3 (-27\,-15\,18\,-11)
DTSTART;TZID=Europe/Berlin:20251115T100000
DTEND;TZID=Europe/Berlin:20251115T120000
LOCATION:Střední pedagogická a zdravotní škola \, Jiráskova 840 Krnov - Pod
  Bezručovým vrchem
SUMMARY:MS-U18Z-A: TJ Krnov-Polanka n. O.
END:VEVENT
BEGIN:VEVENT
UID:35636433-6262-4933-b133-343030353964
DTSTAMP:20260421T171359Z
DESCRIPTION:14/42 TJ Krnov - Polanka n. O. 0:3 (-10\,-11\,-21)
DTSTART;TZID=Europe/Berlin:20251115T140000
DTEND;TZID=Europe/Berlin:20251115T160000
LOCATION:Střední pedagogická a zdravotní škola \, Jiráskova 840 Krnov - Pod
  Bezručovým vrchem
SUMMARY:MS-U18Z-A: TJ Krnov-Polanka n. O.
END:VEVENT
BEGIN:VEVENT
UID:33343337-3039-4733-a635-663536643965
DTSTAMP:20260421T171359Z
DESCRIPTION:17/50 Happy Opava - Polanka n. O. 0:3 (-23\,-8\,-18)
DTSTART;TZID=Europe/Berlin:20251206T100000
DTEND;TZID=Europe/Berlin:20251206T120000
LOCATION:Sportovní hala Obchodní akademie\, Hany Kvapilové 1656 Opava - Pře
 dměstí
SUMMARY:MS-U18Z-A: Happy Opava-Polanka n. O.
END:VEVENT
BEGIN:VEVENT
UID:34373761-3065-4135-b562-356633323566
DTSTAMP:20260421T171359Z
DESCRIPTION:18/53 Happy Opava - Polanka n. O. 0:3 (-23\,-15\,-22)
DTSTART;TZID=Europe/Berlin:20251206T140000
DTEND;TZID=Europe/Berlin:20251206T160000
LOCATION:Sportovní hala Obchodní akademie\, Hany Kvapilové 1656 Opava - Pře
 dměstí
SUMMARY:MS-U18Z-A: Happy Opava-Polanka n. O.
END:VEVENT
BEGIN:VEVENT
UID:30623365-3963-4132-b632-363539633339
DTSTAMP:20260421T171359Z
DESCRIPTION:1/1 Polanka n. O. - VK Karviná 3:2 (-20\,8\,-14\,23\,13)
DTSTART;TZID=Europe/Berlin:20260214T090000
DTEND;TZID=Europe/Berlin:20260214T110000
LOCATION:Sportovní hala\, Heleny Salichové 1275 Ostrava - Polanka nad Odrou
SUMMARY:MS-U18Z-F: Polanka n. O.-VK Karviná
END:VEVENT
BEGIN:VEVENT
UID:38366466-6465-4366-a562-326665646436
DTSTAMP:20260421T171359Z
DESCRIPTION:2/4 Polanka n. O. - VK Karviná 3:0 (17\,26\,23)
DTSTART;TZID=Europe/Berlin:20260214T130000
DTEND;TZID=Europe/Berlin:20260214T150000
LOCATION:Sportovní hala\, Heleny Salichové 1275 Ostrava - Polanka nad Odrou
SUMMARY:MS-U18Z-F: Polanka n. O.-VK Karviná
END:VEVENT
BEGIN:VEVENT
UID:32666662-3937-4733-b566-363064633166
DTSTAMP:20260421T171359Z
DESCRIPTION:5/14 Polanka n. O. - KV Kopřivnice 3:0 (21\,18\,23)
DTSTART;TZID=Europe/Berlin:20260124T090000
DTEND;TZID=Europe/Berlin:20260124T110000
LOCATION:Sportovní hala\, Heleny Salichové 1275 Ostrava - Polanka nad Odrou
SUMMARY:MS-U18Z-F: Polanka n. O.-KV Kopřivnice
END:VEVENT
BEGIN:VEVENT
UID:63326166-3062-4436-b635-366264303063
DTSTAMP:20260421T171359Z
DESCRIPTION:6/17 Polanka n. O. - KV Kopřivnice 3:2 (-15\,-19\,22\,16\,6)
DTSTART;TZID=Europe/Berlin:20260124T130000
DTEND;TZID=Europe/Berlin:20260124T150000
LOCATION:Sportovní hala\, Heleny Salichové 1275 Ostrava - Polanka nad Odrou
SUMMARY:MS-U18Z-F: Polanka n. O.-KV Kopřivnice
END:VEVENT
BEGIN:VEVENT
UID:39633432-3366-4565-a332-376533313964
DTSTAMP:20260421T171359Z
DESCRIPTION:11/32 Polanka n. O. - VKB Frýdlant n/O 3:0 (12\,12\,11)
DTSTART;TZID=Europe/Berlin:20260307T090000
DTEND;TZID=Europe/Berlin:20260307T110000
LOCATION:Sportovní hala\, Heleny Salichové 1275 Ostrava - Polanka nad Odrou
SUMMARY:MS-U18Z-F: Polanka n. O.-VKB Frýdlant n/O
END:VEVENT
BEGIN:VEVENT
UID:36666365-6437-4135-b431-386631633563
DTSTAMP:20260421T171359Z
DESCRIPTION:12/35 Polanka n. O. - VKB Frýdlant n/O 3:0 (17\,17\,11)
DTSTART;TZID=Europe/Berlin:20260307T130000
DTEND;TZID=Europe/Berlin:20260307T150000
LOCATION:Sportovní hala\, Heleny Salichové 1275 Ostrava - Polanka nad Odrou
SUMMARY:MS-U18Z-F: Polanka n. O.-VKB Frýdlant n/O
END:VEVENT
BEGIN:VEVENT
UID:61383135-6564-4336-b666-666430313731
DTSTAMP:20260421T171359Z
DESCRIPTION:15/44 Polanka n. O. - VAM Havířov 3:0 (11\,14\,13)
DTSTART;TZID=Europe/Berlin:20260322T103000
DTEND;TZID=Europe/Berlin:20260322T123000
LOCATION:Sportovní hala\, Heleny Salichové 1275 Ostrava - Polanka nad Odrou
SUMMARY:MS-U18Z-F: Polanka n. O.-VAM Havířov
END:VEVENT
BEGIN:VEVENT
UID:65626638-3666-4635-a663-326561333136
DTSTAMP:20260421T171359Z
DESCRIPTION:16/47 Polanka n. O. - VAM Havířov 3:2 (17\,-22\,12\,-20\,12)
DTSTART;TZID=Europe/Berlin:20260322T133000
DTEND;TZID=Europe/Berlin:20260322T153000
LOCATION:Sportovní hala\, Heleny Salichové 1275 Ostrava - Polanka nad Odrou
SUMMARY:MS-U18Z-F: Polanka n. O.-VAM Havířov
END:VEVENT
BEGIN:VEVENT
UID:61393739-6166-4030-a638-646164326636
DTSTAMP:20260421T171359Z
DESCRIPTION:3/8 VKB Frýdlant n/O - Polanka n. O. 3:1 (22\,23\,-18\,20)
DTSTART;TZID=Europe/Berlin:20260117T100000
DTEND;TZID=Europe/Berlin:20260117T120000
LOCATION:Sokolovna\, Hlavní 401 Frýdlant nad Ostravicí - Frýdlant
SUMMARY:MS-U18Z-F: VKB Frýdlant n/O-Polanka n. O.
END:VEVENT
BEGIN:VEVENT
UID:38356462-3138-4632-b864-666435396232
DTSTAMP:20260421T171359Z
DESCRIPTION:4/11 VKB Frýdlant n/O - Polanka n. O. 1:3 (-10\,-18\,20\,-28)
DTSTART;TZID=Europe/Berlin:20260117T140000
DTEND;TZID=Europe/Berlin:20260117T160000
LOCATION:Sokolovna\, Hlavní 401 Frýdlant nad Ostravicí - Frýdlant
SUMMARY:MS-U18Z-F: VKB Frýdlant n/O-Polanka n. O.
END:VEVENT
BEGIN:VEVENT
UID:31666264-6637-4466-a633-383831636238
DTSTAMP:20260421T171359Z
DESCRIPTION:7/20 VAM Havířov - Polanka n. O. 0:3 (-12\,-18\,-25)
DTSTART;TZID=Europe/Berlin:20260221T100000
DTEND;TZID=Europe/Berlin:20260221T120000
LOCATION:Sportovní hala Žákovská\, Komunardů 1548 Havířov - Město
SUMMARY:MS-U18Z-F: VAM Havířov-Polanka n. O.
END:VEVENT
BEGIN:VEVENT
UID:66613061-6239-4936-b765-303132323462
DTSTAMP:20260421T171359Z
DESCRIPTION:8/23 VAM Havířov - Polanka n. O. 1:3 (22\,-24\,-18\,-17)
DTSTART;TZID=Europe/Berlin:20260221T140000
DTEND;TZID=Europe/Berlin:20260221T160000
LOCATION:Sportovní hala Žákovská\, Komunardů 1548 Havířov - Město
SUMMARY:MS-U18Z-F: VAM Havířov-Polanka n. O.
END:VEVENT
BEGIN:VEVENT
UID:37336364-6566-4139-b531-343066353139
DTSTAMP:20260421T171359Z
DESCRIPTION:9/25 VK Karviná - Polanka n. O. 1:3 (-18\,-17\,24\,-23)
DTSTART;TZID=Europe/Berlin:20260228T100000
DTEND;TZID=Europe/Berlin:20260228T120000
LOCATION:Tělocvična ZŠ Družby\, tř. Družby 1383 Karviná - Nové Město
SUMMARY:MS-U18Z-F: VK Karviná-Polanka n. O.
END:VEVENT
BEGIN:VEVENT
UID:65306635-6563-4132-b864-333634666234
DTSTAMP:20260421T171359Z
DESCRIPTION:10/28 VK Karviná - Polanka n. O. 3:1 (19\,-20\,15\,22)
DTSTART;TZID=Europe/Berlin:20260228T140000
DTEND;TZID=Europe/Berlin:20260228T160000
LOCATION:Tělocvična ZŠ Družby\, tř. Družby 1383 Karviná - Nové Město
SUMMARY:MS-U18Z-F: VK Karviná-Polanka n. O.
END:VEVENT
BEGIN:VEVENT
UID:65303436-6532-4435-a231-393265393430
DTSTAMP:20260421T171359Z
DESCRIPTION:13/38 KV Kopřivnice - Polanka n. O. 0:3 (-20\,-13\,-20)
DTSTART;TZID=Europe/Berlin:20260314T090000
DTEND;TZID=Europe/Berlin:20260314T110000
LOCATION:Tělocvičny ZŠ 17.listopadu Kopřivnice\, 17. listopadu 1225 Kopřivn
 ice
SUMMARY:MS-U18Z-F: KV Kopřivnice-Polanka n. O.
END:VEVENT
BEGIN:VEVENT
UID:36333235-3131-4531-b133-306638393539
DTSTAMP:20260421T171359Z
DESCRIPTION:14/41 KV Kopřivnice - Polanka n. O. 0:3 (-14\,-16\,-21)
DTSTART;TZID=Europe/Berlin:20260314T130000
DTEND;TZID=Europe/Berlin:20260314T150000
LOCATION:Tělocvičny ZŠ 17.listopadu Kopřivnice\, 17. listopadu 1225 Kopřivn
 ice
SUMMARY:MS-U18Z-F: KV Kopřivnice-Polanka n. O.
END:VEVENT
BEGIN:VEVENT
UID:65666636-6139-4235-b334-313635326631
DTSTAMP:20260421T171359Z
DESCRIPTION:1/1 Polanka n. O. - Prostějov B\nKurt 1
DTSTART;TZID=Europe/Berlin:20260501T110000
DTEND;TZID=Europe/Berlin:20260501T130000
LOCATION:Sportovní hala\, Heleny Salichové 1275 Ostrava - Polanka nad Odrou
SUMMARY:2-U18Z-KD: Polanka n. O.-Prostějov B
END:VEVENT
BEGIN:VEVENT
UID:34356337-6561-4630-b039-366461376531
DTSTAMP:20260421T171359Z
DESCRIPTION:1/3 Polanka n. O. - K. Pole B\nKurt 1
DTSTART;TZID=Europe/Berlin:20260501T150000
DTEND;TZID=Europe/Berlin:20260501T170000
LOCATION:Sportovní hala\, Heleny Salichové 1275 Ostrava - Polanka nad Odrou
SUMMARY:2-U18Z-KD: Polanka n. O.-K. Pole B
END:VEVENT
BEGIN:VEVENT
UID:63376462-3733-4238-b837-303830376436
DTSTAMP:20260421T171359Z
DESCRIPTION:1/6 Slavičín - Polanka n. O.\nKurt 2
DTSTART;TZID=Europe/Berlin:20260502T100000
DTEND;TZID=Europe/Berlin:20260502T120000
LOCATION:Sportovní hala\, Heleny Salichové 1275 Ostrava - Polanka nad Odrou
SUMMARY:2-U18Z-KD: Slavičín-Polanka n. O.
END:VEVENT
END:VCALENDAR
