BEGIN:VCALENDAR
VERSION:2.0
PRODID:-//Beach Vratislavice89514//NONSGML kigkonsult.se iCalcreator 2.41.80//
CALSCALE:GREGORIAN
UID:32313335-3361-4131-b064-626435613335
BEGIN:VEVENT
UID:64376265-6233-4430-a265-623761313136
DTSTAMP:20260422T065048Z
DESCRIPTION:1/5 Beach Vratislavice - TJ VK DUKLA LIBEREC z.s. B 0:2 (-22\,-
 18)
DTSTART;TZID=Europe/Berlin:20251019T103000
DTEND;TZID=Europe/Berlin:20251019T123000
LOCATION:, Nad Školou 278 Liberec - Liberec XXX-Vratislavice nad Nisou
SUMMARY:LIB-U14M-4CI: Beach Vratislavice-TJ VK DUKLA LIBEREC z.s. B
END:VEVENT
BEGIN:VEVENT
UID:32663232-3436-4331-b632-346631656161
DTSTAMP:20260422T065048Z
DESCRIPTION:2/7 Beach Vratislavice - TJ Lokomotiva Česká Lípa\, z.s. 0:2 (-
 19\,-20)
DTSTART;TZID=Europe/Berlin:20251019T111500
DTEND;TZID=Europe/Berlin:20251019T131500
LOCATION:, Nad Školou 278 Liberec - Liberec XXX-Vratislavice nad Nisou
SUMMARY:LIB-U14M-4CI: Beach Vratislavice-TJ Lokomotiva Česká Lípa\, z.s.
END:VEVENT
BEGIN:VEVENT
UID:64353234-3333-4137-b932-313639386139
DTSTAMP:20260422T065048Z
DESCRIPTION:3/15 Beach Vratislavice - Sokol Mn. Hradiště 0:2 (-18\,-21)
DTSTART;TZID=Europe/Berlin:20251019T140000
DTEND;TZID=Europe/Berlin:20251019T160000
LOCATION:, Nad Školou 278 Liberec - Liberec XXX-Vratislavice nad Nisou
SUMMARY:LIB-U14M-4CI: Beach Vratislavice-Sokol Mn. Hradiště
END:VEVENT
BEGIN:VEVENT
UID:31333336-6432-4161-b730-626230643630
DTSTAMP:20260422T065048Z
DESCRIPTION:4/16 Beach Vratislavice - Sokol Mn. Hradiště 0:2 (-22\,-21)
DTSTART;TZID=Europe/Berlin:20251116T090000
DTEND;TZID=Europe/Berlin:20251116T110000
LOCATION:, Nad Školou 278 Liberec - Liberec XXX-Vratislavice nad Nisou
SUMMARY:LIB-U14M-4CI: Beach Vratislavice-Sokol Mn. Hradiště
END:VEVENT
BEGIN:VEVENT
UID:32636261-6361-4465-b563-663230336366
DTSTAMP:20260422T065048Z
DESCRIPTION:6/26 Beach Vratislavice - TJ Bižuterie Jablonec n/N 0:2 (-22\,-
 15)
DTSTART;TZID=Europe/Berlin:20251116T103000
DTEND;TZID=Europe/Berlin:20251116T123000
LOCATION:, Nad Školou 278 Liberec - Liberec XXX-Vratislavice nad Nisou
SUMMARY:LIB-U14M-4CI: Beach Vratislavice-TJ Bižuterie Jablonec n/N
END:VEVENT
BEGIN:VEVENT
UID:31653738-3532-4466-b735-666465396638
DTSTAMP:20260422T065048Z
DESCRIPTION:7/35 Beach Vratislavice - TJ VK DUKLA LIBEREC z.s. B 2:0 (25\,1
 7)
DTSTART;TZID=Europe/Berlin:20251214T101500
DTEND;TZID=Europe/Berlin:20251214T121500
LOCATION:, Nad Školou 278 Liberec - Liberec XXX-Vratislavice nad Nisou
SUMMARY:LIB-U14M-4CI: Beach Vratislavice-TJ VK DUKLA LIBEREC z.s. B
END:VEVENT
BEGIN:VEVENT
UID:61393135-3561-4661-b434-396234386661
DTSTAMP:20260422T065048Z
DESCRIPTION:8/37 Beach Vratislavice - TJ Lokomotiva Česká Lípa\, z.s. 1:2 (
 -22\,21\,-8)
DTSTART;TZID=Europe/Berlin:20251214T110000
DTEND;TZID=Europe/Berlin:20251214T130000
LOCATION:, Nad Školou 278 Liberec - Liberec XXX-Vratislavice nad Nisou
SUMMARY:LIB-U14M-4CI: Beach Vratislavice-TJ Lokomotiva Česká Lípa\, z.s.
END:VEVENT
BEGIN:VEVENT
UID:33623565-6632-4662-b035-383238383130
DTSTAMP:20260422T065048Z
DESCRIPTION:9/45 Beach Vratislavice - Sokol Mn. Hradiště 0:2 (-21\,-17)
DTSTART;TZID=Europe/Berlin:20251214T130000
DTEND;TZID=Europe/Berlin:20251214T150000
LOCATION:, Nad Školou 278 Liberec - Liberec XXX-Vratislavice nad Nisou
SUMMARY:LIB-U14M-4CI: Beach Vratislavice-Sokol Mn. Hradiště
END:VEVENT
BEGIN:VEVENT
UID:31383135-3635-4136-a534-353030393830
DTSTAMP:20260422T065048Z
DESCRIPTION:10/46 Beach Vratislavice - Sokol Mn. Hradiště 0:2 (-23\,-20)
DTSTART;TZID=Europe/Berlin:20260118T090000
DTEND;TZID=Europe/Berlin:20260118T110000
LOCATION:, Nad Školou 278 Liberec - Liberec XXX-Vratislavice nad Nisou
SUMMARY:LIB-U14M-4CI: Beach Vratislavice-Sokol Mn. Hradiště
END:VEVENT
BEGIN:VEVENT
UID:30353233-3936-4435-b662-306266303538
DTSTAMP:20260422T065048Z
DESCRIPTION:11/54 Beach Vratislavice - TJ Bižuterie Jablonec n/N 0:2 (-18\,
 -19)
DTSTART;TZID=Europe/Berlin:20260118T110000
DTEND;TZID=Europe/Berlin:20260118T130000
LOCATION:, Nad Školou 278 Liberec - Liberec XXX-Vratislavice nad Nisou
SUMMARY:LIB-U14M-4CI: Beach Vratislavice-TJ Bižuterie Jablonec n/N
END:VEVENT
BEGIN:VEVENT
UID:31383761-3339-4165-b861-393065656639
DTSTAMP:20260422T065048Z
DESCRIPTION:12/58 Beach Vratislavice - TJ Lokomotiva Česká Lípa\, z.s. 1:2 
 (-16\,27\,-10)
DTSTART;TZID=Europe/Berlin:20260118T120000
DTEND;TZID=Europe/Berlin:20260118T140000
LOCATION:, Nad Školou 278 Liberec - Liberec XXX-Vratislavice nad Nisou
SUMMARY:LIB-U14M-4CI: Beach Vratislavice-TJ Lokomotiva Česká Lípa\, z.s.
END:VEVENT
BEGIN:VEVENT
UID:30636536-6538-4332-b732-316332393065
DTSTAMP:20260422T065048Z
DESCRIPTION:13/65 Beach Vratislavice - TJ VK DUKLA LIBEREC z.s. 0:2 (-13\,-
 14)
DTSTART;TZID=Europe/Berlin:20260208T110000
DTEND;TZID=Europe/Berlin:20260208T130000
LOCATION:, Nad Školou 278 Liberec - Liberec XXX-Vratislavice nad Nisou
SUMMARY:LIB-U14M-4CI: Beach Vratislavice-TJ VK DUKLA LIBEREC z.s.
END:VEVENT
BEGIN:VEVENT
UID:63373539-3436-4435-b235-333230356138
DTSTAMP:20260422T065048Z
DESCRIPTION:16/77 Beach Vratislavice - Sokol Mn. Hradiště 0:2 (-22\,-19)
DTSTART;TZID=Europe/Berlin:20260329T090000
DTEND;TZID=Europe/Berlin:20260329T110000
LOCATION:, Nad Školou 278 Liberec - Liberec XXX-Vratislavice nad Nisou
SUMMARY:LIB-U14M-4CI: Beach Vratislavice-Sokol Mn. Hradiště
END:VEVENT
BEGIN:VEVENT
UID:37653530-6163-4330-a636-316635653966
DTSTAMP:20260422T065048Z
DESCRIPTION:18/87 Beach Vratislavice - TJ Bižuterie Jablonec n/N 0:2 (-21\,
 -16)
DTSTART;TZID=Europe/Berlin:20260329T120000
DTEND;TZID=Europe/Berlin:20260329T140000
LOCATION:, Nad Školou 278 Liberec - Liberec XXX-Vratislavice nad Nisou
SUMMARY:LIB-U14M-4CI: Beach Vratislavice-TJ Bižuterie Jablonec n/N
END:VEVENT
BEGIN:VEVENT
UID:33653739-3266-4739-b064-323330393561
DTSTAMP:20260422T065048Z
DESCRIPTION:1/3 TJ Bižuterie Jablonec n/N - Beach Vratislavice 1:2 (21\,-22
 \,-10)
DTSTART;TZID=Europe/Berlin:20251019T094000
DTEND;TZID=Europe/Berlin:20251019T114000
LOCATION:Městská sportovní hala\, U Přehrady 4747 Jablonec nad Nisou
SUMMARY:LIB-U14M-4CI: TJ Bižuterie Jablonec n/N-Beach Vratislavice
END:VEVENT
BEGIN:VEVENT
UID:64663866-3663-4065-a162-616563386134
DTSTAMP:20260422T065048Z
DESCRIPTION:3/11 TJ VK DUKLA LIBEREC z.s. - Beach Vratislavice 2:0 (11\,21)
DTSTART;TZID=Europe/Berlin:20251019T124500
DTEND;TZID=Europe/Berlin:20251019T144500
LOCATION:Dukla Liberec\, Jeronýmova 558 Liberec - Liberec VII-Horní Růžodol
SUMMARY:LIB-U14M-4CI: TJ VK DUKLA LIBEREC z.s.-Beach Vratislavice
END:VEVENT
BEGIN:VEVENT
UID:32626338-3630-4432-b037-396235613533
DTSTAMP:20260422T065048Z
DESCRIPTION:4/20 TJ Lokomotiva Česká Lípa\, z.s. - Beach Vratislavice 2:0 (
 21\,20)
DTSTART;TZID=Europe/Berlin:20251116T093000
DTEND;TZID=Europe/Berlin:20251116T113000
LOCATION:ZŠ Lada\, Šluknovská 2904 Česká Lípa
SUMMARY:LIB-U14M-4CI: TJ Lokomotiva Česká Lípa\, z.s.-Beach Vratislavice
END:VEVENT
BEGIN:VEVENT
UID:37356136-6435-4666-b634-366432666361
DTSTAMP:20260422T065048Z
DESCRIPTION:5/24 TJ VK DUKLA LIBEREC z.s. - Beach Vratislavice 2:0 (19\,12)
DTSTART;TZID=Europe/Berlin:20251116T100000
DTEND;TZID=Europe/Berlin:20251116T120000
LOCATION:Dukla Liberec\, Jeronýmova 558 Liberec - Liberec VII-Horní Růžodol
SUMMARY:LIB-U14M-4CI: TJ VK DUKLA LIBEREC z.s.-Beach Vratislavice
END:VEVENT
BEGIN:VEVENT
UID:62663034-6330-4030-b465-663835656163
DTSTAMP:20260422T065048Z
DESCRIPTION:6/30 TJ VK DUKLA LIBEREC z.s. B - Beach Vratislavice 1:2 (-16\,
 24\,-5)
DTSTART;TZID=Europe/Berlin:20251116T110000
DTEND;TZID=Europe/Berlin:20251116T130000
LOCATION:Dukla Liberec\, Jeronýmova 558 Liberec - Liberec VII-Horní Růžodol
SUMMARY:LIB-U14M-4CI: TJ VK DUKLA LIBEREC z.s. B-Beach Vratislavice
END:VEVENT
BEGIN:VEVENT
UID:33636561-6631-4063-b333-353864643033
DTSTAMP:20260422T065048Z
DESCRIPTION:7/31 TJ Bižuterie Jablonec n/N - Beach Vratislavice 1:2 (-18\,2
 6\,-11)
DTSTART;TZID=Europe/Berlin:20251214T090000
DTEND;TZID=Europe/Berlin:20251214T110000
LOCATION:Městská sportovní hala\, U Přehrady 4747 Jablonec nad Nisou
SUMMARY:LIB-U14M-4CI: TJ Bižuterie Jablonec n/N-Beach Vratislavice
END:VEVENT
BEGIN:VEVENT
UID:63643839-3239-4530-a336-303334346336
DTSTAMP:20260422T065048Z
DESCRIPTION:9/41 TJ VK DUKLA LIBEREC z.s. - Beach Vratislavice 2:0 (19\,19)
DTSTART;TZID=Europe/Berlin:20251214T120000
DTEND;TZID=Europe/Berlin:20251214T140000
LOCATION:Dukla Liberec\, Jeronýmova 558 Liberec - Liberec VII-Horní Růžodol
SUMMARY:LIB-U14M-4CI: TJ VK DUKLA LIBEREC z.s.-Beach Vratislavice
END:VEVENT
BEGIN:VEVENT
UID:61363039-3633-4338-b763-393733363730
DTSTAMP:20260422T065048Z
DESCRIPTION:10/50 TJ VK DUKLA LIBEREC z.s. - Beach Vratislavice 2:0 (23\,23
 )
DTSTART;TZID=Europe/Berlin:20260118T100000
DTEND;TZID=Europe/Berlin:20260118T120000
LOCATION:Dukla Liberec\, Jeronýmova 558 Liberec - Liberec VII-Horní Růžodol
SUMMARY:LIB-U14M-4CI: TJ VK DUKLA LIBEREC z.s.-Beach Vratislavice
END:VEVENT
BEGIN:VEVENT
UID:36366630-3564-4137-b732-633736323231
DTSTAMP:20260422T065048Z
DESCRIPTION:12/60 TJ VK DUKLA LIBEREC z.s. B - Beach Vratislavice 0:2 (-0\,
 -0)
DTSTART;TZID=Europe/Berlin:20260118T123000
DTEND;TZID=Europe/Berlin:20260118T143000
LOCATION:Dukla Liberec\, Jeronýmova 558 Liberec - Liberec VII-Horní Růžodol
SUMMARY:LIB-U14M-4CI: TJ VK DUKLA LIBEREC z.s. B-Beach Vratislavice
END:VEVENT
BEGIN:VEVENT
UID:38643438-3865-4332-b463-646138353865
DTSTAMP:20260422T065048Z
DESCRIPTION:13/62 TJ Lokomotiva Česká Lípa\, z.s. - Beach Vratislavice 2:0 
 (14\,19)
DTSTART;TZID=Europe/Berlin:20260208T090000
DTEND;TZID=Europe/Berlin:20260208T110000
LOCATION:ZŠ Lada\, Šluknovská 2904 Česká Lípa
SUMMARY:LIB-U14M-4CI: TJ Lokomotiva Česká Lípa\, z.s.-Beach Vratislavice
END:VEVENT
BEGIN:VEVENT
UID:36653965-3931-4337-b964-333062623461
DTSTAMP:20260422T065048Z
DESCRIPTION:13/63 Sokol Mn. Hradiště - Beach Vratislavice 2:0 (11\,18)
DTSTART;TZID=Europe/Berlin:20260208T100000
DTEND;TZID=Europe/Berlin:20260208T120000
LOCATION:Sportovní hala BIOS\, Sokolovská 254 Mnichovo Hradiště
SUMMARY:LIB-U14M-4CI: Sokol Mn. Hradiště-Beach Vratislavice
END:VEVENT
BEGIN:VEVENT
UID:39633963-3865-4361-b535-616134653264
DTSTAMP:20260422T065048Z
DESCRIPTION:14/67 TJ Bižuterie Jablonec n/N - Beach Vratislavice 2:0 (15\,1
 6)
DTSTART;TZID=Europe/Berlin:20260208T120000
DTEND;TZID=Europe/Berlin:20260208T140000
LOCATION:Městská sportovní hala\, U Přehrady 4747 Jablonec nad Nisou
SUMMARY:LIB-U14M-4CI: TJ Bižuterie Jablonec n/N-Beach Vratislavice
END:VEVENT
BEGIN:VEVENT
UID:34333139-3965-4735-b737-313832633934
DTSTAMP:20260422T065048Z
DESCRIPTION:15/75 TJ VK DUKLA LIBEREC z.s. B - Beach Vratislavice 0:2 (-0\,
 -0)
DTSTART;TZID=Europe/Berlin:20260208T000000
DTEND;TZID=Europe/Berlin:20260208T020000
LOCATION:Dukla Liberec\, Jeronýmova 558 Liberec - Liberec VII-Horní Růžodol
SUMMARY:LIB-U14M-4CI: TJ VK DUKLA LIBEREC z.s. B-Beach Vratislavice
END:VEVENT
BEGIN:VEVENT
UID:30363136-6465-4831-b137-663430316636
DTSTAMP:20260422T065048Z
DESCRIPTION:16/79 TJ Lokomotiva Česká Lípa\, z.s. - Beach Vratislavice 2:0 
 (19\,16)
DTSTART;TZID=Europe/Berlin:20260329T100000
DTEND;TZID=Europe/Berlin:20260329T120000
LOCATION:ZŠ Lada\, Šluknovská 2904 Česká Lípa
SUMMARY:LIB-U14M-4CI: TJ Lokomotiva Česká Lípa\, z.s.-Beach Vratislavice
END:VEVENT
BEGIN:VEVENT
UID:63633038-6566-4339-b531-333864336263
DTSTAMP:20260422T065048Z
DESCRIPTION:17/83 TJ VK DUKLA LIBEREC z.s. - Beach Vratislavice 2:0 (20\,25
 )
DTSTART;TZID=Europe/Berlin:20260329T110000
DTEND;TZID=Europe/Berlin:20260329T130000
LOCATION:Dukla Liberec\, Jeronýmova 558 Liberec - Liberec VII-Horní Růžodol
SUMMARY:LIB-U14M-4CI: TJ VK DUKLA LIBEREC z.s.-Beach Vratislavice
END:VEVENT
BEGIN:VEVENT
UID:64326533-3738-4161-a431-643530633031
DTSTAMP:20260422T065048Z
DESCRIPTION:18/90 TJ VK DUKLA LIBEREC z.s. B - Beach Vratislavice 2:0 (14\,
 21)
DTSTART;TZID=Europe/Berlin:20260329T130000
DTEND;TZID=Europe/Berlin:20260329T150000
LOCATION:Dukla Liberec\, Jeronýmova 558 Liberec - Liberec VII-Horní Růžodol
SUMMARY:LIB-U14M-4CI: TJ VK DUKLA LIBEREC z.s. B-Beach Vratislavice
END:VEVENT
END:VCALENDAR
