BEGIN:VCALENDAR
VERSION:2.0
PRODID:-//VSK ČK B89523//NONSGML kigkonsult.se iCalcreator 2.41.80//
CALSCALE:GREGORIAN
UID:39376463-3230-4730-b139-383834396539
BEGIN:VEVENT
UID:32653862-3936-4162-a461-616336623337
DTSTAMP:20260422T001247Z
DESCRIPTION:1/3 VSK ČK B - Volejbal Trhové Sviny 1:3 (-20\,19\,-22\,-22)
DTSTART;TZID=Europe/Berlin:20250920T120000
DTEND;TZID=Europe/Berlin:20250920T140000
LOCATION:ZŠ Za Nádražím Český Krumlov\, Za Nádražím 222 Český Krumlov - Nád
 ražní Předměstí
SUMMARY:JC-U18Z-2C1: VSK ČK B-Volejbal Trhové Sviny
END:VEVENT
BEGIN:VEVENT
UID:64386639-6132-4236-a661-666430353239
DTSTAMP:20260422T001247Z
DESCRIPTION:1/1 Prachatice B - VSK ČK B 0:3 (-13\,-14\,-13)
DTSTART;TZID=Europe/Berlin:20250920T090000
DTEND;TZID=Europe/Berlin:20250920T110000
LOCATION:ZŠ Za Nádražím Český Krumlov\, Za Nádražím 222 Český Krumlov - Nád
 ražní Předměstí
SUMMARY:JC-U18Z-2C1: Prachatice B-VSK ČK B
END:VEVENT
BEGIN:VEVENT
UID:33323637-6535-4233-b939-323434383139
DTSTAMP:20260422T001247Z
DESCRIPTION:1/2 VSK ČK B - J. Hradec B 3:0 (12\,14\,20)
DTSTART;TZID=Europe/Berlin:20251004T103000
DTEND;TZID=Europe/Berlin:20251004T123000
LOCATION:ZŠ Máj I\, M. Chlajna 1319 České Budějovice - České Budějovice 2
SUMMARY:JC-U18Z-2C2: VSK ČK B-J. Hradec B
END:VEVENT
BEGIN:VEVENT
UID:63633330-3861-4631-a236-613665656164
DTSTAMP:20260422T001247Z
DESCRIPTION:1/3 Prachatice B - VSK ČK B 0:3 (-21\,-10\,-11)
DTSTART;TZID=Europe/Berlin:20251004T120000
DTEND;TZID=Europe/Berlin:20251004T140000
LOCATION:ZŠ Máj I\, M. Chlajna 1319 České Budějovice - České Budějovice 2
SUMMARY:JC-U18Z-2C2: Prachatice B-VSK ČK B
END:VEVENT
BEGIN:VEVENT
UID:65633263-3063-4661-b334-316139643436
DTSTAMP:20260422T001247Z
DESCRIPTION:1/3 VSK ČK B - Volejbal Trhové Sviny 3:0 (13\,22\,20)
DTSTART;TZID=Europe/Berlin:20251101T120000
DTEND;TZID=Europe/Berlin:20251101T140000
LOCATION:ZŠ Máj I\, M. Chlajna 1319 České Budějovice - České Budějovice 2
SUMMARY:JC-U18Z-2B3: VSK ČK B-Volejbal Trhové Sviny
END:VEVENT
BEGIN:VEVENT
UID:38323331-3530-4366-b563-336331636334
DTSTAMP:20260422T001247Z
DESCRIPTION:1/1 Volejbal Tábor B - VSK ČK B 0:3 (-26\,-15\,-18)
DTSTART;TZID=Europe/Berlin:20251101T090000
DTEND;TZID=Europe/Berlin:20251101T110000
LOCATION:ZŠ Máj I\, M. Chlajna 1319 České Budějovice - České Budějovice 2
SUMMARY:JC-U18Z-2B3: Volejbal Tábor B-VSK ČK B
END:VEVENT
BEGIN:VEVENT
UID:63303931-3165-4266-b764-646631636464
DTSTAMP:20260422T001247Z
DESCRIPTION:1/2 VSK ČK B - TJ ČZ Strakonice 3:0 (7\,15\,11)
DTSTART;TZID=Europe/Berlin:20251206T103000
DTEND;TZID=Europe/Berlin:20251206T123000
LOCATION:Sportovní hala Hrdějovice\,  Hrdějovice597
SUMMARY:JC-U18Z-2A4: VSK ČK B-TJ ČZ Strakonice
END:VEVENT
BEGIN:VEVENT
UID:32356362-3666-4139-a365-633566333537
DTSTAMP:20260422T001247Z
DESCRIPTION:1/1 Škola volejbalu B - VSK ČK B 3:0 (18\,17\,19)
DTSTART;TZID=Europe/Berlin:20251206T090000
DTEND;TZID=Europe/Berlin:20251206T110000
LOCATION:Sportovní hala Hrdějovice\,  Hrdějovice597
SUMMARY:JC-U18Z-2A4: Škola volejbalu B-VSK ČK B
END:VEVENT
BEGIN:VEVENT
UID:39313862-6137-4962-b630-313830353937
DTSTAMP:20260422T001247Z
DESCRIPTION:1/2 VSK ČK B - Škola volejbalu B 3:2 (-22\,-17\,18\,25\,6)
DTSTART;TZID=Europe/Berlin:20260124T103000
DTEND;TZID=Europe/Berlin:20260124T123000
LOCATION:ZŠ Máj I\, M. Chlajna 1319 České Budějovice - České Budějovice 2
SUMMARY:JC-U18Z-2A5: VSK ČK B-Škola volejbalu B
END:VEVENT
BEGIN:VEVENT
UID:34313564-3831-4265-b164-383661356661
DTSTAMP:20260422T001247Z
DESCRIPTION:1/3 VSK Slavia JU CB - VSK ČK B 0:3 (-8\,-8\,-6)
DTSTART;TZID=Europe/Berlin:20260124T120000
DTEND;TZID=Europe/Berlin:20260124T140000
LOCATION:ZŠ Máj I\, M. Chlajna 1319 České Budějovice - České Budějovice 2
SUMMARY:JC-U18Z-2A5: VSK Slavia JU CB-VSK ČK B
END:VEVENT
BEGIN:VEVENT
UID:62616565-6637-4831-a361-656461356665
DTSTAMP:20260422T001247Z
DESCRIPTION:1/1 VSK ČK B - SK TŘEBÍN B 2:3 (17\,-22\,-19\,9\,-16)
DTSTART;TZID=Europe/Berlin:20260321T090000
DTEND;TZID=Europe/Berlin:20260321T110000
LOCATION:ZŠ Máj I\, M. Chlajna 1319 České Budějovice - České Budějovice 2
SUMMARY:JC-U18Z-2A6: VSK ČK B-SK TŘEBÍN B
END:VEVENT
BEGIN:VEVENT
UID:65333138-3935-4837-b837-376431613563
DTSTAMP:20260422T001247Z
DESCRIPTION:1/2 Škola volejbalu B - VSK ČK B 3:0 (24\,17\,16)
DTSTART;TZID=Europe/Berlin:20260321T103000
DTEND;TZID=Europe/Berlin:20260321T123000
LOCATION:ZŠ Máj I\, M. Chlajna 1319 České Budějovice - České Budějovice 2
SUMMARY:JC-U18Z-2A6: Škola volejbalu B-VSK ČK B
END:VEVENT
END:VCALENDAR
