BEGIN:VCALENDAR
VERSION:2.0
PRODID:-//Volejbalový sportovní klub Český Krumlov z.s.89527//NONSGML kigkonsult.se iCalcreator 2.41.80//
CALSCALE:GREGORIAN
UID:63396466-3464-4536-b139-646664326266
BEGIN:VEVENT
UID:32343831-6666-4139-b739-366538333338
DTSTAMP:20260422T001247Z
DESCRIPTION:1/3 Č. Krumlov - Prachatice 0:3 (-22\,-22\,-21)
DTSTART;TZID=Europe/Berlin:20250929T130000
DTEND;TZID=Europe/Berlin:20250929T150000
LOCATION:ZŠ Oskara Nedbala České Budějovice\, O. Nedbala 882 České Budějovi
 ce - České Budějovice 2
SUMMARY:JC-U22M-1A: Č. Krumlov-Prachatice
END:VEVENT
BEGIN:VEVENT
UID:30353336-3331-4134-a463-636635366335
DTSTAMP:20260422T001247Z
DESCRIPTION:1/1 Jihostroj ČB A - Č. Krumlov 3:2 (23\,-21\,21\,-23\,8)
DTSTART;TZID=Europe/Berlin:20250925T090000
DTEND;TZID=Europe/Berlin:20250925T110000
LOCATION:ZŠ Oskara Nedbala České Budějovice\, O. Nedbala 882 České Budějovi
 ce - České Budějovice 2
SUMMARY:JC-U22M-1A: Jihostroj ČB A-Č. Krumlov
END:VEVENT
BEGIN:VEVENT
UID:39316135-3430-4139-b631-653036646262
DTSTAMP:20260422T001247Z
DESCRIPTION:1/1 Jihostroj ČB B - Č. Krumlov 0:3 (-16\,-22\,-22)
DTSTART;TZID=Europe/Berlin:20251011T090000
DTEND;TZID=Europe/Berlin:20251011T110000
LOCATION:ZŠ Oskara Nedbala České Budějovice\, O. Nedbala 882 České Budějovi
 ce - České Budějovice 2
SUMMARY:JC-U22M-2B: Jihostroj ČB B-Č. Krumlov
END:VEVENT
BEGIN:VEVENT
UID:34663134-3939-4933-b764-323231656632
DTSTAMP:20260422T001247Z
DESCRIPTION:1/3 J. Hradec - Č. Krumlov 0:3 (-18\,-13\,-16)
DTSTART;TZID=Europe/Berlin:20251011T130000
DTEND;TZID=Europe/Berlin:20251011T150000
LOCATION:ZŠ Oskara Nedbala České Budějovice\, O. Nedbala 882 České Budějovi
 ce - České Budějovice 2
SUMMARY:JC-U22M-2B: J. Hradec-Č. Krumlov
END:VEVENT
BEGIN:VEVENT
UID:32356130-3462-4037-b238-366330656133
DTSTAMP:20260422T001247Z
DESCRIPTION:1/3 Č. Krumlov - Prachatice 2:3 (17\,-20\,18\,-20\,-12)
DTSTART;TZID=Europe/Berlin:20251108T130000
DTEND;TZID=Europe/Berlin:20251108T150000
LOCATION:ZŠ Za Nádražím Český Krumlov\, Za Nádražím 222 Český Krumlov - Nád
 ražní Předměstí
SUMMARY:JC-U22M-3A: Č. Krumlov-Prachatice
END:VEVENT
BEGIN:VEVENT
UID:31393365-3938-4238-b737-656633353766
DTSTAMP:20260422T001247Z
DESCRIPTION:1/1 Jihostroj ČB A - Č. Krumlov 0:3 (-22\,-19\,-22)
DTSTART;TZID=Europe/Berlin:20251108T090000
DTEND;TZID=Europe/Berlin:20251108T110000
LOCATION:ZŠ Za Nádražím Český Krumlov\, Za Nádražím 222 Český Krumlov - Nád
 ražní Předměstí
SUMMARY:JC-U22M-3A: Jihostroj ČB A-Č. Krumlov
END:VEVENT
BEGIN:VEVENT
UID:31383634-6331-4131-b664-623332636563
DTSTAMP:20260422T001247Z
DESCRIPTION:1/1 Č. Krumlov - Jihostroj ČB B 0:3 (-23\,-21\,-22)
DTSTART;TZID=Europe/Berlin:20251206T090000
DTEND;TZID=Europe/Berlin:20251206T110000
LOCATION:ZŠ Oskara Nedbala České Budějovice\, O. Nedbala 882 České Budějovi
 ce - České Budějovice 2
SUMMARY:JC-U22M-4A: Č. Krumlov-Jihostroj ČB B
END:VEVENT
BEGIN:VEVENT
UID:37623931-3066-4533-a135-343434363138
DTSTAMP:20260422T001247Z
DESCRIPTION:1/2 Č. Krumlov - Prachatice 3:0 (18\,12\,20)
DTSTART;TZID=Europe/Berlin:20251206T110000
DTEND;TZID=Europe/Berlin:20251206T130000
LOCATION:ZŠ Oskara Nedbala České Budějovice\, O. Nedbala 882 České Budějovi
 ce - České Budějovice 2
SUMMARY:JC-U22M-4A: Č. Krumlov-Prachatice
END:VEVENT
BEGIN:VEVENT
UID:61326133-3361-4466-b264-643031363664
DTSTAMP:20260422T001247Z
DESCRIPTION:1/2 Č. Krumlov - Jihostroj ČB B 3:0 (22\,18\,25)
DTSTART;TZID=Europe/Berlin:20260124T110000
DTEND;TZID=Europe/Berlin:20260124T130000
LOCATION:ZŠ Oskara Nedbala České Budějovice\, O. Nedbala 882 České Budějovi
 ce - České Budějovice 2
SUMMARY:JC-U22M-5A: Č. Krumlov-Jihostroj ČB B
END:VEVENT
BEGIN:VEVENT
UID:39656661-6136-4035-b662-343063346539
DTSTAMP:20260422T001247Z
DESCRIPTION:1/3 Č. Krumlov - Jihostroj ČB A 3:1 (18\,-20\,14\,21)
DTSTART;TZID=Europe/Berlin:20260124T130000
DTEND;TZID=Europe/Berlin:20260124T150000
LOCATION:ZŠ Oskara Nedbala České Budějovice\, O. Nedbala 882 České Budějovi
 ce - České Budějovice 2
SUMMARY:JC-U22M-5A: Č. Krumlov-Jihostroj ČB A
END:VEVENT
BEGIN:VEVENT
UID:61326465-3434-4363-b235-326335366161
DTSTAMP:20260422T001247Z
DESCRIPTION:1/2 Č. Krumlov - Sokol Písek 0:3 (-31\,-25\,-23)
DTSTART;TZID=Europe/Berlin:20260419T110000
DTEND;TZID=Europe/Berlin:20260419T130000
LOCATION:ZŠ Oskara Nedbala České Budějovice\, O. Nedbala 882 České Budějovi
 ce - České Budějovice 2
SUMMARY:JC-U22M-6A: Č. Krumlov-Sokol Písek
END:VEVENT
BEGIN:VEVENT
UID:35313936-6531-4364-b836-353766343532
DTSTAMP:20260422T001247Z
DESCRIPTION:1/1 Jihostroj ČB A - Č. Krumlov 3:0 (26\,22\,21)
DTSTART;TZID=Europe/Berlin:20260419T090000
DTEND;TZID=Europe/Berlin:20260419T110000
LOCATION:ZŠ Oskara Nedbala České Budějovice\, O. Nedbala 882 České Budějovi
 ce - České Budějovice 2
SUMMARY:JC-U22M-6A: Jihostroj ČB A-Č. Krumlov
END:VEVENT
END:VCALENDAR
