BEGIN:VCALENDAR
VERSION:2.0
PRODID:-//Volejbal Domažlice89557//NONSGML kigkonsult.se iCalcreator 2.41.80//
CALSCALE:GREGORIAN
UID:61323037-3732-4836-b363-333235626633
BEGIN:VEVENT
UID:62313930-6264-4938-b531-633637316264
DTSTAMP:20260422T131119Z
DESCRIPTION:5/5 Domažlice - Domažlice\nPořadatel Domažlice - 2 kurty + Vejp
 rnice
DTSTART;TZID=Europe/Berlin:20260301T090000
DTEND;TZID=Europe/Berlin:20260301T110000
LOCATION:Sportovní hala ZŠ Komenského Domažlice\, Komenského 17 Domažlice -
  Týnské Předměstí
SUMMARY:P-U18Z: Domažlice-Domažlice
END:VEVENT
BEGIN:VEVENT
UID:31363061-3838-4939-b238-643139326462
DTSTAMP:20260422T131119Z
DESCRIPTION:5/5 Domažlice - Domažlice\nPořadatel Domažlice - 2 kurty + Vejp
 rnice
DTSTART;TZID=Europe/Berlin:20260301T090000
DTEND;TZID=Europe/Berlin:20260301T110000
LOCATION:Sportovní hala ZŠ Komenského Domažlice\, Komenského 17 Domažlice -
  Týnské Předměstí
SUMMARY:P-U18Z: Domažlice-Domažlice
END:VEVENT
BEGIN:VEVENT
UID:66613963-6662-4838-a334-393934626534
DTSTAMP:20260422T131119Z
DESCRIPTION:1/1 Domažlice - Vejprnice B 2:0 (9\,8)\nPořadatel Klatovy
DTSTART;TZID=Europe/Berlin:20250921T090000
DTEND;TZID=Europe/Berlin:20250921T110000
LOCATION:Sportovní hala ZŠ Čapkova\, Čapkova 136 Klatovy - Klatovy V
SUMMARY:P-U18Z-1A: Domažlice-Vejprnice B
END:VEVENT
BEGIN:VEVENT
UID:31313635-3637-4831-a235-376563653664
DTSTAMP:20260422T131119Z
DESCRIPTION:4/4 Domažlice - Letná B 2:0 (5\,9)\nPořadatel Klatovy
DTSTART;TZID=Europe/Berlin:20250921T110000
DTEND;TZID=Europe/Berlin:20250921T130000
LOCATION:Sportovní hala ZŠ Čapkova\, Čapkova 136 Klatovy - Klatovy V
SUMMARY:P-U18Z-1A: Domažlice-Letná B
END:VEVENT
BEGIN:VEVENT
UID:37623032-3331-4638-a137-303763656135
DTSTAMP:20260422T131119Z
DESCRIPTION:7/7 Domažlice - Šťáhlavy 2:1 (-20\,12\,14)\nPořadatel Klatovy
DTSTART;TZID=Europe/Berlin:20250921T130000
DTEND;TZID=Europe/Berlin:20250921T150000
LOCATION:Sportovní hala ZŠ Čapkova\, Čapkova 136 Klatovy - Klatovy V
SUMMARY:P-U18Z-1A: Domažlice-Šťáhlavy
END:VEVENT
BEGIN:VEVENT
UID:31313465-6362-4436-a139-306135383333
DTSTAMP:20260422T131119Z
DESCRIPTION:10/10 Plzeň B - Domažlice 2:0 (14\,16)\nPořadatel Klatovy
DTSTART;TZID=Europe/Berlin:20250921T150000
DTEND;TZID=Europe/Berlin:20250921T170000
LOCATION:Sportovní hala ZŠ Čapkova\, Čapkova 136 Klatovy - Klatovy V
SUMMARY:P-U18Z-1A: Plzeň B-Domažlice
END:VEVENT
BEGIN:VEVENT
UID:36653036-3532-4038-a631-353361373965
DTSTAMP:20260422T131119Z
DESCRIPTION:2/2 Domažlice - Šťáhlavy 0:3 (-23\,-18\,-13)\nPořadatel Lokomot
 iva Plzeň
DTSTART;TZID=Europe/Berlin:20251012T113000
DTEND;TZID=Europe/Berlin:20251012T133000
LOCATION:Městská sportovní hala  -  hala 2\, Úslavská 2357 Plzeň - Východní
  Předměstí
SUMMARY:P-U18Z-2B: Domažlice-Šťáhlavy
END:VEVENT
BEGIN:VEVENT
UID:33646639-3431-4539-a134-393961623163
DTSTAMP:20260422T131119Z
DESCRIPTION:1/1 Letná A - Domažlice 0:3 (-15\,-15\,-17)\nPořadatel Lokomoti
 va Plzeň
DTSTART;TZID=Europe/Berlin:20251012T090000
DTEND;TZID=Europe/Berlin:20251012T110000
LOCATION:Městská sportovní hala  -  hala 2\, Úslavská 2357 Plzeň - Východní
  Předměstí
SUMMARY:P-U18Z-2B: Letná A-Domažlice
END:VEVENT
BEGIN:VEVENT
UID:33613137-3061-4335-b164-323433656363
DTSTAMP:20260422T131119Z
DESCRIPTION:1/1 Domažlice - Lhota 3:1 (21\,15\,-18\,21)\nPořadatel Klatovy
DTSTART;TZID=Europe/Berlin:20251123T090000
DTEND;TZID=Europe/Berlin:20251123T110000
LOCATION:Sportovní hala ZŠ Čapkova\, Čapkova 136 Klatovy - Klatovy V
SUMMARY:P-U18Z-3B: Domažlice-Lhota
END:VEVENT
BEGIN:VEVENT
UID:35636364-3836-4539-a431-363665363536
DTSTAMP:20260422T131119Z
DESCRIPTION:3/3 Rokycany - Domažlice 3:2 (26\,18\,-21\,-13\,13)\nPořadatel 
 Klatovy
DTSTART;TZID=Europe/Berlin:20251123T130000
DTEND;TZID=Europe/Berlin:20251123T150000
LOCATION:Sportovní hala ZŠ Čapkova\, Čapkova 136 Klatovy - Klatovy V
SUMMARY:P-U18Z-3B: Rokycany-Domažlice
END:VEVENT
BEGIN:VEVENT
UID:38396633-6531-4230-a564-613331613965
DTSTAMP:20260422T131119Z
DESCRIPTION:2/2 Domažlice - Letná A 3:0 (20\,25\,22)\nPořadatel Šťáhlavy
DTSTART;TZID=Europe/Berlin:20260201T110000
DTEND;TZID=Europe/Berlin:20260201T130000
LOCATION:Sportovní hala Šťáhlavy\, U hřiště 525 Šťáhlavy
SUMMARY:P-U18Z-4B: Domažlice-Letná A
END:VEVENT
BEGIN:VEVENT
UID:30333633-3833-4663-b439-666465373836
DTSTAMP:20260422T131119Z
DESCRIPTION:1/1 Šťáhlavy - Domažlice 1:3 (-14\,-23\,20\,-23)\nPořadatel Šťá
 hlavy
DTSTART;TZID=Europe/Berlin:20260201T090000
DTEND;TZID=Europe/Berlin:20260201T110000
LOCATION:Sportovní hala Šťáhlavy\, U hřiště 525 Šťáhlavy
SUMMARY:P-U18Z-4B: Šťáhlavy-Domažlice
END:VEVENT
BEGIN:VEVENT
UID:30636337-6462-4464-b161-343136656565
DTSTAMP:20260422T131119Z
DESCRIPTION:1/1 Domažlice - Slavia Plzeň 1:3 (20\,-21\,-20\,-20)\nPořadatel
  Domažlice
DTSTART;TZID=Europe/Berlin:20260301T090000
DTEND;TZID=Europe/Berlin:20260301T110000
LOCATION:Sportovní hala ZŠ Komenského Domažlice\, Komenského 17 Domažlice -
  Týnské Předměstí
SUMMARY:P-U18Z-5A: Domažlice-Slavia Plzeň
END:VEVENT
BEGIN:VEVENT
UID:33643934-3839-4134-a339-353633643233
DTSTAMP:20260422T131119Z
DESCRIPTION:3/3 Plzeň B - Domažlice 3:0 (22\,20\,15)\nPořadatel Domažlice
DTSTART;TZID=Europe/Berlin:20260301T140000
DTEND;TZID=Europe/Berlin:20260301T160000
LOCATION:Sportovní hala ZŠ Komenského Domažlice\, Komenského 17 Domažlice -
  Týnské Předměstí
SUMMARY:P-U18Z-5A: Plzeň B-Domažlice
END:VEVENT
BEGIN:VEVENT
UID:34393732-3135-4637-b266-316439623363
DTSTAMP:20260422T131119Z
DESCRIPTION:2/2 Domažlice - Šťáhlavy 2:3 (-15\,19\,-16\,18\,-9)\nPořadatel 
 Lokomotiva Plzeň
DTSTART;TZID=Europe/Berlin:20260412T110000
DTEND;TZID=Europe/Berlin:20260412T130000
LOCATION:Hala ZČU Plzeň Univerzitní 14\, Univerzitní 2765 Plzeň - Jižní Pře
 dměstí
SUMMARY:P-U18Z-6B: Domažlice-Šťáhlavy
END:VEVENT
BEGIN:VEVENT
UID:64333333-3166-4063-b430-386164333731
DTSTAMP:20260422T131119Z
DESCRIPTION:1/1 Letná A - Domažlice 0:3 (-19\,-7\,-16)\nPořadatel Lokomotiv
 a Plzeň
DTSTART;TZID=Europe/Berlin:20260412T090000
DTEND;TZID=Europe/Berlin:20260412T110000
LOCATION:Hala ZČU Plzeň Univerzitní 14\, Univerzitní 2765 Plzeň - Jižní Pře
 dměstí
SUMMARY:P-U18Z-6B: Letná A-Domažlice
END:VEVENT
END:VCALENDAR
