BEGIN:VCALENDAR
VERSION:2.0
PRODID:-//Volejbal Domažlice89573//NONSGML kigkonsult.se iCalcreator 2.41.80//
CALSCALE:GREGORIAN
UID:63643865-3037-4365-b238-386633616234
BEGIN:VEVENT
UID:30653133-3533-4831-a231-366337646561
DTSTAMP:20260423T111506Z
DESCRIPTION:1/1 Domažlice - Rokycany 0:2 (-21\,-14)\nPořadatel Domažlice
DTSTART;TZID=Europe/Berlin:20250928T090000
DTEND;TZID=Europe/Berlin:20250928T110000
LOCATION:Sportovní hala ZŠ Komenského Domažlice\, Komenského 17 Domažlice -
  Týnské Předměstí
SUMMARY:P-U22Z: Domažlice-Rokycany
END:VEVENT
BEGIN:VEVENT
UID:30356138-6534-4838-b564-666230316139
DTSTAMP:20260423T111506Z
DESCRIPTION:1/3 Domažlice - Letná 0:2 (-16\,-23)\nPořadatel Domažlice
DTSTART;TZID=Europe/Berlin:20250928T110000
DTEND;TZID=Europe/Berlin:20250928T130000
LOCATION:Sportovní hala ZŠ Komenského Domažlice\, Komenského 17 Domažlice -
  Týnské Předměstí
SUMMARY:P-U22Z: Domažlice-Letná
END:VEVENT
BEGIN:VEVENT
UID:38346163-6665-4630-b530-313439326331
DTSTAMP:20260423T111506Z
DESCRIPTION:2/10 Domažlice - Letná 1:2 (-23\,19\,-6)\nPořadatel Vejprnice
DTSTART;TZID=Europe/Berlin:20251102T133000
DTEND;TZID=Europe/Berlin:20251102T153000
LOCATION:Sportovní hala ZŠ Komenského Domažlice\, Komenského 17 Domažlice -
  Týnské Předměstí
SUMMARY:P-U22Z: Domažlice-Letná
END:VEVENT
BEGIN:VEVENT
UID:66646630-3966-4731-b237-353163643961
DTSTAMP:20260423T111506Z
DESCRIPTION:2/11 Domažlice - Rokycany 0:2 (-10\,-12)\nPořadatel Vejprnice
DTSTART;TZID=Europe/Berlin:20251102T150000
DTEND;TZID=Europe/Berlin:20251102T170000
LOCATION:Sportovní hala ZŠ Komenského Domažlice\, Komenského 17 Domažlice -
  Týnské Předměstí
SUMMARY:P-U22Z: Domažlice-Rokycany
END:VEVENT
BEGIN:VEVENT
UID:37316563-3835-4065-b230-616639616133
DTSTAMP:20260423T111506Z
DESCRIPTION:3/14 Domažlice - Vejprnice B 2:0 (15\,17)\nPořadatel Letná
DTSTART;TZID=Europe/Berlin:20251207T103000
DTEND;TZID=Europe/Berlin:20251207T123000
LOCATION:Sportovní hala ZŠ Komenského Domažlice\, Komenského 17 Domažlice -
  Týnské Předměstí
SUMMARY:P-U22Z: Domažlice-Vejprnice B
END:VEVENT
BEGIN:VEVENT
UID:65363533-6364-4163-b430-323334613231
DTSTAMP:20260423T111506Z
DESCRIPTION:4/23 Domažlice - Vejprnice B 2:1 (-29\,21\,4)\nPořadatel Rokyca
 ny
DTSTART;TZID=Europe/Berlin:20260111T130000
DTEND;TZID=Europe/Berlin:20260111T150000
LOCATION:Sportovní hala ZŠ Komenského Domažlice\, Komenského 17 Domažlice -
  Týnské Předměstí
SUMMARY:P-U22Z: Domažlice-Vejprnice B
END:VEVENT
BEGIN:VEVENT
UID:35356564-3738-4431-b236-653030396438
DTSTAMP:20260423T111506Z
DESCRIPTION:5/30 Domažlice - Vejprnice B 2:0 (19\,12)\nPořadatel Domažlice
DTSTART;TZID=Europe/Berlin:20260201T130000
DTEND;TZID=Europe/Berlin:20260201T150000
LOCATION:Sportovní hala ZŠ Komenského Domažlice\, Komenského 17 Domažlice -
  Týnské Předměstí
SUMMARY:P-U22Z: Domažlice-Vejprnice B
END:VEVENT
BEGIN:VEVENT
UID:65366162-3033-4863-a339-366464646431
DTSTAMP:20260423T111506Z
DESCRIPTION:6/32 Domažlice - Rokycany 2:0 (19\,22)\nPořadatel Vejprnice
DTSTART;TZID=Europe/Berlin:20260329T103000
DTEND;TZID=Europe/Berlin:20260329T123000
LOCATION:Sportovní hala ZŠ Komenského Domažlice\, Komenského 17 Domažlice -
  Týnské Předměstí
SUMMARY:P-U22Z: Domažlice-Rokycany
END:VEVENT
BEGIN:VEVENT
UID:34343531-3964-4136-b765-643539303738
DTSTAMP:20260423T111506Z
DESCRIPTION:6/33 Domažlice - Letná 2:1 (-24\,26\,6)\nPořadatel Vejprnice
DTSTART;TZID=Europe/Berlin:20260329T120000
DTEND;TZID=Europe/Berlin:20260329T140000
LOCATION:Sportovní hala ZŠ Komenského Domažlice\, Komenského 17 Domažlice -
  Týnské Předměstí
SUMMARY:P-U22Z: Domažlice-Letná
END:VEVENT
BEGIN:VEVENT
UID:36623738-3066-4562-a438-376561383661
DTSTAMP:20260423T111506Z
DESCRIPTION:1/6 Vejprnice B - Domažlice 0:2 (-15\,-11)\nPořadatel Domažlice
DTSTART;TZID=Europe/Berlin:20250928T130000
DTEND;TZID=Europe/Berlin:20250928T150000
LOCATION:Tělocvična ZŠ Vejprnice\, Jakuba Husníka 527 Vejprnice
SUMMARY:P-U22Z: Vejprnice B-Domažlice
END:VEVENT
BEGIN:VEVENT
UID:61336130-3531-4637-b762-616662356639
DTSTAMP:20260423T111506Z
DESCRIPTION:2/7 Vejprnice B - Domažlice 1:2 (14\,-18\,-3)\nPořadatel Vejprn
 ice
DTSTART;TZID=Europe/Berlin:20251102T090000
DTEND;TZID=Europe/Berlin:20251102T110000
LOCATION:Tělocvična ZŠ Vejprnice\, Jakuba Husníka 527 Vejprnice
SUMMARY:P-U22Z: Vejprnice B-Domažlice
END:VEVENT
BEGIN:VEVENT
UID:63633033-3134-4261-a234-363837316435
DTSTAMP:20260423T111506Z
DESCRIPTION:3/16 Letná - Domažlice 1:2 (-21\,15\,-7)\nPořadatel Letná
DTSTART;TZID=Europe/Berlin:20251207T133000
DTEND;TZID=Europe/Berlin:20251207T153000
LOCATION:tělocvična 28. základní škola Plzeň\, Republikánská 859 Plzeň - Lo
 bzy
SUMMARY:P-U22Z: Letná-Domažlice
END:VEVENT
BEGIN:VEVENT
UID:31616661-3736-4439-a637-663332336636
DTSTAMP:20260423T111506Z
DESCRIPTION:3/17 Rokycany - Domažlice 2:0 (19\,16)\nPořadatel Letná
DTSTART;TZID=Europe/Berlin:20251207T150000
DTEND;TZID=Europe/Berlin:20251207T170000
LOCATION:Hala Gymnázia Rokycany\, Mládežníků 1115 Rokycany - Nové Město
SUMMARY:P-U22Z: Rokycany-Domažlice
END:VEVENT
BEGIN:VEVENT
UID:36646264-3335-4264-a633-656262363531
DTSTAMP:20260423T111506Z
DESCRIPTION:4/19 Rokycany - Domažlice 2:0 (13\,15)\nPořadatel Rokycany
DTSTART;TZID=Europe/Berlin:20260111T090000
DTEND;TZID=Europe/Berlin:20260111T110000
LOCATION:Hala Gymnázia Rokycany\, Mládežníků 1115 Rokycany - Nové Město
SUMMARY:P-U22Z: Rokycany-Domažlice
END:VEVENT
BEGIN:VEVENT
UID:35653465-3038-4665-b462-373239393230
DTSTAMP:20260423T111506Z
DESCRIPTION:4/21 Letná - Domažlice 0:2 (-14\,-18)\nPořadatel Rokycany
DTSTART;TZID=Europe/Berlin:20260111T110000
DTEND;TZID=Europe/Berlin:20260111T130000
LOCATION:tělocvična 28. základní škola Plzeň\, Republikánská 859 Plzeň - Lo
 bzy
SUMMARY:P-U22Z: Letná-Domažlice
END:VEVENT
BEGIN:VEVENT
UID:38306163-6462-4461-a639-666438343739
DTSTAMP:20260423T111506Z
DESCRIPTION:5/25 Rokycany - Domažlice 2:0 (11\,17)\nPořadatel Domažlice
DTSTART;TZID=Europe/Berlin:20260201T090000
DTEND;TZID=Europe/Berlin:20260201T110000
LOCATION:Hala Gymnázia Rokycany\, Mládežníků 1115 Rokycany - Nové Město
SUMMARY:P-U22Z: Rokycany-Domažlice
END:VEVENT
BEGIN:VEVENT
UID:30393566-3737-4436-b639-303032323138
DTSTAMP:20260423T111506Z
DESCRIPTION:5/27 Letná - Domažlice 1:2 (-23\,20\,-11)\nPořadatel Domažlice
DTSTART;TZID=Europe/Berlin:20260201T110000
DTEND;TZID=Europe/Berlin:20260201T130000
LOCATION:tělocvična 28. základní škola Plzeň\, Republikánská 859 Plzeň - Lo
 bzy
SUMMARY:P-U22Z: Letná-Domažlice
END:VEVENT
BEGIN:VEVENT
UID:34626631-6663-4662-b435-373033393765
DTSTAMP:20260423T111506Z
DESCRIPTION:6/36 Vejprnice B - Domažlice 0:2 (-13\,-19)\nPořadatel Vejprnic
 e
DTSTART;TZID=Europe/Berlin:20260329T163000
DTEND;TZID=Europe/Berlin:20260329T183000
LOCATION:Tělocvična ZŠ Vejprnice\, Jakuba Husníka 527 Vejprnice
SUMMARY:P-U22Z: Vejprnice B-Domažlice
END:VEVENT
END:VCALENDAR
