BEGIN:VCALENDAR
VERSION:2.0
PRODID:-//ŠSK Bílovec89578//NONSGML kigkonsult.se iCalcreator 2.41.80//
CALSCALE:GREGORIAN
UID:30323239-3963-4138-b333-373930643936
BEGIN:VEVENT
UID:37636233-6539-4235-a234-613139316138
DTSTAMP:20260422T111935Z
DESCRIPTION:1/1 Bílovec - VC Kroměříž 2:0 (9\,13)
DTSTART;TZID=Europe/Berlin:20250913T100000
DTEND;TZID=Europe/Berlin:20250913T120000
LOCATION:Hala ZŠ Komenského\, Komenského 701 Bílovec
SUMMARY:CP-U16Z-V1C: Bílovec-VC Kroměříž
END:VEVENT
BEGIN:VEVENT
UID:61393734-6666-4662-b539-323633306361
DTSTAMP:20260422T111935Z
DESCRIPTION:2/4 Bílovec - VK Polanka 2:1 (15\,-18\,9)
DTSTART;TZID=Europe/Berlin:20250913T113000
DTEND;TZID=Europe/Berlin:20250913T133000
LOCATION:Hala ZŠ Komenského\, Komenského 701 Bílovec
SUMMARY:CP-U16Z-V1C: Bílovec-VK Polanka
END:VEVENT
BEGIN:VEVENT
UID:39643562-6365-4431-b832-326261663936
DTSTAMP:20260422T111935Z
DESCRIPTION:6/16 Bílovec - VK Olomouc 2:0 (14\,21)
DTSTART;TZID=Europe/Berlin:20250913T171500
DTEND;TZID=Europe/Berlin:20250913T191500
LOCATION:Hala ZŠ Komenského\, Komenského 701 Bílovec
SUMMARY:CP-U16Z-V1C: Bílovec-VK Olomouc
END:VEVENT
BEGIN:VEVENT
UID:61393137-6236-4135-b236-633436653736
DTSTAMP:20260422T111935Z
DESCRIPTION:7/17 Bílovec - VSC Zlín 2:0 (8\,12)
DTSTART;TZID=Europe/Berlin:20250914T090000
DTEND;TZID=Europe/Berlin:20250914T110000
LOCATION:Hala ZŠ Komenského\, Komenského 701 Bílovec
SUMMARY:CP-U16Z-V1C: Bílovec-VSC Zlín
END:VEVENT
BEGIN:VEVENT
UID:33396233-3536-4439-b861-626334373436
DTSTAMP:20260422T111935Z
DESCRIPTION:4/10 KP Brno B - Bílovec 0:2 (-10\,-14)
DTSTART;TZID=Europe/Berlin:20250913T143000
DTEND;TZID=Europe/Berlin:20250913T163000
LOCATION:Sportovní gymnázium Ludvíka Daňka\, Botanická 63 Brno - Ponava
SUMMARY:CP-U16Z-V1C: KP Brno B-Bílovec
END:VEVENT
BEGIN:VEVENT
UID:32333139-3335-4432-b038-616134363135
DTSTAMP:20260422T111935Z
DESCRIPTION:8/20 SVK Nový Jičín - Bílovec 0:2 (-9\,-16)
DTSTART;TZID=Europe/Berlin:20250914T101500
DTEND;TZID=Europe/Berlin:20250914T121500
LOCATION:Hala ABC\, Purkyňova 116 Nový Jičín
SUMMARY:CP-U16Z-V1C: SVK Nový Jičín-Bílovec
END:VEVENT
BEGIN:VEVENT
UID:33373634-6131-4139-b830-626661386235
DTSTAMP:20260422T111935Z
DESCRIPTION:10/26 VA MUNI Sport Brno - Bílovec 1:2 (23\,-11\,-3)
DTSTART;TZID=Europe/Berlin:20250914T130000
DTEND;TZID=Europe/Berlin:20250914T150000
SUMMARY:CP-U16Z-V1C: VA MUNI Sport Brno-Bílovec
END:VEVENT
BEGIN:VEVENT
UID:31383433-6134-4462-a139-623266356230
DTSTAMP:20260422T111935Z
DESCRIPTION:1/1 Bílovec - TJ Ostrava 'B' 2:0 (16\,10)
DTSTART;TZID=Europe/Berlin:20250921T090000
DTEND;TZID=Europe/Berlin:20250921T110000
LOCATION:Hala ZŠ Komenského\, Komenského 701 Bílovec
SUMMARY:MS-U16Z-KVB1: Bílovec-TJ Ostrava 'B'
END:VEVENT
BEGIN:VEVENT
UID:31343336-3862-4765-a266-613933636465
DTSTAMP:20260422T111935Z
DESCRIPTION:2/3 Bílovec - TJ Kunčičky 2:0 (9\,9)
DTSTART;TZID=Europe/Berlin:20250921T100000
DTEND;TZID=Europe/Berlin:20250921T120000
LOCATION:Hala ZŠ Komenského\, Komenského 701 Bílovec
SUMMARY:MS-U16Z-KVB1: Bílovec-TJ Kunčičky
END:VEVENT
BEGIN:VEVENT
UID:64323165-3362-4837-b263-666162326461
DTSTAMP:20260422T111935Z
DESCRIPTION:3/5 Bílovec - SVK Nový Jičín B 2:0 (9\,13)
DTSTART;TZID=Europe/Berlin:20250921T110000
DTEND;TZID=Europe/Berlin:20250921T130000
LOCATION:Hala ZŠ Komenského\, Komenského 701 Bílovec
SUMMARY:MS-U16Z-KVB1: Bílovec-SVK Nový Jičín B
END:VEVENT
BEGIN:VEVENT
UID:35356639-3261-4938-b038-303437313833
DTSTAMP:20260422T111935Z
DESCRIPTION:1/1 Bílovec - VK Polanka 'A' 2:0 (21\,14)
DTSTART;TZID=Europe/Berlin:20250921T130000
DTEND;TZID=Europe/Berlin:20250921T150000
LOCATION:Hala ZŠ Komenského\, Komenského 701 Bílovec
SUMMARY:MS-U16Z-KVBF: Bílovec-VK Polanka 'A'
END:VEVENT
BEGIN:VEVENT
UID:63623761-3131-4339-b937-376631616336
DTSTAMP:20260422T111935Z
DESCRIPTION:2/3 Bílovec - KV Kopřivnice 2:0 (19\,10)
DTSTART;TZID=Europe/Berlin:20250921T143000
DTEND;TZID=Europe/Berlin:20250921T163000
LOCATION:Hala ZŠ Komenského\, Komenského 701 Bílovec
SUMMARY:MS-U16Z-KVBF: Bílovec-KV Kopřivnice
END:VEVENT
BEGIN:VEVENT
UID:32623563-6130-4733-b635-323830653462
DTSTAMP:20260422T111935Z
DESCRIPTION:4/8 Bílovec - VoCe 2:0 (20\,18)
DTSTART;TZID=Europe/Berlin:20251018T124500
DTEND;TZID=Europe/Berlin:20251018T144500
LOCATION:Hala ZŠ Komenského\, Komenského 701 Bílovec
SUMMARY:CP-U16Z-V2A: Bílovec-VoCe
END:VEVENT
BEGIN:VEVENT
UID:39373263-6138-4761-a339-306135356233
DTSTAMP:20260422T111935Z
DESCRIPTION:7/16 Bílovec - Tělovýchovná jednota Ostrava 0:2 (-21\,-8)
DTSTART;TZID=Europe/Berlin:20251018T163000
DTEND;TZID=Europe/Berlin:20251018T183000
LOCATION:Hala ZŠ Komenského\, Komenského 701 Bílovec
SUMMARY:CP-U16Z-V2A: Bílovec-Tělovýchovná jednota Ostrava
END:VEVENT
BEGIN:VEVENT
UID:36393864-6665-4161-b036-353138356561
DTSTAMP:20260422T111935Z
DESCRIPTION:8/18 Bílovec - K. Pole 2:0 (6\,13)
DTSTART;TZID=Europe/Berlin:20251019T090000
DTEND;TZID=Europe/Berlin:20251019T110000
LOCATION:Hala ZŠ Komenského\, Komenského 701 Bílovec
SUMMARY:CP-U16Z-V2A: Bílovec-K. Pole
END:VEVENT
BEGIN:VEVENT
UID:31333733-3066-4135-b930-646238663933
DTSTAMP:20260422T111935Z
DESCRIPTION:11/28 Bílovec - TJ Svitavy 2:0 (16\,18)
DTSTART;TZID=Europe/Berlin:20251019T124500
DTEND;TZID=Europe/Berlin:20251019T144500
LOCATION:Hala ZŠ Komenského\, Komenského 701 Bílovec
SUMMARY:CP-U16Z-V2A: Bílovec-TJ Svitavy
END:VEVENT
BEGIN:VEVENT
UID:33623831-6534-4138-b433-633037303763
DTSTAMP:20260422T111935Z
DESCRIPTION:2/4 VK Polanka - Bílovec 0:2 (-11\,-23)
DTSTART;TZID=Europe/Berlin:20251018T101500
DTEND;TZID=Europe/Berlin:20251018T121500
LOCATION:Sportovní hala\, Heleny Salichové 1275 Ostrava - Polanka nad Odrou
SUMMARY:CP-U16Z-V2A: VK Polanka-Bílovec
END:VEVENT
BEGIN:VEVENT
UID:62656462-6533-4564-b534-336236646233
DTSTAMP:20260422T111935Z
DESCRIPTION:5/11 VK Prostějov - Bílovec 1:2 (-14\,24\,-12)
DTSTART;TZID=Europe/Berlin:20251018T140000
DTEND;TZID=Europe/Berlin:20251018T160000
LOCATION:Národní sportovní centrum\, Za velodromem 4187 Prostějov
SUMMARY:CP-U16Z-V2A: VK Prostějov-Bílovec
END:VEVENT
BEGIN:VEVENT
UID:33643962-3339-4563-b031-636565623837
DTSTAMP:20260422T111935Z
DESCRIPTION:10/23 H. Brod - Bílovec 0:2 (-11\,-12)
DTSTART;TZID=Europe/Berlin:20251019T113000
DTEND;TZID=Europe/Berlin:20251019T133000
LOCATION:Sportovní hala TJ Jiskra\, Ledečská 3028 Havlíčkův Brod
SUMMARY:CP-U16Z-V2A: H. Brod-Bílovec
END:VEVENT
BEGIN:VEVENT
UID:61306533-3736-4736-b730-366636653838
DTSTAMP:20260422T111935Z
DESCRIPTION:1/1 Bílovec - KV Kopřivnice 2:0 (19\,18)
DTSTART;TZID=Europe/Berlin:20251012T090000
DTEND;TZID=Europe/Berlin:20251012T110000
LOCATION:Hala ZŠ Komenského\, Komenského 701 Bílovec
SUMMARY:MS-U16Z-T1A: Bílovec-KV Kopřivnice
END:VEVENT
BEGIN:VEVENT
UID:65656263-3737-4136-b439-653538663663
DTSTAMP:20260422T111935Z
DESCRIPTION:4/8 Bílovec - VK Raškovice 2:0 (2\,12)
DTSTART;TZID=Europe/Berlin:20251012T133000
DTEND;TZID=Europe/Berlin:20251012T153000
LOCATION:Hala ZŠ Komenského\, Komenského 701 Bílovec
SUMMARY:MS-U16Z-T1A: Bílovec-VK Raškovice
END:VEVENT
BEGIN:VEVENT
UID:35376366-6161-4730-b061-333165346366
DTSTAMP:20260422T111935Z
DESCRIPTION:2/4 Ostrava - Bílovec 2:0 (23\,20)
DTSTART;TZID=Europe/Berlin:20251012T103000
DTEND;TZID=Europe/Berlin:20251012T123000
LOCATION:Hala ZŠ Komenského\, Komenského 701 Bílovec
SUMMARY:MS-U16Z-T1A: Ostrava-Bílovec
END:VEVENT
BEGIN:VEVENT
UID:65396135-6133-4264-b532-636332656263
DTSTAMP:20260422T111935Z
DESCRIPTION:5/9 Frýdek-Místek - Bílovec 1:2 (-14\,17\,-7)
DTSTART;TZID=Europe/Berlin:20251012T150000
DTEND;TZID=Europe/Berlin:20251012T170000
LOCATION:Hala ZŠ Komenského\, Komenského 701 Bílovec
SUMMARY:MS-U16Z-T1A: Frýdek-Místek-Bílovec
END:VEVENT
BEGIN:VEVENT
UID:63626664-3634-4830-b065-333162356434
DTSTAMP:20260422T111935Z
DESCRIPTION:3/5 Bílovec - SVK Nový Jičín A 2:0 (19\,12)
DTSTART;TZID=Europe/Berlin:20251109T120000
DTEND;TZID=Europe/Berlin:20251109T140000
LOCATION:Hala míčových sportů\, Varenská 3098 Ostrava - Moravská Ostrava
SUMMARY:MS-U16Z-T2A: Bílovec-SVK Nový Jičín A
END:VEVENT
BEGIN:VEVENT
UID:39646165-6431-4630-a437-323039346237
DTSTAMP:20260422T111935Z
DESCRIPTION:4/8 Bílovec - KV Kopřivnice 2:0 (19\,14)
DTSTART;TZID=Europe/Berlin:20251109T133000
DTEND;TZID=Europe/Berlin:20251109T153000
LOCATION:Hala míčových sportů\, Varenská 3098 Ostrava - Moravská Ostrava
SUMMARY:MS-U16Z-T2A: Bílovec-KV Kopřivnice
END:VEVENT
BEGIN:VEVENT
UID:64376638-3265-4365-b539-366566376362
DTSTAMP:20260422T111935Z
DESCRIPTION:2/4 Ostrava - Bílovec 1:2 (-14\,22\,-13)
DTSTART;TZID=Europe/Berlin:20251109T103000
DTEND;TZID=Europe/Berlin:20251109T123000
LOCATION:Hala míčových sportů\, Varenská 3098 Ostrava - Moravská Ostrava
SUMMARY:MS-U16Z-T2A: Ostrava-Bílovec
END:VEVENT
BEGIN:VEVENT
UID:36373630-3030-4765-a564-333562623538
DTSTAMP:20260422T111935Z
DESCRIPTION:5/9 Frýdek-Místek - Bílovec 0:2 (-12\,-22)
DTSTART;TZID=Europe/Berlin:20251109T150000
DTEND;TZID=Europe/Berlin:20251109T170000
LOCATION:Hala míčových sportů\, Varenská 3098 Ostrava - Moravská Ostrava
SUMMARY:MS-U16Z-T2A: Frýdek-Místek-Bílovec
END:VEVENT
BEGIN:VEVENT
UID:64623033-6136-4664-a537-373835303062
DTSTAMP:20260422T111935Z
DESCRIPTION:7/19 Bílovec - K. Pole 2:0 (7\,18)
DTSTART;TZID=Europe/Berlin:20251130T090000
DTEND;TZID=Europe/Berlin:20251130T110000
LOCATION:ZŠ Pionýrů 400 Frýdek-Místek\, Pionýrů 400 Frýdek-Místek - Místek
SUMMARY:CP-U16Z-V3A: Bílovec-K. Pole
END:VEVENT
BEGIN:VEVENT
UID:61363238-3635-4235-a161-643536623430
DTSTAMP:20260422T111935Z
DESCRIPTION:10/26 Bílovec - Tělovýchovná jednota Ostrava 0:2 (-16\,-22)
DTSTART;TZID=Europe/Berlin:20251130T133000
DTEND;TZID=Europe/Berlin:20251130T153000
LOCATION:ZŠ Pionýrů 400 Frýdek-Místek\, Pionýrů 400 Frýdek-Místek - Místek
SUMMARY:CP-U16Z-V3A: Bílovec-Tělovýchovná jednota Ostrava
END:VEVENT
BEGIN:VEVENT
UID:36653862-3564-4934-a339-326631323262
DTSTAMP:20260422T111935Z
DESCRIPTION:1/1 VK Prostějov - Bílovec 2:0 (19\,23)
DTSTART;TZID=Europe/Berlin:20251129T093000
DTEND;TZID=Europe/Berlin:20251129T113000
LOCATION:ZŠ Pionýrů 400 Frýdek-Místek\, Pionýrů 400 Frýdek-Místek - Místek
SUMMARY:CP-U16Z-V3A: VK Prostějov-Bílovec
END:VEVENT
BEGIN:VEVENT
UID:37343763-3765-4835-a664-316362393563
DTSTAMP:20260422T111935Z
DESCRIPTION:2/5 TJ Sokol Frýdek - Místek - Bílovec 2:0 (23\,20)
DTSTART;TZID=Europe/Berlin:20251129T110000
DTEND;TZID=Europe/Berlin:20251129T130000
LOCATION:ZŠ Pionýrů 400 Frýdek-Místek\, Pionýrů 400 Frýdek-Místek - Místek
SUMMARY:CP-U16Z-V3A: TJ Sokol Frýdek - Místek-Bílovec
END:VEVENT
BEGIN:VEVENT
UID:66623665-3630-4634-a439-366365383830
DTSTAMP:20260422T111935Z
DESCRIPTION:3/9 VoCe - Bílovec 2:1 (-22\,20\,7)
DTSTART;TZID=Europe/Berlin:20251129T123000
DTEND;TZID=Europe/Berlin:20251129T143000
LOCATION:ZŠ Pionýrů 400 Frýdek-Místek\, Pionýrů 400 Frýdek-Místek - Místek
SUMMARY:CP-U16Z-V3A: VoCe-Bílovec
END:VEVENT
BEGIN:VEVENT
UID:38366436-3964-4539-a538-343564616264
DTSTAMP:20260422T111935Z
DESCRIPTION:5/13 Znojmo - Bílovec 0:2 (-15\,-14)
DTSTART;TZID=Europe/Berlin:20251129T153000
DTEND;TZID=Europe/Berlin:20251129T173000
LOCATION:ZŠ Pionýrů 400 Frýdek-Místek\, Pionýrů 400 Frýdek-Místek - Místek
SUMMARY:CP-U16Z-V3A: Znojmo-Bílovec
END:VEVENT
BEGIN:VEVENT
UID:30656430-3562-4133-a666-333030353639
DTSTAMP:20260422T111935Z
DESCRIPTION:9/25 H. Brod - Bílovec 1:2 (-15\,20\,-13)
DTSTART;TZID=Europe/Berlin:20251130T120000
DTEND;TZID=Europe/Berlin:20251130T140000
LOCATION:ZŠ Pionýrů 400 Frýdek-Místek\, Pionýrů 400 Frýdek-Místek - Místek
SUMMARY:CP-U16Z-V3A: H. Brod-Bílovec
END:VEVENT
BEGIN:VEVENT
UID:66393365-6338-4838-b439-613037666665
DTSTAMP:20260422T111935Z
DESCRIPTION:2/4 Bílovec - Ostrava 0:2 (-14\,-25)
DTSTART;TZID=Europe/Berlin:20251214T103000
DTEND;TZID=Europe/Berlin:20251214T123000
LOCATION:Hala ZŠ Komenského\, Komenského 701 Bílovec
SUMMARY:MS-U16Z-T3A: Bílovec-Ostrava
END:VEVENT
BEGIN:VEVENT
UID:66636363-3338-4362-b666-383132616163
DTSTAMP:20260422T111935Z
DESCRIPTION:4/7 Bílovec - Frýdek-Místek 2:0 (22\,21)
DTSTART;TZID=Europe/Berlin:20251214T133000
DTEND;TZID=Europe/Berlin:20251214T153000
LOCATION:Hala ZŠ Komenského\, Komenského 701 Bílovec
SUMMARY:MS-U16Z-T3A: Bílovec-Frýdek-Místek
END:VEVENT
BEGIN:VEVENT
UID:39623130-3765-4233-a466-363739633364
DTSTAMP:20260422T111935Z
DESCRIPTION:1/1 KV Kopřivnice - Bílovec 0:2 (-18\,-13)
DTSTART;TZID=Europe/Berlin:20251214T090000
DTEND;TZID=Europe/Berlin:20251214T110000
LOCATION:Hala ZŠ Komenského\, Komenského 701 Bílovec
SUMMARY:MS-U16Z-T3A: KV Kopřivnice-Bílovec
END:VEVENT
BEGIN:VEVENT
UID:64333137-3466-4464-a337-353762316637
DTSTAMP:20260422T111935Z
DESCRIPTION:5/10 VK Polanka 'A' - Bílovec 0:2 (-17\,-16)
DTSTART;TZID=Europe/Berlin:20251214T150000
DTEND;TZID=Europe/Berlin:20251214T170000
LOCATION:Hala ZŠ Komenského\, Komenského 701 Bílovec
SUMMARY:MS-U16Z-T3A: VK Polanka 'A'-Bílovec
END:VEVENT
BEGIN:VEVENT
UID:66323535-3064-4432-a463-376230303762
DTSTAMP:20260422T111935Z
DESCRIPTION:3/5 Bílovec - SVK Nový Jičín A 2:0 (15\,9)
DTSTART;TZID=Europe/Berlin:20260111T120000
DTEND;TZID=Europe/Berlin:20260111T140000
LOCATION:Hala míčových sportů\, Varenská 3098 Ostrava - Moravská Ostrava
SUMMARY:MS-U16Z-T4A: Bílovec-SVK Nový Jičín A
END:VEVENT
BEGIN:VEVENT
UID:38303665-3766-4332-b036-343235343339
DTSTAMP:20260422T111935Z
DESCRIPTION:5/10 Bílovec - Frýdek-Místek 2:1 (19\,-21\,7)
DTSTART;TZID=Europe/Berlin:20260111T150000
DTEND;TZID=Europe/Berlin:20260111T170000
LOCATION:Hala míčových sportů\, Varenská 3098 Ostrava - Moravská Ostrava
SUMMARY:MS-U16Z-T4A: Bílovec-Frýdek-Místek
END:VEVENT
BEGIN:VEVENT
UID:63303035-3835-4637-b364-393261633936
DTSTAMP:20260422T111935Z
DESCRIPTION:1/1 KV Kopřivnice - Bílovec 0:2 (-14\,-10)
DTSTART;TZID=Europe/Berlin:20260111T090000
DTEND;TZID=Europe/Berlin:20260111T110000
LOCATION:Hala míčových sportů\, Varenská 3098 Ostrava - Moravská Ostrava
SUMMARY:MS-U16Z-T4A: KV Kopřivnice-Bílovec
END:VEVENT
BEGIN:VEVENT
UID:61313665-3435-4366-a238-383434613433
DTSTAMP:20260422T111935Z
DESCRIPTION:2/4 Ostrava - Bílovec 0:2 (-23\,-13)
DTSTART;TZID=Europe/Berlin:20260111T103000
DTEND;TZID=Europe/Berlin:20260111T123000
LOCATION:Hala míčových sportů\, Varenská 3098 Ostrava - Moravská Ostrava
SUMMARY:MS-U16Z-T4A: Ostrava-Bílovec
END:VEVENT
BEGIN:VEVENT
UID:39636562-3930-4436-a134-323530383637
DTSTAMP:20260422T111935Z
DESCRIPTION:4/11 Bílovec - VK KRALUPY 2:1 (-20\,13\,10)
DTSTART;TZID=Europe/Berlin:20260117T140000
DTEND;TZID=Europe/Berlin:20260117T160000
LOCATION:Sportovní hala\, Heleny Salichové 1275 Ostrava - Polanka nad Odrou
SUMMARY:CP-U16Z4B: Bílovec-VK KRALUPY
END:VEVENT
BEGIN:VEVENT
UID:61386232-3632-4662-b935-386533613235
DTSTAMP:20260422T111935Z
DESCRIPTION:7/19 Bílovec - K. Pole 2:0 (19\,11)
DTSTART;TZID=Europe/Berlin:20260118T090000
DTEND;TZID=Europe/Berlin:20260118T110000
LOCATION:Sportovní hala\, Heleny Salichové 1275 Ostrava - Polanka nad Odrou
SUMMARY:CP-U16Z4B: Bílovec-K. Pole
END:VEVENT
BEGIN:VEVENT
UID:30656432-6431-4436-b530-383561366434
DTSTAMP:20260422T111935Z
DESCRIPTION:9/23 Bílovec - VK Polanka 2:0 (21\,6)
DTSTART;TZID=Europe/Berlin:20260118T114500
DTEND;TZID=Europe/Berlin:20260118T134500
LOCATION:Sportovní hala\, Heleny Salichové 1275 Ostrava - Polanka nad Odrou
SUMMARY:CP-U16Z4B: Bílovec-VK Polanka
END:VEVENT
BEGIN:VEVENT
UID:66626435-3037-4032-a264-653432343734
DTSTAMP:20260422T111935Z
DESCRIPTION:2/6 H. Brod - Bílovec 0:2 (-19\,-24)
DTSTART;TZID=Europe/Berlin:20260117T113000
DTEND;TZID=Europe/Berlin:20260117T133000
LOCATION:Sportovní hala\, Heleny Salichové 1275 Ostrava - Polanka nad Odrou
SUMMARY:CP-U16Z4B: H. Brod-Bílovec
END:VEVENT
BEGIN:VEVENT
UID:62646139-3838-4334-b133-623034386661
DTSTAMP:20260422T111935Z
DESCRIPTION:3/9 VK Karlovy Vary - Bílovec 0:2 (-15\,-13)
DTSTART;TZID=Europe/Berlin:20260117T124500
DTEND;TZID=Europe/Berlin:20260117T144500
LOCATION:Sportovní hala\, Heleny Salichové 1275 Ostrava - Polanka nad Odrou
SUMMARY:CP-U16Z4B: VK Karlovy Vary-Bílovec
END:VEVENT
BEGIN:VEVENT
UID:64373635-6336-4430-b034-663562613861
DTSTAMP:20260422T111935Z
DESCRIPTION:5/15 Madeta Jihostroj ČB - Bílovec 0:2 (-15\,-16)
DTSTART;TZID=Europe/Berlin:20260117T154500
DTEND;TZID=Europe/Berlin:20260117T174500
LOCATION:Sportovní hala\, Heleny Salichové 1275 Ostrava - Polanka nad Odrou
SUMMARY:CP-U16Z4B: Madeta Jihostroj ČB-Bílovec
END:VEVENT
BEGIN:VEVENT
UID:33353666-3765-4433-b036-376138646437
DTSTAMP:20260422T111935Z
DESCRIPTION:8/21 TJ Loko Plzeň - Bílovec 2:0 (25\,19)
DTSTART;TZID=Europe/Berlin:20260118T101500
DTEND;TZID=Europe/Berlin:20260118T121500
LOCATION:Sportovní hala\, Heleny Salichové 1275 Ostrava - Polanka nad Odrou
SUMMARY:CP-U16Z4B: TJ Loko Plzeň-Bílovec
END:VEVENT
BEGIN:VEVENT
UID:37333734-3666-4936-b262-343539613333
DTSTAMP:20260422T111935Z
DESCRIPTION:2/4 Bílovec - Frýdek-Místek 2:0 (15\,7)
DTSTART;TZID=Europe/Berlin:20260215T103000
DTEND;TZID=Europe/Berlin:20260215T123000
LOCATION:Hala ZŠ Komenského\, Komenského 701 Bílovec
SUMMARY:MS-U16Z-T5A: Bílovec-Frýdek-Místek
END:VEVENT
BEGIN:VEVENT
UID:35663137-3631-4663-b336-376237303561
DTSTAMP:20260422T111935Z
DESCRIPTION:4/7 Bílovec - Ostrava 2:1 (12\,-24\,15)
DTSTART;TZID=Europe/Berlin:20260215T133000
DTEND;TZID=Europe/Berlin:20260215T153000
LOCATION:Hala ZŠ Komenského\, Komenského 701 Bílovec
SUMMARY:MS-U16Z-T5A: Bílovec-Ostrava
END:VEVENT
BEGIN:VEVENT
UID:39353561-3436-4264-b338-306531626631
DTSTAMP:20260422T111935Z
DESCRIPTION:5/9 Bílovec - KV Kopřivnice 2:0 (17\,23)
DTSTART;TZID=Europe/Berlin:20260215T150000
DTEND;TZID=Europe/Berlin:20260215T170000
LOCATION:Hala ZŠ Komenského\, Komenského 701 Bílovec
SUMMARY:MS-U16Z-T5A: Bílovec-KV Kopřivnice
END:VEVENT
BEGIN:VEVENT
UID:30636132-6330-4630-b935-646666343436
DTSTAMP:20260422T111935Z
DESCRIPTION:1/2 VK Polanka 'A' - Bílovec 0:2 (-15\,-24)
DTSTART;TZID=Europe/Berlin:20260215T090000
DTEND;TZID=Europe/Berlin:20260215T110000
LOCATION:Hala ZŠ Komenského\, Komenského 701 Bílovec
SUMMARY:MS-U16Z-T5A: VK Polanka 'A'-Bílovec
END:VEVENT
BEGIN:VEVENT
UID:31386334-3435-4537-b536-336439356434
DTSTAMP:20260422T111935Z
DESCRIPTION:4/11 Bílovec - H. Brod 1:2 (16\,-21\,-12)
DTSTART;TZID=Europe/Berlin:20260207T134500
DTEND;TZID=Europe/Berlin:20260207T154500
LOCATION:ZŠ Dolní Břežany\, Na Vršku 290 Dolní Břežany
SUMMARY:CP-U16Z5A: Bílovec-H. Brod
END:VEVENT
BEGIN:VEVENT
UID:37323265-3062-4932-a238-323531366330
DTSTAMP:20260422T111935Z
DESCRIPTION:7/18 Bílovec - Tělovýchovná jednota Ostrava 1:2 (17\,-19\,-12)
DTSTART;TZID=Europe/Berlin:20260208T090000
DTEND;TZID=Europe/Berlin:20260208T110000
LOCATION:ZŠ Dolní Břežany\, Na Vršku 290 Dolní Břežany
SUMMARY:CP-U16Z5A: Bílovec-Tělovýchovná jednota Ostrava
END:VEVENT
BEGIN:VEVENT
UID:36333938-6337-4134-a135-643138636361
DTSTAMP:20260422T111935Z
DESCRIPTION:11/25 Bílovec - Mikulova A 2:0 (16\,11)
DTSTART;TZID=Europe/Berlin:20260208T140000
DTEND;TZID=Europe/Berlin:20260208T160000
LOCATION:ZŠ Dolní Břežany\, Na Vršku 290 Dolní Břežany
SUMMARY:CP-U16Z5A: Bílovec-Mikulova A
END:VEVENT
BEGIN:VEVENT
UID:61633333-3933-4664-a233-663736663531
DTSTAMP:20260422T111935Z
DESCRIPTION:1/2 PVK Olymp Praha - Bílovec 2:0 (12\,17)
DTSTART;TZID=Europe/Berlin:20260207T100000
DTEND;TZID=Europe/Berlin:20260207T120000
LOCATION:ZŠ Dolní Břežany\, Na Vršku 290 Dolní Břežany
SUMMARY:CP-U16Z5A: PVK Olymp Praha-Bílovec
END:VEVENT
BEGIN:VEVENT
UID:33363639-3331-4965-b035-326362323634
DTSTAMP:20260422T111935Z
DESCRIPTION:2/4 Orion Praha - Bílovec 2:0 (21\,21)
DTSTART;TZID=Europe/Berlin:20260207T111500
DTEND;TZID=Europe/Berlin:20260207T131500
LOCATION:ZŠ Dolní Břežany\, Na Vršku 290 Dolní Břežany
SUMMARY:CP-U16Z5A: Orion Praha-Bílovec
END:VEVENT
BEGIN:VEVENT
UID:32633434-3639-4630-a165-393430303461
DTSTAMP:20260422T111935Z
DESCRIPTION:5/14 Nymburk - Bílovec 2:0 (11\,11)
DTSTART;TZID=Europe/Berlin:20260207T150000
DTEND;TZID=Europe/Berlin:20260207T170000
LOCATION:ZŠ Dolní Břežany\, Na Vršku 290 Dolní Břežany
SUMMARY:CP-U16Z5A: Nymburk-Bílovec
END:VEVENT
BEGIN:VEVENT
UID:66653330-6435-4264-b466-613138653537
DTSTAMP:20260422T111935Z
DESCRIPTION:8/19 VoCe - Bílovec 1:2 (9\,-18\,-11)
DTSTART;TZID=Europe/Berlin:20260208T101500
DTEND;TZID=Europe/Berlin:20260208T121500
LOCATION:ZŠ Dolní Břežany\, Na Vršku 290 Dolní Břežany
SUMMARY:CP-U16Z5A: VoCe-Bílovec
END:VEVENT
BEGIN:VEVENT
UID:63366264-3538-4431-b332-316532326465
DTSTAMP:20260422T111935Z
DESCRIPTION:6/6 Bílovec - VK Prostějov 2:0 (17\,23)
DTSTART;TZID=Europe/Berlin:20260328T153000
DTEND;TZID=Europe/Berlin:20260328T173000
LOCATION:Hala ZŠ Komenského\, Komenského 701 Bílovec
SUMMARY:CP-U16Z6B: Bílovec-VK Prostějov
END:VEVENT
BEGIN:VEVENT
UID:62323835-6165-4439-a434-626538366331
DTSTAMP:20260422T111935Z
DESCRIPTION:1/1 Nymburk - Bílovec 0:2 (-18\,-21)
DTSTART;TZID=Europe/Berlin:20260328T090000
DTEND;TZID=Europe/Berlin:20260328T110000
LOCATION:Hala ZŠ Komenského\, Komenského 701 Bílovec
SUMMARY:CP-U16Z6B: Nymburk-Bílovec
END:VEVENT
BEGIN:VEVENT
UID:37373463-3163-4330-b138-663662636161
DTSTAMP:20260422T111935Z
DESCRIPTION:4/4 Orion Praha - Bílovec 1:2 (-29\,16\,-10)
DTSTART;TZID=Europe/Berlin:20260328T130000
DTEND;TZID=Europe/Berlin:20260328T150000
LOCATION:Hala ZŠ Komenského\, Komenského 701 Bílovec
SUMMARY:CP-U16Z6B: Orion Praha-Bílovec
END:VEVENT
BEGIN:VEVENT
UID:34376539-3431-4732-a166-626637326566
DTSTAMP:20260422T111935Z
DESCRIPTION:2/4 Bílovec - Ostrava 0:2 (-15\,-14)
DTSTART;TZID=Europe/Berlin:20260315T103000
DTEND;TZID=Europe/Berlin:20260315T123000
LOCATION:Hala míčových sportů\, Varenská 3098 Ostrava - Moravská Ostrava
SUMMARY:MS-U16Z-T6A: Bílovec-Ostrava
END:VEVENT
BEGIN:VEVENT
UID:35353462-3666-4431-b038-636461333132
DTSTAMP:20260422T111935Z
DESCRIPTION:4/7 Bílovec - VK Polanka 'A' 1:2 (17\,-16\,-10)
DTSTART;TZID=Europe/Berlin:20260315T133000
DTEND;TZID=Europe/Berlin:20260315T153000
LOCATION:Hala míčových sportů\, Varenská 3098 Ostrava - Moravská Ostrava
SUMMARY:MS-U16Z-T6A: Bílovec-VK Polanka 'A'
END:VEVENT
BEGIN:VEVENT
UID:32363637-3939-4963-b263-343466656632
DTSTAMP:20260422T111935Z
DESCRIPTION:5/9 Bílovec - Frýdek-Místek 1:2 (-19\,19\,-8)
DTSTART;TZID=Europe/Berlin:20260315T150000
DTEND;TZID=Europe/Berlin:20260315T170000
LOCATION:Hala míčových sportů\, Varenská 3098 Ostrava - Moravská Ostrava
SUMMARY:MS-U16Z-T6A: Bílovec-Frýdek-Místek
END:VEVENT
BEGIN:VEVENT
UID:39356666-6532-4233-b739-353363323766
DTSTAMP:20260422T111935Z
DESCRIPTION:3/6 VKB Frýdlant n.O. ' A ' - Bílovec 0:2 (-15\,-18)
DTSTART;TZID=Europe/Berlin:20260315T120000
DTEND;TZID=Europe/Berlin:20260315T140000
LOCATION:Hala míčových sportů\, Varenská 3098 Ostrava - Moravská Ostrava
SUMMARY:MS-U16Z-T6A: VKB Frýdlant n.O. ' A '-Bílovec
END:VEVENT
BEGIN:VEVENT
UID:61633939-6539-4364-b937-663639626664
DTSTAMP:20260422T111935Z
DESCRIPTION:2/4 H. Brod - Bílovec 0:2 (-14\,-23)\nA4-B1
DTSTART;TZID=Europe/Berlin:20260328T164500
DTEND;TZID=Europe/Berlin:20260328T184500
LOCATION:Sportovní hala TJ Jiskra\, Ledečská 3028 Havlíčkův Brod
SUMMARY:CP-U16Z6P1: H. Brod-Bílovec
END:VEVENT
BEGIN:VEVENT
UID:65313363-3233-4433-b936-613830333538
DTSTAMP:20260422T111935Z
DESCRIPTION:3/7 Tělovýchovná jednota Ostrava - Bílovec 1:2 (-19\,20\,-10)\n
 semifinále  V2-V4
DTSTART;TZID=Europe/Berlin:20260329T103000
DTEND;TZID=Europe/Berlin:20260329T123000
LOCATION:Hala míčových sportů\, Varenská 3098 Ostrava - Moravská Ostrava
SUMMARY:CP-U16Z6P1: Tělovýchovná jednota Ostrava-Bílovec
END:VEVENT
BEGIN:VEVENT
UID:32353533-6236-4637-a165-383163613332
DTSTAMP:20260422T111935Z
DESCRIPTION:5/12 PVK Olymp Praha - Bílovec 2:1 (-21\,15\,12)\nfinále 1-2
DTSTART;TZID=Europe/Berlin:20260329T131500
DTEND;TZID=Europe/Berlin:20260329T151500
LOCATION:VCM OLYMP PRAHA \, Radlická 115 Praha - Radlice
SUMMARY:CP-U16Z6P1: PVK Olymp Praha-Bílovec
END:VEVENT
BEGIN:VEVENT
UID:61626436-3062-4465-b065-343837383530
DTSTAMP:20260422T111935Z
DESCRIPTION:5/13 Bílovec - LiberecSehnal Ivan
DTSTART;TZID=Europe/Berlin:20260425T143000
DTEND;TZID=Europe/Berlin:20260425T163000
LOCATION:ZŠ Dolní Břežany\, Na Vršku 290 Dolní Břežany
SUMMARY:MCR-U16Z-D: Bílovec-Liberec
END:VEVENT
BEGIN:VEVENT
UID:35656636-3739-4165-b362-366233636665
DTSTAMP:20260422T111935Z
DESCRIPTION:8/21 Bílovec - KralupyGlogar Andreas
DTSTART;TZID=Europe/Berlin:20260426T101500
DTEND;TZID=Europe/Berlin:20260426T121500
LOCATION:ZŠ Dolní Břežany\, Na Vršku 290 Dolní Břežany
SUMMARY:MCR-U16Z-D: Bílovec-Kralupy
END:VEVENT
BEGIN:VEVENT
UID:36663534-3739-4634-b331-663836326335
DTSTAMP:20260422T111935Z
DESCRIPTION:9/25 Bílovec - VoCeSehnal Ivan
DTSTART;TZID=Europe/Berlin:20260426T113000
DTEND;TZID=Europe/Berlin:20260426T133000
LOCATION:ZŠ Dolní Břežany\, Na Vršku 290 Dolní Břežany
SUMMARY:MCR-U16Z-D: Bílovec-VoCe
END:VEVENT
BEGIN:VEVENT
UID:39646135-3432-4233-b833-373364656664
DTSTAMP:20260422T111935Z
DESCRIPTION:1/1 Orion - BílovecGlogar Andreas
DTSTART;TZID=Europe/Berlin:20260425T093000
DTEND;TZID=Europe/Berlin:20260425T113000
LOCATION:ZŠ Dolní Břežany\, Na Vršku 290 Dolní Břežany
SUMMARY:MCR-U16Z-D: Orion-Bílovec
END:VEVENT
BEGIN:VEVENT
UID:35383837-6362-4635-a265-396265616562
DTSTAMP:20260422T111935Z
DESCRIPTION:2/6 Lanškroun - BílovecŠlechta Jiří
DTSTART;TZID=Europe/Berlin:20260425T104500
DTEND;TZID=Europe/Berlin:20260425T124500
LOCATION:ZŠ Dolní Břežany\, Na Vršku 290 Dolní Břežany
SUMMARY:MCR-U16Z-D: Lanškroun-Bílovec
END:VEVENT
BEGIN:VEVENT
UID:61396436-6132-4136-a534-623766306130
DTSTAMP:20260422T111935Z
DESCRIPTION:4/11 Slavia Plzeň - BílovecSehnal Ivan
DTSTART;TZID=Europe/Berlin:20260425T131500
DTEND;TZID=Europe/Berlin:20260425T151500
LOCATION:ZŠ Dolní Břežany\, Na Vršku 290 Dolní Břežany
SUMMARY:MCR-U16Z-D: Slavia Plzeň-Bílovec
END:VEVENT
BEGIN:VEVENT
UID:35306339-6433-4031-a362-383530323431
DTSTAMP:20260422T111935Z
DESCRIPTION:7/18 Rudolfov - BílovecGlogar Andreas
DTSTART;TZID=Europe/Berlin:20260426T090000
DTEND;TZID=Europe/Berlin:20260426T110000
LOCATION:ZŠ Dolní Břežany\, Na Vršku 290 Dolní Břežany
SUMMARY:MCR-U16Z-D: Rudolfov-Bílovec
END:VEVENT
END:VCALENDAR
