BEGIN:VCALENDAR
VERSION:2.0
PRODID:-//Sportovní klub Španielka Řepy z.s.89604//NONSGML kigkonsult.se iCalcreator 2.41.80//
CALSCALE:GREGORIAN
UID:30613234-6436-4239-b939-653234343937
BEGIN:VEVENT
UID:37313439-6366-4462-a234-643664366235
DTSTAMP:20260422T221331Z
DESCRIPTION:2/4 SK Španielka - SK Kometa Praha 0:2 (-17\,-21)
DTSTART;TZID=Europe/Berlin:20250913T113000
DTEND;TZID=Europe/Berlin:20250913T133000
LOCATION:Tělocvična ZŠ\, Španielova 1111 Praha - Řepy
SUMMARY:CP-U16Z-Z1C: SK Španielka-SK Kometa Praha
END:VEVENT
BEGIN:VEVENT
UID:33616336-6235-4537-a461-346539653236
DTSTAMP:20260422T221331Z
DESCRIPTION:7/20 SK Španielka - TJ Sokol M. Hradiště 2:1 (13\,-23\,12)
DTSTART;TZID=Europe/Berlin:20250914T120000
DTEND;TZID=Europe/Berlin:20250914T140000
LOCATION:Tělocvična ZŠ\, Španielova 1111 Praha - Řepy
SUMMARY:CP-U16Z-Z1C: SK Španielka-TJ Sokol M. Hradiště
END:VEVENT
BEGIN:VEVENT
UID:30616234-3662-4836-b336-633932333561
DTSTAMP:20260422T221331Z
DESCRIPTION:1/3 VK Jirkov - SK Španielka 2:1 (22\,-23\,9)
DTSTART;TZID=Europe/Berlin:20250913T100000
DTEND;TZID=Europe/Berlin:20250913T120000
LOCATION:sportovní hala MGZŠ Krušnohorská Jirkov Jirkov\, Krušnohorská 1675
SUMMARY:CP-U16Z-Z1C: VK Jirkov-SK Španielka
END:VEVENT
BEGIN:VEVENT
UID:33383930-6336-4636-a137-636331643534
DTSTAMP:20260422T221331Z
DESCRIPTION:3/8 Nymburk - SK Španielka 2:0 (12\,18)
DTSTART;TZID=Europe/Berlin:20250913T140000
DTEND;TZID=Europe/Berlin:20250913T160000
LOCATION:Bios\, V Kolonii 1804 Nymburk
SUMMARY:CP-U16Z-Z1C: Nymburk-SK Španielka
END:VEVENT
BEGIN:VEVENT
UID:33633831-6561-4261-b634-333066306565
DTSTAMP:20260422T221331Z
DESCRIPTION:4/10 Mělník - SK Španielka 1:2 (16\,-19\,-11)
DTSTART;TZID=Europe/Berlin:20250913T153000
DTEND;TZID=Europe/Berlin:20250913T173000
LOCATION:Tělocvična ZŠ J. Matiegky\, Pražská 2817 Mělník
SUMMARY:CP-U16Z-Z1C: Mělník-SK Španielka
END:VEVENT
BEGIN:VEVENT
UID:63303337-3631-4063-b031-336261316438
DTSTAMP:20260422T221331Z
DESCRIPTION:5/13 Kladno A - SK Španielka 0:2 (-15\,-20)
DTSTART;TZID=Europe/Berlin:20250914T090000
DTEND;TZID=Europe/Berlin:20250914T110000
LOCATION:Kladenská sportovní hala\, Sportovců 817 Kladno - Rozdělov
SUMMARY:CP-U16Z-Z1C: Kladno A-SK Španielka
END:VEVENT
BEGIN:VEVENT
UID:38663931-3236-4335-b765-633361626537
DTSTAMP:20260422T221331Z
DESCRIPTION:1/2 SK Španielka - BVC Chodov 1:2 (-23\,17\,-9)
DTSTART;TZID=Europe/Berlin:20251018T100000
DTEND;TZID=Europe/Berlin:20251018T120000
LOCATION:Tělocvična ZŠ\, Španielova 1111 Praha - Řepy
SUMMARY:CP-U16Z-Z2C: SK Španielka-BVC Chodov
END:VEVENT
BEGIN:VEVENT
UID:33633437-6234-4364-a633-633864333566
DTSTAMP:20260422T221331Z
DESCRIPTION:2/5 SK Španielka - Střešovice 0:2 (-7\,-17)
DTSTART;TZID=Europe/Berlin:20251018T113000
DTEND;TZID=Europe/Berlin:20251018T133000
LOCATION:Tělocvična ZŠ\, Španielova 1111 Praha - Řepy
SUMMARY:CP-U16Z-Z2C: SK Španielka-Střešovice
END:VEVENT
BEGIN:VEVENT
UID:62613739-6362-4562-a234-363531303338
DTSTAMP:20260422T221331Z
DESCRIPTION:7/19 SK Španielka - TJ Bižuterie Jablonec n/N 1:2 (23\,-22\,-9)
DTSTART;TZID=Europe/Berlin:20251019T090000
DTEND;TZID=Europe/Berlin:20251019T110000
LOCATION:Tělocvična ZŠ\, Španielova 1111 Praha - Řepy
SUMMARY:CP-U16Z-Z2C: SK Španielka-TJ Bižuterie Jablonec n/N
END:VEVENT
BEGIN:VEVENT
UID:65313938-6164-4237-b964-363364663638
DTSTAMP:20260422T221331Z
DESCRIPTION:8/21 SK Španielka - DUKLA Liberec 0:2 (-22\,-19)
DTSTART;TZID=Europe/Berlin:20251019T103000
DTEND;TZID=Europe/Berlin:20251019T123000
LOCATION:Tělocvična ZŠ\, Španielova 1111 Praha - Řepy
SUMMARY:CP-U16Z-Z2C: SK Španielka-DUKLA Liberec
END:VEVENT
BEGIN:VEVENT
UID:64333263-6537-4735-b163-326335333935
DTSTAMP:20260422T221331Z
DESCRIPTION:3/9 S V B C - SK Španielka 2:0 (12\,16)
DTSTART;TZID=Europe/Berlin:20251018T130000
DTEND;TZID=Europe/Berlin:20251018T150000
SUMMARY:CP-U16Z-Z2C: S V B C-SK Španielka
END:VEVENT
BEGIN:VEVENT
UID:62316639-3637-4266-b531-393330336465
DTSTAMP:20260422T221331Z
DESCRIPTION:5/15 SC Braník - SK Španielka 2:0 (20\,21)
DTSTART;TZID=Europe/Berlin:20251018T160000
DTEND;TZID=Europe/Berlin:20251018T180000
LOCATION:Sokolovna Braník\, Branická 275 Praha - Braník
SUMMARY:CP-U16Z-Z2C: SC Braník-SK Španielka
END:VEVENT
BEGIN:VEVENT
UID:38666661-3439-4665-b937-383638376636
DTSTAMP:20260422T221331Z
DESCRIPTION:9/23 VSK Baník Sokolov - SK Španielka 2:1 (-24\,16\,15)
DTSTART;TZID=Europe/Berlin:20251019T120000
DTEND;TZID=Europe/Berlin:20251019T140000
LOCATION:Jiskra\, Maxima Gorkého 280 Sokolov
SUMMARY:CP-U16Z-Z2C: VSK Baník Sokolov-SK Španielka
END:VEVENT
BEGIN:VEVENT
UID:34386336-6639-4266-a263-626165613063
DTSTAMP:20260422T221331Z
DESCRIPTION:1/1 SK Španielka - VK Lvi Praha 1:2 (-13\,11\,-11)
DTSTART;TZID=Europe/Berlin:20251129T100000
DTEND;TZID=Europe/Berlin:20251129T120000
LOCATION:Tělocvična ZŠ\, Španielova 1111 Praha - Řepy
SUMMARY:CP-U16Z-Z3D: SK Španielka-VK Lvi Praha
END:VEVENT
BEGIN:VEVENT
UID:31373462-3863-4934-b265-363066613636
DTSTAMP:20260422T221331Z
DESCRIPTION:3/9 SK Španielka - SK Volejbal Kolín 1:2 (23\,-19\,-16)
DTSTART;TZID=Europe/Berlin:20251129T130000
DTEND;TZID=Europe/Berlin:20251129T150000
LOCATION:Tělocvična ZŠ\, Španielova 1111 Praha - Řepy
SUMMARY:CP-U16Z-Z3D: SK Španielka-SK Volejbal Kolín
END:VEVENT
BEGIN:VEVENT
UID:34633033-3466-4662-b261-383736623139
DTSTAMP:20260422T221331Z
DESCRIPTION:2/4 Mikulova B - SK Španielka 0:2 (-12\,-24)
DTSTART;TZID=Europe/Berlin:20251129T113000
DTEND;TZID=Europe/Berlin:20251129T133000
LOCATION:tělocvičny ZŠ Mikulova\, Mikulova 1594 Praha - Chodov
SUMMARY:CP-U16Z-Z3D: Mikulova B-SK Španielka
END:VEVENT
BEGIN:VEVENT
UID:34306135-3937-4933-b539-616139623036
DTSTAMP:20260422T221331Z
DESCRIPTION:4/12 VK Sever Žatec - SK Španielka 2:1 (-16\,20\,11)
DTSTART;TZID=Europe/Berlin:20251129T143000
DTEND;TZID=Europe/Berlin:20251129T163000
LOCATION:Sportovní hala TJ Sever Žatec\, Plzeňská 2787 Žatec
SUMMARY:CP-U16Z-Z3D: VK Sever Žatec-SK Španielka
END:VEVENT
BEGIN:VEVENT
UID:65326463-6163-4366-a162-623062326230
DTSTAMP:20260422T221331Z
DESCRIPTION:5/14 BVC Chodov - SK Španielka 0:2 (-21\,-20)
DTSTART;TZID=Europe/Berlin:20251130T100000
DTEND;TZID=Europe/Berlin:20251130T120000
LOCATION:Městská sportovní hala Chodov\, Tyršova 1201 Chodov
SUMMARY:CP-U16Z-Z3D: BVC Chodov-SK Španielka
END:VEVENT
BEGIN:VEVENT
UID:30366532-3432-4334-b863-353364663161
DTSTAMP:20260422T221331Z
DESCRIPTION:6/16 INLAB SK Meteor Praha - SK Španielka 0:2 (-20\,-19)
DTSTART;TZID=Europe/Berlin:20251130T113000
DTEND;TZID=Europe/Berlin:20251130T133000
LOCATION:ZŠ Žernosecká\, Žernosecká 1597 Praha - Kobylisy
SUMMARY:CP-U16Z-Z3D: INLAB SK Meteor Praha-SK Španielka
END:VEVENT
BEGIN:VEVENT
UID:62376232-3533-4631-b039-643435623338
DTSTAMP:20260422T221331Z
DESCRIPTION:1/3 SK Španielka - Volejbal Rudolfov 2:0 (22\,19)
DTSTART;TZID=Europe/Berlin:20260117T100000
DTEND;TZID=Europe/Berlin:20260117T120000
LOCATION:Tělocvična ZŠ\, Španielova 1111 Praha - Řepy
SUMMARY:CP-U16Z4F: SK Španielka-Volejbal Rudolfov
END:VEVENT
BEGIN:VEVENT
UID:64626533-6432-4564-b334-363933343932
DTSTAMP:20260422T221331Z
DESCRIPTION:3/8 SK Španielka - BVC Chodov 2:0 (19\,18)
DTSTART;TZID=Europe/Berlin:20260117T130000
DTEND;TZID=Europe/Berlin:20260117T150000
LOCATION:Tělocvična ZŠ\, Španielova 1111 Praha - Řepy
SUMMARY:CP-U16Z4F: SK Španielka-BVC Chodov
END:VEVENT
BEGIN:VEVENT
UID:38626137-3235-4135-a466-396632316434
DTSTAMP:20260422T221331Z
DESCRIPTION:2/5 Třebíč - SK Španielka 2:0 (11\,18)
DTSTART;TZID=Europe/Berlin:20260117T113000
DTEND;TZID=Europe/Berlin:20260117T133000
LOCATION:hala ZŠ TGM\, Komenského nám. 61 Třebíč - Horka-Domky
SUMMARY:CP-U16Z4F: Třebíč-SK Španielka
END:VEVENT
BEGIN:VEVENT
UID:36643866-6366-4130-b638-306566656562
DTSTAMP:20260422T221331Z
DESCRIPTION:4/11 SK Volejbal Kolín - SK Španielka 2:0 (17\,15)
DTSTART;TZID=Europe/Berlin:20260117T143000
DTEND;TZID=Europe/Berlin:20260117T163000
LOCATION:hala STAV\, SOŠ Kolín\, Brankovická 1417 Kolín - Kolín V
SUMMARY:CP-U16Z4F: SK Volejbal Kolín-SK Španielka
END:VEVENT
BEGIN:VEVENT
UID:61383365-3263-4266-b133-323338623661
DTSTAMP:20260422T221331Z
DESCRIPTION:8/22 VK Lvi Praha - SK Španielka 2:0 (9\,22)
DTSTART;TZID=Europe/Berlin:20260118T103000
DTEND;TZID=Europe/Berlin:20260118T123000
LOCATION:FZŠ Brdičkova\, Brdičkova 1878 Praha - Stodůlky
SUMMARY:CP-U16Z4F: VK Lvi Praha-SK Španielka
END:VEVENT
BEGIN:VEVENT
UID:32323531-3535-4134-b433-343434613332
DTSTAMP:20260422T221331Z
DESCRIPTION:9/23 VSK  Staré Město - SK Španielka 2:0 (20\,13)
DTSTART;TZID=Europe/Berlin:20260118T120000
DTEND;TZID=Europe/Berlin:20260118T140000
LOCATION:Městská sportovní hala Širůch\, Nad Hřištěm 1921 Staré Město
SUMMARY:CP-U16Z4F: VSK  Staré Město-SK Španielka
END:VEVENT
BEGIN:VEVENT
UID:33636330-3033-4661-b536-653037343438
DTSTAMP:20260422T221331Z
DESCRIPTION:10/26 VK Brno - SK Španielka 2:0 (21\,17)
DTSTART;TZID=Europe/Berlin:20260118T133000
DTEND;TZID=Europe/Berlin:20260118T153000
LOCATION:ZŠ Vejrostova\, Vejrostova 1066 Brno - Bystrc
SUMMARY:CP-U16Z4F: VK Brno-SK Španielka
END:VEVENT
BEGIN:VEVENT
UID:33333933-6434-4439-a636-336465363565
DTSTAMP:20260422T221331Z
DESCRIPTION:4/7 SK Španielka - VSK Baník Sokolov 0:2 (-17\,-14)
DTSTART;TZID=Europe/Berlin:20260207T124500
DTEND;TZID=Europe/Berlin:20260207T144500
LOCATION:TJ Slavia Hradec Králové\, Víta Nejedlého 1216 Hradec Králové
SUMMARY:CP-U16Z5F: SK Španielka-VSK Baník Sokolov
END:VEVENT
BEGIN:VEVENT
UID:39376266-3136-4138-a237-613034386336
DTSTAMP:20260422T221331Z
DESCRIPTION:7/14 SK Španielka - TJ Kunice 1:2 (-20\,23\,-10)
DTSTART;TZID=Europe/Berlin:20260207T163000
DTEND;TZID=Europe/Berlin:20260207T183000
LOCATION:TJ Slavia Hradec Králové\, Víta Nejedlého 1216 Hradec Králové
SUMMARY:CP-U16Z5F: SK Španielka-TJ Kunice
END:VEVENT
BEGIN:VEVENT
UID:33653437-6635-4136-b563-666436656565
DTSTAMP:20260422T221331Z
DESCRIPTION:14/28 SK Španielka - SC Braník 2:1 (17\,-22\,13)
DTSTART;TZID=Europe/Berlin:20260208T151500
DTEND;TZID=Europe/Berlin:20260208T171500
LOCATION:TJ Slavia Hradec Králové\, Víta Nejedlého 1216 Hradec Králové
SUMMARY:CP-U16Z5F: SK Španielka-SC Braník
END:VEVENT
BEGIN:VEVENT
UID:35326463-6337-4233-b836-383031373563
DTSTAMP:20260422T221331Z
DESCRIPTION:1/2 VK Lvi Praha - SK Španielka 2:0 (17\,24)
DTSTART;TZID=Europe/Berlin:20260207T090000
DTEND;TZID=Europe/Berlin:20260207T110000
LOCATION:TJ Slavia Hradec Králové\, Víta Nejedlého 1216 Hradec Králové
SUMMARY:CP-U16Z5F: VK Lvi Praha-SK Španielka
END:VEVENT
BEGIN:VEVENT
UID:34303863-3166-4565-a436-366534643537
DTSTAMP:20260422T221331Z
DESCRIPTION:6/11 VK Brno - SK Španielka 2:1 (-23\,20\,14)
DTSTART;TZID=Europe/Berlin:20260207T151500
DTEND;TZID=Europe/Berlin:20260207T171500
LOCATION:TJ Slavia Hradec Králové\, Víta Nejedlého 1216 Hradec Králové
SUMMARY:CP-U16Z5F: VK Brno-SK Španielka
END:VEVENT
BEGIN:VEVENT
UID:32646335-6263-4964-a538-366534346361
DTSTAMP:20260422T221331Z
DESCRIPTION:10/20 KP Brno B - SK Španielka 2:1 (-20\,22\,17)
DTSTART;TZID=Europe/Berlin:20260208T101500
DTEND;TZID=Europe/Berlin:20260208T121500
LOCATION:TJ Slavia Hradec Králové\, Víta Nejedlého 1216 Hradec Králové
SUMMARY:CP-U16Z5F: KP Brno B-SK Španielka
END:VEVENT
BEGIN:VEVENT
UID:36353164-3036-4332-b738-653831376464
DTSTAMP:20260422T221331Z
DESCRIPTION:11/21 SK Volejbal Kolín - SK Španielka 2:0 (23\,15)
DTSTART;TZID=Europe/Berlin:20260208T113000
DTEND;TZID=Europe/Berlin:20260208T133000
LOCATION:TJ Slavia Hradec Králové\, Víta Nejedlého 1216 Hradec Králové
SUMMARY:CP-U16Z5F: SK Volejbal Kolín-SK Španielka
END:VEVENT
BEGIN:VEVENT
UID:33303631-6237-4331-a530-616662316562
DTSTAMP:20260422T221331Z
DESCRIPTION:1/2 SK Španielka - Mikulova B 1:2 (-15\,24\,-7)
DTSTART;TZID=Europe/Berlin:20260328T093000
DTEND;TZID=Europe/Berlin:20260328T113000
LOCATION:Tělocvična ZŠ\, Španielova 1111 Praha - Řepy
SUMMARY:CP-U16Z6J: SK Španielka-Mikulova B
END:VEVENT
BEGIN:VEVENT
UID:34393633-3739-4936-b361-326639626134
DTSTAMP:20260422T221331Z
DESCRIPTION:4/12 SK Španielka - Nová Paka 2:1 (-18\,22\,15)
DTSTART;TZID=Europe/Berlin:20260328T134500
DTEND;TZID=Europe/Berlin:20260328T154500
LOCATION:Tělocvična ZŠ\, Španielova 1111 Praha - Řepy
SUMMARY:CP-U16Z6J: SK Španielka-Nová Paka
END:VEVENT
BEGIN:VEVENT
UID:35643937-3237-4061-b431-396461663365
DTSTAMP:20260422T221331Z
DESCRIPTION:8/21 SK Španielka - Kladno A 0:2 (-21\,-20)
DTSTART;TZID=Europe/Berlin:20260329T094500
DTEND;TZID=Europe/Berlin:20260329T114500
LOCATION:Tělocvična ZŠ\, Španielova 1111 Praha - Řepy
SUMMARY:CP-U16Z6J: SK Španielka-Kladno A
END:VEVENT
BEGIN:VEVENT
UID:31336538-3361-4234-a637-653337333535
DTSTAMP:20260422T221331Z
DESCRIPTION:2/5 Volejbal Přerov - SK Španielka 0:2 (-18\,-17)
DTSTART;TZID=Europe/Berlin:20260328T104500
DTEND;TZID=Europe/Berlin:20260328T124500
LOCATION:Městská sportovní hala\, Petřivalského 2884 Přerov - Přerov I-Měst
 o
SUMMARY:CP-U16Z6J: Volejbal Přerov-SK Španielka
END:VEVENT
BEGIN:VEVENT
UID:31373831-6435-4139-a230-613539383961
DTSTAMP:20260422T221331Z
DESCRIPTION:5/15 SK Dansport - SK Španielka 2:1 (23\,-18\,13)
DTSTART;TZID=Europe/Berlin:20260328T150000
DTEND;TZID=Europe/Berlin:20260328T170000
LOCATION:Sportovní hala Gymnázia Jana Keplera\, Parléřova 118 Praha - Hradč
 any
SUMMARY:CP-U16Z6J: SK Dansport-SK Španielka
END:VEVENT
BEGIN:VEVENT
UID:35376333-3034-4362-b132-326435666631
DTSTAMP:20260422T221331Z
DESCRIPTION:7/19 TJ Sokol Dolní Újezd - SK Španielka 2:1 (-22\,12\,12)
DTSTART;TZID=Europe/Berlin:20260329T083000
DTEND;TZID=Europe/Berlin:20260329T103000
LOCATION:tělocvična Základní školy\,  Dolní Újezd342
SUMMARY:CP-U16Z6J: TJ Sokol Dolní Újezd-SK Španielka
END:VEVENT
BEGIN:VEVENT
UID:34656636-3765-4135-b536-656465643338
DTSTAMP:20260422T221331Z
DESCRIPTION:10/27 VK Brno - SK Španielka 2:0 (19\,22)
DTSTART;TZID=Europe/Berlin:20260329T121500
DTEND;TZID=Europe/Berlin:20260329T141500
LOCATION:ZŠ Vejrostova\, Vejrostova 1066 Brno - Bystrc
SUMMARY:CP-U16Z6J: VK Brno-SK Španielka
END:VEVENT
END:VCALENDAR
