BEGIN:VCALENDAR
VERSION:2.0
PRODID:-//VK Slavia Plzeň89608//NONSGML kigkonsult.se iCalcreator 2.41.80//
CALSCALE:GREGORIAN
UID:31616638-3131-4661-b061-646633346664
BEGIN:VEVENT
UID:64343637-3164-4431-b236-626530306638
DTSTAMP:20260422T205145Z
DESCRIPTION:2/2 Slavia Plzeň - Rokycany C 2:0 (11\,13)
DTSTART;TZID=Europe/Berlin:20251005T094000
DTEND;TZID=Europe/Berlin:20251005T114000
LOCATION:Městská sportovní hala  -  hala 2\, Úslavská 2357 Plzeň - Východní
  Předměstí
SUMMARY:P-U16Z-1D: Slavia Plzeň-Rokycany C
END:VEVENT
BEGIN:VEVENT
UID:66616433-6266-4665-b266-353136316164
DTSTAMP:20260422T205145Z
DESCRIPTION:5/5 Slavia Plzeň - Mirošov 2:0 (15\,17)
DTSTART;TZID=Europe/Berlin:20251005T114000
DTEND;TZID=Europe/Berlin:20251005T134000
LOCATION:Městská sportovní hala  -  hala 2\, Úslavská 2357 Plzeň - Východní
  Předměstí
SUMMARY:P-U16Z-1D: Slavia Plzeň-Mirošov
END:VEVENT
BEGIN:VEVENT
UID:61613535-3736-4537-b661-303231633536
DTSTAMP:20260422T205145Z
DESCRIPTION:8/8 Slavia Plzeň - Město Touškov 2:0 (7\,12)
DTSTART;TZID=Europe/Berlin:20251005T134000
DTEND;TZID=Europe/Berlin:20251005T154000
LOCATION:Městská sportovní hala  -  hala 2\, Úslavská 2357 Plzeň - Východní
  Předměstí
SUMMARY:P-U16Z-1D: Slavia Plzeň-Město Touškov
END:VEVENT
BEGIN:VEVENT
UID:62616133-3632-4134-a266-633136623232
DTSTAMP:20260422T205145Z
DESCRIPTION:10/10 Slavia Plzeň - Vejprnice A 2:0 (16\,13)
DTSTART;TZID=Europe/Berlin:20251005T150000
DTEND;TZID=Europe/Berlin:20251005T170000
LOCATION:Městská sportovní hala  -  hala 2\, Úslavská 2357 Plzeň - Východní
  Předměstí
SUMMARY:P-U16Z-1D: Slavia Plzeň-Vejprnice A
END:VEVENT
BEGIN:VEVENT
UID:39616534-3130-4461-a430-626165653664
DTSTAMP:20260422T205145Z
DESCRIPTION:3/3 Slavia Plzeň - Loko Plzeň   B 2:0 (17\,24)\nPořadatel Klato
 vy
DTSTART;TZID=Europe/Berlin:20251102T110000
DTEND;TZID=Europe/Berlin:20251102T130000
LOCATION:Hala Na Vodojemu\, Studentská 646 Klatovy - Klatovy IV
SUMMARY:P-U16Z-2A: Slavia Plzeň-Loko Plzeň   B
END:VEVENT
BEGIN:VEVENT
UID:65663565-3861-4034-b331-383965323530
DTSTAMP:20260422T205145Z
DESCRIPTION:1/1 Klatovy - Slavia Plzeň 0:2 (-18\,-20)\nPořadatel Klatovy
DTSTART;TZID=Europe/Berlin:20251102T090000
DTEND;TZID=Europe/Berlin:20251102T110000
LOCATION:Hala Na Vodojemu\, Studentská 646 Klatovy - Klatovy IV
SUMMARY:P-U16Z-2A: Klatovy-Slavia Plzeň
END:VEVENT
BEGIN:VEVENT
UID:32333335-6236-4836-a463-386639393236
DTSTAMP:20260422T205145Z
DESCRIPTION:5/5 Loko Plzeň - Slavia Plzeň 2:0 (15\,24)\nPořadatel Klatovy
DTSTART;TZID=Europe/Berlin:20251102T130000
DTEND;TZID=Europe/Berlin:20251102T150000
LOCATION:Hala Na Vodojemu\, Studentská 646 Klatovy - Klatovy IV
SUMMARY:P-U16Z-2A: Loko Plzeň-Slavia Plzeň
END:VEVENT
BEGIN:VEVENT
UID:61333563-6136-4332-b733-623664313861
DTSTAMP:20260422T205145Z
DESCRIPTION:3/3 Slavia Plzeň - Klatovy 2:0 (17\,16)\nPořadatel Rokycany
DTSTART;TZID=Europe/Berlin:20251214T110000
DTEND;TZID=Europe/Berlin:20251214T130000
LOCATION:Hala Gymnázia Rokycany\, Mládežníků 1115 Rokycany - Nové Město
SUMMARY:P-U16Z-3A: Slavia Plzeň-Klatovy
END:VEVENT
BEGIN:VEVENT
UID:66306463-6136-4165-b832-663635653633
DTSTAMP:20260422T205145Z
DESCRIPTION:1/1 Šťáhlavy - Slavia Plzeň 0:2 (-8\,-13)\nPořadatel Rokycany
DTSTART;TZID=Europe/Berlin:20251214T090000
DTEND;TZID=Europe/Berlin:20251214T110000
LOCATION:Hala Gymnázia Rokycany\, Mládežníků 1115 Rokycany - Nové Město
SUMMARY:P-U16Z-3A: Šťáhlavy-Slavia Plzeň
END:VEVENT
BEGIN:VEVENT
UID:39316434-3464-4331-a634-656234636465
DTSTAMP:20260422T205145Z
DESCRIPTION:5/5 Loko Plzeň - Slavia Plzeň 2:1 (-20\,17\,16)\nPořadatel Roky
 cany
DTSTART;TZID=Europe/Berlin:20251214T130000
DTEND;TZID=Europe/Berlin:20251214T150000
LOCATION:Hala Gymnázia Rokycany\, Mládežníků 1115 Rokycany - Nové Město
SUMMARY:P-U16Z-3A: Loko Plzeň-Slavia Plzeň
END:VEVENT
BEGIN:VEVENT
UID:36363132-6531-4963-a633-666331653837
DTSTAMP:20260422T205145Z
DESCRIPTION:3/3 Slavia Plzeň - Rokycany A 2:1 (24\,-23\,14)\nPořadatel Loko
 motiva Plzeň
DTSTART;TZID=Europe/Berlin:20260125T113000
DTEND;TZID=Europe/Berlin:20260125T133000
LOCATION:Sportovní hala - SG Plzeň\, Vejprnická 663 Plzeň - Skvrňany
SUMMARY:P-U16Z-4A: Slavia Plzeň-Rokycany A
END:VEVENT
BEGIN:VEVENT
UID:37333764-3237-4163-b139-303730633733
DTSTAMP:20260422T205145Z
DESCRIPTION:1/1 Loko Plzeň - Slavia Plzeň 2:1 (-17\,18\,10)\nPořadatel Loko
 motiva Plzeň
DTSTART;TZID=Europe/Berlin:20260125T090000
DTEND;TZID=Europe/Berlin:20260125T110000
LOCATION:Sportovní hala - SG Plzeň\, Vejprnická 663 Plzeň - Skvrňany
SUMMARY:P-U16Z-4A: Loko Plzeň-Slavia Plzeň
END:VEVENT
BEGIN:VEVENT
UID:38383763-3438-4465-b565-623162666639
DTSTAMP:20260422T205145Z
DESCRIPTION:5/5 Klatovy - Slavia Plzeň 2:1 (-18\,18\,7)\nPořadatel Lokomoti
 va Plzeň
DTSTART;TZID=Europe/Berlin:20260125T140000
DTEND;TZID=Europe/Berlin:20260125T160000
LOCATION:Sportovní hala - SG Plzeň\, Vejprnická 663 Plzeň - Skvrňany
SUMMARY:P-U16Z-4A: Klatovy-Slavia Plzeň
END:VEVENT
BEGIN:VEVENT
UID:64313633-6434-4665-a261-366132313536
DTSTAMP:20260422T205145Z
DESCRIPTION:1/1 Slavia Plzeň - Loko Plzeň   B 2:0 (22\,13)\nPořadatel Slavi
 a
DTSTART;TZID=Europe/Berlin:20260222T090000
DTEND;TZID=Europe/Berlin:20260222T110000
LOCATION:Tělocvična 15.ZŠ\, Terezie Brzkové 863 Plzeň - Skvrňany
SUMMARY:P-U16Z-5A: Slavia Plzeň-Loko Plzeň   B
END:VEVENT
BEGIN:VEVENT
UID:33633064-6333-4836-a434-613530366664
DTSTAMP:20260422T205145Z
DESCRIPTION:4/4 Slavia Plzeň - Loko Plzeň 0:2 (-18\,-18)\nPořadatel Slavia
DTSTART;TZID=Europe/Berlin:20260222T124500
DTEND;TZID=Europe/Berlin:20260222T144500
LOCATION:Tělocvična 15.ZŠ\, Terezie Brzkové 863 Plzeň - Skvrňany
SUMMARY:P-U16Z-5A: Slavia Plzeň-Loko Plzeň
END:VEVENT
BEGIN:VEVENT
UID:62313839-3166-4231-a664-393737333433
DTSTAMP:20260422T205145Z
DESCRIPTION:6/6 Klatovy - Slavia Plzeň 0:2 (-20\,-21)\nPořadatel Slavia
DTSTART;TZID=Europe/Berlin:20260222T151500
DTEND;TZID=Europe/Berlin:20260222T171500
LOCATION:Tělocvična 15.ZŠ\, Terezie Brzkové 863 Plzeň - Skvrňany
SUMMARY:P-U16Z-5A: Klatovy-Slavia Plzeň
END:VEVENT
BEGIN:VEVENT
UID:64636234-6337-4332-b633-633836316561
DTSTAMP:20260422T205145Z
DESCRIPTION:2/2 Slavia Plzeň - Loko Plzeň   B 2:0 (15\,16)\nPořadatel Klato
 vy
DTSTART;TZID=Europe/Berlin:20260322T101500
DTEND;TZID=Europe/Berlin:20260322T121500
LOCATION:Sportovní hala ZŠ Čapkova\, Čapkova 136 Klatovy - Klatovy V
SUMMARY:P-U16Z-6A: Slavia Plzeň-Loko Plzeň   B
END:VEVENT
BEGIN:VEVENT
UID:39376538-6431-4665-b961-323535313962
DTSTAMP:20260422T205145Z
DESCRIPTION:5/5 Slavia Plzeň - Lhota 2:0 (8\,17)\nPořadatel Klatovy
DTSTART;TZID=Europe/Berlin:20260322T140000
DTEND;TZID=Europe/Berlin:20260322T160000
LOCATION:Sportovní hala ZŠ Čapkova\, Čapkova 136 Klatovy - Klatovy V
SUMMARY:P-U16Z-6A: Slavia Plzeň-Lhota
END:VEVENT
BEGIN:VEVENT
UID:38363933-3237-4965-b637-633431386236
DTSTAMP:20260422T205145Z
DESCRIPTION:4/4 Loko Plzeň - Slavia Plzeň 2:0 (11\,20)\nPořadatel Klatovy
DTSTART;TZID=Europe/Berlin:20260322T124500
DTEND;TZID=Europe/Berlin:20260322T144500
LOCATION:Sportovní hala ZŠ Čapkova\, Čapkova 136 Klatovy - Klatovy V
SUMMARY:P-U16Z-6A: Loko Plzeň-Slavia Plzeň
END:VEVENT
BEGIN:VEVENT
UID:36303837-3962-4463-a263-613330623133
DTSTAMP:20260422T205145Z
DESCRIPTION:2/5 Slavia Plzeň - RudolfovSehnal Ivan
DTSTART;TZID=Europe/Berlin:20260425T104500
DTEND;TZID=Europe/Berlin:20260425T124500
LOCATION:ZŠ Dolní Břežany\, Na Vršku 290 Dolní Břežany
SUMMARY:MCR-U16Z-D: Slavia Plzeň-Rudolfov
END:VEVENT
BEGIN:VEVENT
UID:64306165-3534-4331-b739-633538326163
DTSTAMP:20260422T205145Z
DESCRIPTION:4/11 Slavia Plzeň - BílovecSehnal Ivan
DTSTART;TZID=Europe/Berlin:20260425T131500
DTEND;TZID=Europe/Berlin:20260425T151500
LOCATION:ZŠ Dolní Břežany\, Na Vršku 290 Dolní Břežany
SUMMARY:MCR-U16Z-D: Slavia Plzeň-Bílovec
END:VEVENT
BEGIN:VEVENT
UID:35303134-3564-4566-a165-663661616563
DTSTAMP:20260422T205145Z
DESCRIPTION:8/22 Slavia Plzeň - VoCeSehnal Ivan
DTSTART;TZID=Europe/Berlin:20260426T101500
DTEND;TZID=Europe/Berlin:20260426T121500
LOCATION:ZŠ Dolní Břežany\, Na Vršku 290 Dolní Břežany
SUMMARY:MCR-U16Z-D: Slavia Plzeň-VoCe
END:VEVENT
BEGIN:VEVENT
UID:64613563-3835-4536-b035-656532653863
DTSTAMP:20260422T205145Z
DESCRIPTION:9/23 Slavia Plzeň - KralupyTvrz Jan
DTSTART;TZID=Europe/Berlin:20260426T113000
DTEND;TZID=Europe/Berlin:20260426T133000
LOCATION:ZŠ Dolní Břežany\, Na Vršku 290 Dolní Břežany
SUMMARY:MCR-U16Z-D: Slavia Plzeň-Kralupy
END:VEVENT
BEGIN:VEVENT
UID:62613065-3332-4364-b735-653564353835
DTSTAMP:20260422T205145Z
DESCRIPTION:1/3 Lanškroun - Slavia PlzeňŠlechta Jiří
DTSTART;TZID=Europe/Berlin:20260425T093000
DTEND;TZID=Europe/Berlin:20260425T113000
LOCATION:ZŠ Dolní Břežany\, Na Vršku 290 Dolní Břežany
SUMMARY:MCR-U16Z-D: Lanškroun-Slavia Plzeň
END:VEVENT
BEGIN:VEVENT
UID:37383565-3563-4333-b232-383537303434
DTSTAMP:20260422T205145Z
DESCRIPTION:6/15 Orion - Slavia PlzeňGlogar Andreas
DTSTART;TZID=Europe/Berlin:20260425T154500
DTEND;TZID=Europe/Berlin:20260425T174500
LOCATION:ZŠ Dolní Břežany\, Na Vršku 290 Dolní Břežany
SUMMARY:MCR-U16Z-D: Orion-Slavia Plzeň
END:VEVENT
BEGIN:VEVENT
UID:37643730-6564-4366-b637-633530616539
DTSTAMP:20260422T205145Z
DESCRIPTION:10/28 Liberec - Slavia PlzeňSehnal Ivan
DTSTART;TZID=Europe/Berlin:20260426T124500
DTEND;TZID=Europe/Berlin:20260426T144500
LOCATION:ZŠ Dolní Břežany\, Na Vršku 290 Dolní Břežany
SUMMARY:MCR-U16Z-D: Liberec-Slavia Plzeň
END:VEVENT
END:VCALENDAR
