BEGIN:VCALENDAR
VERSION:2.0
PRODID:-//VK Slavia Plzeň B89609//NONSGML kigkonsult.se iCalcreator 2.41.80//
CALSCALE:GREGORIAN
UID:33386565-3432-4330-a237-383064653933
BEGIN:VEVENT
UID:65613463-3862-4264-a232-643330393262
DTSTAMP:20260422T191311Z
DESCRIPTION:6/6 Slavia Plzeň B - Klatovy 0:2 (-12\,-19)
DTSTART;TZID=Europe/Berlin:20251005T140000
DTEND;TZID=Europe/Berlin:20251005T160000
LOCATION:Městská sportovní hala  -  hala 2\, Úslavská 2357 Plzeň - Východní
  Předměstí
SUMMARY:P-U16Z-1A: Slavia Plzeň B-Klatovy
END:VEVENT
BEGIN:VEVENT
UID:35343839-3536-4934-b161-643864616161
DTSTAMP:20260422T191311Z
DESCRIPTION:2/2 Letná - Slavia Plzeň B 0:2 (-12\,-9)
DTSTART;TZID=Europe/Berlin:20251005T100000
DTEND;TZID=Europe/Berlin:20251005T120000
LOCATION:Městská sportovní hala  -  hala 2\, Úslavská 2357 Plzeň - Východní
  Předměstí
SUMMARY:P-U16Z-1A: Letná-Slavia Plzeň B
END:VEVENT
BEGIN:VEVENT
UID:34656339-3863-4231-b264-336130396135
DTSTAMP:20260422T191311Z
DESCRIPTION:3/3 Loko Plzeň    C - Slavia Plzeň B 0:2 (-9\,-14)
DTSTART;TZID=Europe/Berlin:20251005T110000
DTEND;TZID=Europe/Berlin:20251005T130000
LOCATION:Městská sportovní hala  -  hala 2\, Úslavská 2357 Plzeň - Východní
  Předměstí
SUMMARY:P-U16Z-1A: Loko Plzeň    C-Slavia Plzeň B
END:VEVENT
BEGIN:VEVENT
UID:35313839-6435-4532-b963-396434316463
DTSTAMP:20260422T191311Z
DESCRIPTION:6/6 Slavia Plzeň B - Šťáhlavy 0:2 (-17\,-18)\nPořadatel Šťáhlav
 y
DTSTART;TZID=Europe/Berlin:20251102T140000
DTEND;TZID=Europe/Berlin:20251102T160000
LOCATION:Sportovní hala Šťáhlavy\, U hřiště 525 Šťáhlavy
SUMMARY:P-U16Z-2B: Slavia Plzeň B-Šťáhlavy
END:VEVENT
BEGIN:VEVENT
UID:36333863-3865-4435-a162-643135626236
DTSTAMP:20260422T191311Z
DESCRIPTION:2/2 Lhota - Slavia Plzeň B 2:1 (21\,-22\,5)\nPořadatel Šťáhlavy
DTSTART;TZID=Europe/Berlin:20251102T100000
DTEND;TZID=Europe/Berlin:20251102T120000
LOCATION:Sportovní hala Šťáhlavy\, U hřiště 525 Šťáhlavy
SUMMARY:P-U16Z-2B: Lhota-Slavia Plzeň B
END:VEVENT
BEGIN:VEVENT
UID:62386362-3963-4939-b464-623762313033
DTSTAMP:20260422T191311Z
DESCRIPTION:3/3 Vejprnice A - Slavia Plzeň B 2:0 (17\,18)\nPořadatel Šťáhla
 vy
DTSTART;TZID=Europe/Berlin:20251102T110000
DTEND;TZID=Europe/Berlin:20251102T130000
LOCATION:Sportovní hala Šťáhlavy\, U hřiště 525 Šťáhlavy
SUMMARY:P-U16Z-2B: Vejprnice A-Slavia Plzeň B
END:VEVENT
BEGIN:VEVENT
UID:36336130-3763-4463-b164-633632376164
DTSTAMP:20260422T191311Z
DESCRIPTION:3/3 Slavia Plzeň B - Loko Plzeň    C 2:0 (15\,7)\nPořadatel Rok
 ycany
DTSTART;TZID=Europe/Berlin:20251214T110000
DTEND;TZID=Europe/Berlin:20251214T130000
LOCATION:Hala Gymnázia Rokycany\, Mládežníků 1115 Rokycany - Nové Město
SUMMARY:P-U16Z-3C: Slavia Plzeň B-Loko Plzeň    C
END:VEVENT
BEGIN:VEVENT
UID:65656137-6533-4432-b439-663165646363
DTSTAMP:20260422T191311Z
DESCRIPTION:1/1 Rokycany C - Slavia Plzeň B 0:2 (-11\,-22)\nPořadatel Rokyc
 any
DTSTART;TZID=Europe/Berlin:20251214T090000
DTEND;TZID=Europe/Berlin:20251214T110000
LOCATION:Hala Gymnázia Rokycany\, Mládežníků 1115 Rokycany - Nové Město
SUMMARY:P-U16Z-3C: Rokycany C-Slavia Plzeň B
END:VEVENT
BEGIN:VEVENT
UID:39366638-3834-4232-b431-623637633462
DTSTAMP:20260422T191311Z
DESCRIPTION:5/5 Rokycany B - Slavia Plzeň B 0:2 (-15\,-17)\nPořadatel Rokyc
 any
DTSTART;TZID=Europe/Berlin:20251214T130000
DTEND;TZID=Europe/Berlin:20251214T150000
LOCATION:Hala Gymnázia Rokycany\, Mládežníků 1115 Rokycany - Nové Město
SUMMARY:P-U16Z-3C: Rokycany B-Slavia Plzeň B
END:VEVENT
BEGIN:VEVENT
UID:66616163-3531-4965-a130-383533633332
DTSTAMP:20260422T191311Z
DESCRIPTION:3/3 Slavia Plzeň B - Loko Plzeň   B 0:2 (-11\,-17)\nPořadatel L
 okomotiva Plzeň
DTSTART;TZID=Europe/Berlin:20260125T113000
DTEND;TZID=Europe/Berlin:20260125T133000
LOCATION:Sportovní hala - SG Plzeň\, Vejprnická 663 Plzeň - Skvrňany
SUMMARY:P-U16Z-4B: Slavia Plzeň B-Loko Plzeň   B
END:VEVENT
BEGIN:VEVENT
UID:32363962-3238-4933-a564-303765356261
DTSTAMP:20260422T191311Z
DESCRIPTION:1/1 Šťáhlavy - Slavia Plzeň B 2:1 (11\,-23\,4)\nPořadatel Lokom
 otiva Plzeň
DTSTART;TZID=Europe/Berlin:20260125T090000
DTEND;TZID=Europe/Berlin:20260125T110000
LOCATION:Sportovní hala - SG Plzeň\, Vejprnická 663 Plzeň - Skvrňany
SUMMARY:P-U16Z-4B: Šťáhlavy-Slavia Plzeň B
END:VEVENT
BEGIN:VEVENT
UID:33383963-3361-4636-b838-346563386161
DTSTAMP:20260422T191311Z
DESCRIPTION:5/5 Lhota - Slavia Plzeň B 2:0 (16\,23)\nPořadatel Lokomotiva P
 lzeň
DTSTART;TZID=Europe/Berlin:20260125T140000
DTEND;TZID=Europe/Berlin:20260125T160000
LOCATION:Sportovní hala - SG Plzeň\, Vejprnická 663 Plzeň - Skvrňany
SUMMARY:P-U16Z-4B: Lhota-Slavia Plzeň B
END:VEVENT
BEGIN:VEVENT
UID:62636230-3933-4234-b162-303362353030
DTSTAMP:20260422T191311Z
DESCRIPTION:6/6 Slavia Plzeň B - Klatovy B 2:0 (19\,17)\nPořadatel Klatovy
DTSTART;TZID=Europe/Berlin:20260222T140000
DTEND;TZID=Europe/Berlin:20260222T160000
LOCATION:Sportovní hala ZŠ Čapkova\, Čapkova 136 Klatovy - Klatovy V
SUMMARY:P-U16Z-5C: Slavia Plzeň B-Klatovy B
END:VEVENT
BEGIN:VEVENT
UID:33346634-3233-4736-a634-333134613866
DTSTAMP:20260422T191311Z
DESCRIPTION:2/2 Rokycany C - Slavia Plzeň B 2:1 (18\,-17\,12)\nPořadatel Kl
 atovy
DTSTART;TZID=Europe/Berlin:20260222T090000
DTEND;TZID=Europe/Berlin:20260222T110000
LOCATION:Sportovní hala ZŠ Čapkova\, Čapkova 136 Klatovy - Klatovy V
SUMMARY:P-U16Z-5C: Rokycany C-Slavia Plzeň B
END:VEVENT
BEGIN:VEVENT
UID:65613333-6531-4635-b363-353865363066
DTSTAMP:20260422T191311Z
DESCRIPTION:3/3 Vejprnice B - Slavia Plzeň B 0:2 (-11\,-18)\nPořadatel Klat
 ovy
DTSTART;TZID=Europe/Berlin:20260222T101500
DTEND;TZID=Europe/Berlin:20260222T121500
LOCATION:Sportovní hala ZŠ Čapkova\, Čapkova 136 Klatovy - Klatovy V
SUMMARY:P-U16Z-5C: Vejprnice B-Slavia Plzeň B
END:VEVENT
BEGIN:VEVENT
UID:39353462-3936-4865-b235-356236306361
DTSTAMP:20260422T191311Z
DESCRIPTION:3/3 Slavia Plzeň B - Rokycany A 1:2 (21\,-19\,-10)\nPořadatel K
 latovy
DTSTART;TZID=Europe/Berlin:20260322T113000
DTEND;TZID=Europe/Berlin:20260322T133000
LOCATION:Sportovní hala ZŠ Čapkova\, Čapkova 136 Klatovy - Klatovy V
SUMMARY:P-U16Z-6B: Slavia Plzeň B-Rokycany A
END:VEVENT
BEGIN:VEVENT
UID:64613833-3565-4333-a336-313731663739
DTSTAMP:20260422T191311Z
DESCRIPTION:1/1 Klatovy - Slavia Plzeň B 2:0 (9\,19)\nPořadatel Klatovy
DTSTART;TZID=Europe/Berlin:20260322T090000
DTEND;TZID=Europe/Berlin:20260322T110000
LOCATION:Sportovní hala ZŠ Čapkova\, Čapkova 136 Klatovy - Klatovy V
SUMMARY:P-U16Z-6B: Klatovy-Slavia Plzeň B
END:VEVENT
BEGIN:VEVENT
UID:61336436-3362-4533-b233-646261616636
DTSTAMP:20260422T191311Z
DESCRIPTION:5/5 Šťáhlavy - Slavia Plzeň B 1:2 (18\,-17\,-4)\nPořadatel Klat
 ovy
DTSTART;TZID=Europe/Berlin:20260322T140000
DTEND;TZID=Europe/Berlin:20260322T160000
LOCATION:Sportovní hala ZŠ Čapkova\, Čapkova 136 Klatovy - Klatovy V
SUMMARY:P-U16Z-6B: Šťáhlavy-Slavia Plzeň B
END:VEVENT
END:VCALENDAR
