BEGIN:VCALENDAR
VERSION:2.0
PRODID:-//TJ Sokol Vejprnice A89618//NONSGML kigkonsult.se iCalcreator 2.41.80//
CALSCALE:GREGORIAN
UID:64346534-3764-4236-b338-613632633134
BEGIN:VEVENT
UID:35396536-3037-4265-b833-316638373863
DTSTAMP:20260422T203358Z
DESCRIPTION:1/1 Vejprnice A - Město Touškov 2:0 (7\,11)
DTSTART;TZID=Europe/Berlin:20251005T090000
DTEND;TZID=Europe/Berlin:20251005T110000
LOCATION:Městská sportovní hala  -  hala 2\, Úslavská 2357 Plzeň - Východní
  Předměstí
SUMMARY:P-U16Z-1D: Vejprnice A-Město Touškov
END:VEVENT
BEGIN:VEVENT
UID:62313461-3361-4239-a437-636633643536
DTSTAMP:20260422T203358Z
DESCRIPTION:4/4 Vejprnice A - Rokycany C 2:1 (23\,-25\,12)
DTSTART;TZID=Europe/Berlin:20251005T110000
DTEND;TZID=Europe/Berlin:20251005T130000
LOCATION:Městská sportovní hala  -  hala 2\, Úslavská 2357 Plzeň - Východní
  Předměstí
SUMMARY:P-U16Z-1D: Vejprnice A-Rokycany C
END:VEVENT
BEGIN:VEVENT
UID:36613638-6261-4865-a231-333538636139
DTSTAMP:20260422T203358Z
DESCRIPTION:7/7 Vejprnice A - Mirošov 2:0 (17\,11)
DTSTART;TZID=Europe/Berlin:20251005T130000
DTEND;TZID=Europe/Berlin:20251005T150000
LOCATION:Městská sportovní hala  -  hala 2\, Úslavská 2357 Plzeň - Východní
  Předměstí
SUMMARY:P-U16Z-1D: Vejprnice A-Mirošov
END:VEVENT
BEGIN:VEVENT
UID:61323137-6633-4335-a663-666230303162
DTSTAMP:20260422T203358Z
DESCRIPTION:10/10 Slavia Plzeň - Vejprnice A 2:0 (16\,13)
DTSTART;TZID=Europe/Berlin:20251005T150000
DTEND;TZID=Europe/Berlin:20251005T170000
LOCATION:Městská sportovní hala  -  hala 2\, Úslavská 2357 Plzeň - Východní
  Předměstí
SUMMARY:P-U16Z-1D: Slavia Plzeň-Vejprnice A
END:VEVENT
BEGIN:VEVENT
UID:66613532-3261-4332-b565-326464663837
DTSTAMP:20260422T203358Z
DESCRIPTION:3/3 Vejprnice A - Slavia Plzeň B 2:0 (17\,18)\nPořadatel Šťáhla
 vy
DTSTART;TZID=Europe/Berlin:20251102T110000
DTEND;TZID=Europe/Berlin:20251102T130000
LOCATION:Sportovní hala Šťáhlavy\, U hřiště 525 Šťáhlavy
SUMMARY:P-U16Z-2B: Vejprnice A-Slavia Plzeň B
END:VEVENT
BEGIN:VEVENT
UID:66376561-6638-4330-b436-646162393036
DTSTAMP:20260422T203358Z
DESCRIPTION:1/1 Šťáhlavy - Vejprnice A 1:2 (-19\,14\,-14)\nPořadatel Šťáhla
 vy
DTSTART;TZID=Europe/Berlin:20251102T090000
DTEND;TZID=Europe/Berlin:20251102T110000
LOCATION:Sportovní hala Šťáhlavy\, U hřiště 525 Šťáhlavy
SUMMARY:P-U16Z-2B: Šťáhlavy-Vejprnice A
END:VEVENT
BEGIN:VEVENT
UID:37323266-3662-4664-b065-373232386339
DTSTAMP:20260422T203358Z
DESCRIPTION:5/5 Lhota - Vejprnice A 2:1 (12\,-23\,11)\nPořadatel Šťáhlavy
DTSTART;TZID=Europe/Berlin:20251102T130000
DTEND;TZID=Europe/Berlin:20251102T150000
LOCATION:Sportovní hala Šťáhlavy\, U hřiště 525 Šťáhlavy
SUMMARY:P-U16Z-2B: Lhota-Vejprnice A
END:VEVENT
BEGIN:VEVENT
UID:32353531-3964-4836-b634-393161313035
DTSTAMP:20260422T203358Z
DESCRIPTION:3/3 Vejprnice A - Loko Plzeň   B 0:2 (-14\,-8)\nPořadatel Rokyc
 any
DTSTART;TZID=Europe/Berlin:20251214T110000
DTEND;TZID=Europe/Berlin:20251214T130000
LOCATION:Tělocvična ZŠ Vejprnice\, Jakuba Husníka 527 Vejprnice
SUMMARY:P-U16Z-3B: Vejprnice A-Loko Plzeň   B
END:VEVENT
BEGIN:VEVENT
UID:36393536-3030-4365-a530-646637396464
DTSTAMP:20260422T203358Z
DESCRIPTION:1/1 Rokycany A - Vejprnice A 2:0 (12\,14)\nPořadatel Rokycany
DTSTART;TZID=Europe/Berlin:20251214T090000
DTEND;TZID=Europe/Berlin:20251214T110000
LOCATION:Hala Gymnázia Rokycany\, Mládežníků 1115 Rokycany - Nové Město
SUMMARY:P-U16Z-3B: Rokycany A-Vejprnice A
END:VEVENT
BEGIN:VEVENT
UID:37626364-3435-4161-a433-373636303935
DTSTAMP:20260422T203358Z
DESCRIPTION:5/5 Lhota - Vejprnice A 2:1 (-20\,20\,12)\nPořadatel Rokycany
DTSTART;TZID=Europe/Berlin:20251214T130000
DTEND;TZID=Europe/Berlin:20251214T150000
LOCATION:Sokolovna Lhota\, Kolem Zahrad 558 Plzeň - Lhota
SUMMARY:P-U16Z-3B: Lhota-Vejprnice A
END:VEVENT
BEGIN:VEVENT
UID:66323139-3062-4630-b431-373563326139
DTSTAMP:20260422T203358Z
DESCRIPTION:1/1 Vejprnice A - Rokycany B 2:1 (21\,-14\,7)\nPořadatel Vejprn
 ice
DTSTART;TZID=Europe/Berlin:20260125T090000
DTEND;TZID=Europe/Berlin:20260125T110000
LOCATION:Tělocvična ZŠ Vejprnice\, Jakuba Husníka 527 Vejprnice
SUMMARY:P-U16Z-4C: Vejprnice A-Rokycany B
END:VEVENT
BEGIN:VEVENT
UID:36336366-3437-4933-b135-313533313634
DTSTAMP:20260422T203358Z
DESCRIPTION:4/4 Vejprnice A - Vejprnice B 2:0 (14\,23)\nPořadatel Vejprnice
DTSTART;TZID=Europe/Berlin:20260125T124500
DTEND;TZID=Europe/Berlin:20260125T144500
LOCATION:Tělocvična ZŠ Vejprnice\, Jakuba Husníka 527 Vejprnice
SUMMARY:P-U16Z-4C: Vejprnice A-Vejprnice B
END:VEVENT
BEGIN:VEVENT
UID:30373036-3162-4738-a264-346233393434
DTSTAMP:20260422T203358Z
DESCRIPTION:6/6 Rokycany C - Vejprnice A 1:2 (19\,-16\,-4)\nPořadatel Vejpr
 nice
DTSTART;TZID=Europe/Berlin:20260125T151500
DTEND;TZID=Europe/Berlin:20260125T171500
LOCATION:Tělocvična ZŠ Vejprnice\, Jakuba Husníka 527 Vejprnice
SUMMARY:P-U16Z-4C: Rokycany C-Vejprnice A
END:VEVENT
BEGIN:VEVENT
UID:38386538-3730-4035-a664-356337316166
DTSTAMP:20260422T203358Z
DESCRIPTION:3/3 Vejprnice A - Rokycany A 1:2 (19\,-19\,-11)\nPořadatel Klat
 ovy
DTSTART;TZID=Europe/Berlin:20260222T113000
DTEND;TZID=Europe/Berlin:20260222T133000
LOCATION:Sportovní hala ZŠ Čapkova\, Čapkova 136 Klatovy - Klatovy V
SUMMARY:P-U16Z-5B: Vejprnice A-Rokycany A
END:VEVENT
BEGIN:VEVENT
UID:34346562-3466-4966-a336-383838636232
DTSTAMP:20260422T203358Z
DESCRIPTION:1/1 Lhota - Vejprnice A 2:0 (14\,6)\nPořadatel Klatovy
DTSTART;TZID=Europe/Berlin:20260222T090000
DTEND;TZID=Europe/Berlin:20260222T110000
LOCATION:Sportovní hala ZŠ Čapkova\, Čapkova 136 Klatovy - Klatovy V
SUMMARY:P-U16Z-5B: Lhota-Vejprnice A
END:VEVENT
BEGIN:VEVENT
UID:36363636-3262-4564-b337-383362653961
DTSTAMP:20260422T203358Z
DESCRIPTION:5/5 Šťáhlavy - Vejprnice A 1:2 (-15\,19\,-3)\nPořadatel Klatovy
DTSTART;TZID=Europe/Berlin:20260222T140000
DTEND;TZID=Europe/Berlin:20260222T160000
LOCATION:Sportovní hala ZŠ Čapkova\, Čapkova 136 Klatovy - Klatovy V
SUMMARY:P-U16Z-5B: Šťáhlavy-Vejprnice A
END:VEVENT
BEGIN:VEVENT
UID:63343861-6565-4461-b535-646535353332
DTSTAMP:20260422T203358Z
DESCRIPTION:2/2 Vejprnice A - Letná 2:1 (-23\,14\,23)\nPořadatel Klatovy
DTSTART;TZID=Europe/Berlin:20260322T110000
DTEND;TZID=Europe/Berlin:20260322T130000
LOCATION:Sportovní hala ZŠ Čapkova\, Čapkova 136 Klatovy - Klatovy V
SUMMARY:P-U16Z-6C: Vejprnice A-Letná
END:VEVENT
BEGIN:VEVENT
UID:61333230-6539-4333-a262-313632313562
DTSTAMP:20260422T203358Z
DESCRIPTION:1/1 Klatovy B - Vejprnice A 1:2 (14\,-18\,-18)\nPořadatel Klato
 vy
DTSTART;TZID=Europe/Berlin:20260322T090000
DTEND;TZID=Europe/Berlin:20260322T110000
LOCATION:Sportovní hala ZŠ Čapkova\, Čapkova 136 Klatovy - Klatovy V
SUMMARY:P-U16Z-6C: Klatovy B-Vejprnice A
END:VEVENT
END:VCALENDAR
