BEGIN:VCALENDAR
VERSION:2.0
PRODID:-//TJ Sokol Mirošov89621//NONSGML kigkonsult.se iCalcreator 2.41.80//
CALSCALE:GREGORIAN
UID:33643062-3533-4232-a339-616563656464
BEGIN:VEVENT
UID:33663435-6137-4337-a666-366537623463
DTSTAMP:20260423T005259Z
DESCRIPTION:3/3 Mirošov - Město Touškov 0:2 (-24\,-21)
DTSTART;TZID=Europe/Berlin:20251005T102000
DTEND;TZID=Europe/Berlin:20251005T122000
LOCATION:Městská sportovní hala  -  hala 2\, Úslavská 2357 Plzeň - Východní
  Předměstí
SUMMARY:P-U16Z-1D: Mirošov-Město Touškov
END:VEVENT
BEGIN:VEVENT
UID:66656665-6237-4365-b037-366435386535
DTSTAMP:20260423T005259Z
DESCRIPTION:9/9 Mirošov - Rokycany C 0:2 (-9\,-23)
DTSTART;TZID=Europe/Berlin:20251005T142000
DTEND;TZID=Europe/Berlin:20251005T162000
LOCATION:Městská sportovní hala  -  hala 2\, Úslavská 2357 Plzeň - Východní
  Předměstí
SUMMARY:P-U16Z-1D: Mirošov-Rokycany C
END:VEVENT
BEGIN:VEVENT
UID:62313762-3863-4334-b835-316561303663
DTSTAMP:20260423T005259Z
DESCRIPTION:5/5 Slavia Plzeň - Mirošov 2:0 (15\,17)
DTSTART;TZID=Europe/Berlin:20251005T114000
DTEND;TZID=Europe/Berlin:20251005T134000
LOCATION:Městská sportovní hala  -  hala 2\, Úslavská 2357 Plzeň - Východní
  Předměstí
SUMMARY:P-U16Z-1D: Slavia Plzeň-Mirošov
END:VEVENT
BEGIN:VEVENT
UID:63303362-3833-4339-b664-343464303439
DTSTAMP:20260423T005259Z
DESCRIPTION:7/7 Vejprnice A - Mirošov 2:0 (17\,11)
DTSTART;TZID=Europe/Berlin:20251005T130000
DTEND;TZID=Europe/Berlin:20251005T150000
LOCATION:Městská sportovní hala  -  hala 2\, Úslavská 2357 Plzeň - Východní
  Předměstí
SUMMARY:P-U16Z-1D: Vejprnice A-Mirošov
END:VEVENT
BEGIN:VEVENT
UID:32386637-3635-4639-b936-336438663364
DTSTAMP:20260423T005259Z
DESCRIPTION:1/1 Mirošov - Město Touškov 0:2 (-13\,-24)\nPořadatel Šťáhlavy
DTSTART;TZID=Europe/Berlin:20251102T090000
DTEND;TZID=Europe/Berlin:20251102T110000
LOCATION:Sportovní hala Šťáhlavy\, U hřiště 525 Šťáhlavy
SUMMARY:P-U16Z-2D: Mirošov-Město Touškov
END:VEVENT
BEGIN:VEVENT
UID:61343164-3562-4564-b763-346339656562
DTSTAMP:20260423T005259Z
DESCRIPTION:5/5 Mirošov - Klatovy B 0:2 (-16\,-13)\nPořadatel Šťáhlavy
DTSTART;TZID=Europe/Berlin:20251102T120000
DTEND;TZID=Europe/Berlin:20251102T140000
LOCATION:Sportovní hala Šťáhlavy\, U hřiště 525 Šťáhlavy
SUMMARY:P-U16Z-2D: Mirošov-Klatovy B
END:VEVENT
BEGIN:VEVENT
UID:37343237-6334-4861-b761-633132386232
DTSTAMP:20260423T005259Z
DESCRIPTION:7/7 Mirošov - Vejprnice B 0:2 (-22\,-21)\nPořadatel Šťáhlavy
DTSTART;TZID=Europe/Berlin:20251102T140000
DTEND;TZID=Europe/Berlin:20251102T160000
LOCATION:Sportovní hala Šťáhlavy\, U hřiště 525 Šťáhlavy
SUMMARY:P-U16Z-2D: Mirošov-Vejprnice B
END:VEVENT
BEGIN:VEVENT
UID:30373730-3333-4439-b866-623433623266
DTSTAMP:20260423T005259Z
DESCRIPTION:10/10 Letná - Mirošov 2:0 (13\,22)\nPořadatel Šťáhlavy
DTSTART;TZID=Europe/Berlin:20251102T160000
DTEND;TZID=Europe/Berlin:20251102T180000
LOCATION:Sportovní hala Šťáhlavy\, U hřiště 525 Šťáhlavy
SUMMARY:P-U16Z-2D: Letná-Mirošov
END:VEVENT
BEGIN:VEVENT
UID:63393434-6266-4165-b833-613766326465
DTSTAMP:20260423T005259Z
DESCRIPTION:3/3 Mirošov - Město Touškov 0:2 (-17\,-22)\nPořadatel Vejprnice
DTSTART;TZID=Europe/Berlin:20251214T110000
DTEND;TZID=Europe/Berlin:20251214T130000
LOCATION:Tělocvična ZŠ Vejprnice\, Jakuba Husníka 527 Vejprnice
SUMMARY:P-U16Z-3D: Mirošov-Město Touškov
END:VEVENT
BEGIN:VEVENT
UID:64643538-3963-4437-b536-306437366335
DTSTAMP:20260423T005259Z
DESCRIPTION:1/1 Vejprnice B - Mirošov 2:0 (7\,6)\nPořadatel Vejprnice
DTSTART;TZID=Europe/Berlin:20251214T090000
DTEND;TZID=Europe/Berlin:20251214T110000
LOCATION:Tělocvična ZŠ Vejprnice\, Jakuba Husníka 527 Vejprnice
SUMMARY:P-U16Z-3D: Vejprnice B-Mirošov
END:VEVENT
BEGIN:VEVENT
UID:33643138-6563-4131-a164-663636323436
DTSTAMP:20260423T005259Z
DESCRIPTION:5/5 Letná - Mirošov 2:0 (13\,20)\nPořadatel Vejprnice
DTSTART;TZID=Europe/Berlin:20251214T130000
DTEND;TZID=Europe/Berlin:20251214T150000
LOCATION:Tělocvična ZŠ Vejprnice\, Jakuba Husníka 527 Vejprnice
SUMMARY:P-U16Z-3D: Letná-Mirošov
END:VEVENT
BEGIN:VEVENT
UID:61373263-6462-4034-b062-313432303539
DTSTAMP:20260423T005259Z
DESCRIPTION:5/5 Mirošov - Klatovy B 0:2 (-18\,-12)\nPořadatel Touškov
DTSTART;TZID=Europe/Berlin:20260125T130000
DTEND;TZID=Europe/Berlin:20260125T150000
LOCATION:Sportovní hala Město Touškov\, Čemínská 296 Město Touškov
SUMMARY:P-U16Z-4D: Mirošov-Klatovy B
END:VEVENT
BEGIN:VEVENT
UID:30376234-6635-4332-b762-363034646433
DTSTAMP:20260423T005259Z
DESCRIPTION:7/7 Mirošov - Město Touškov 2:0 (15\,11)\nPořadatel Touškov
DTSTART;TZID=Europe/Berlin:20260125T150000
DTEND;TZID=Europe/Berlin:20260125T170000
LOCATION:Sportovní hala Město Touškov\, Čemínská 296 Město Touškov
SUMMARY:P-U16Z-4D: Mirošov-Město Touškov
END:VEVENT
BEGIN:VEVENT
UID:36653934-3030-4265-a164-383164633030
DTSTAMP:20260423T005259Z
DESCRIPTION:2/2 Letná - Mirošov 2:0 (12\,16)\nPořadatel Touškov
DTSTART;TZID=Europe/Berlin:20260125T100000
DTEND;TZID=Europe/Berlin:20260125T120000
LOCATION:Sportovní hala Město Touškov\, Čemínská 296 Město Touškov
SUMMARY:P-U16Z-4D: Letná-Mirošov
END:VEVENT
BEGIN:VEVENT
UID:33633430-3566-4461-b537-643963333734
DTSTAMP:20260423T005259Z
DESCRIPTION:10/10 Loko Plzeň    C - Mirošov 2:1 (-20\,23\,13)\nPořadatel To
 uškov
DTSTART;TZID=Europe/Berlin:20260125T180000
DTEND;TZID=Europe/Berlin:20260125T200000
LOCATION:Sportovní hala Město Touškov\, Čemínská 296 Město Touškov
SUMMARY:P-U16Z-4D: Loko Plzeň    C-Mirošov
END:VEVENT
BEGIN:VEVENT
UID:34663832-3131-4466-b731-383238383733
DTSTAMP:20260423T005259Z
DESCRIPTION:3/3 Mirošov - Loko Plzeň    C 0:2 (-17\,-14)\nPořadatel Letná
DTSTART;TZID=Europe/Berlin:20260222T104500
DTEND;TZID=Europe/Berlin:20260222T124500
LOCATION:Tělocvična 28. ZŠ Plzeň\, Rodinná 965 Plzeň - Lobzy
SUMMARY:P-U16Z-5D: Mirošov-Loko Plzeň    C
END:VEVENT
BEGIN:VEVENT
UID:64303731-6436-4835-a164-366663653836
DTSTAMP:20260423T005259Z
DESCRIPTION:9/9 Mirošov - Rokycany B 0:2 (-19\,-11)\nPořadatel Letná
DTSTART;TZID=Europe/Berlin:20260222T164500
DTEND;TZID=Europe/Berlin:20260222T184500
LOCATION:Tělocvična 28. ZŠ Plzeň\, Rodinná 965 Plzeň - Lobzy
SUMMARY:P-U16Z-5D: Mirošov-Rokycany B
END:VEVENT
BEGIN:VEVENT
UID:32366463-3439-4138-b266-336332363665
DTSTAMP:20260423T005259Z
DESCRIPTION:5/5 Město Touškov - Mirošov 1:2 (-18\,18\,-8)\nPořadatel Letná
DTSTART;TZID=Europe/Berlin:20260222T124500
DTEND;TZID=Europe/Berlin:20260222T144500
LOCATION:Tělocvična 28. ZŠ Plzeň\, Rodinná 965 Plzeň - Lobzy
SUMMARY:P-U16Z-5D: Město Touškov-Mirošov
END:VEVENT
BEGIN:VEVENT
UID:62383333-6233-4064-b833-346538333061
DTSTAMP:20260423T005259Z
DESCRIPTION:7/7 Letná - Mirošov 1:2 (14\,-16\,-15)\nPořadatel Letná
DTSTART;TZID=Europe/Berlin:20260222T144500
DTEND;TZID=Europe/Berlin:20260222T164500
LOCATION:Tělocvična 28. ZŠ Plzeň\, Rodinná 965 Plzeň - Lobzy
SUMMARY:P-U16Z-5D: Letná-Mirošov
END:VEVENT
BEGIN:VEVENT
UID:64666632-3231-4565-b539-646638373862
DTSTAMP:20260423T005259Z
DESCRIPTION:1/1 Mirošov - Rokycany B 0:2 (-19\,-19)\nPořadatel Mirošov
DTSTART;TZID=Europe/Berlin:20260322T090000
DTEND;TZID=Europe/Berlin:20260322T110000
LOCATION:Sokolovna Mirošov\, Skořická 86 Mirošov
SUMMARY:P-U16Z-6D: Mirošov-Rokycany B
END:VEVENT
BEGIN:VEVENT
UID:64653530-3165-4930-a532-363939613138
DTSTAMP:20260423T005259Z
DESCRIPTION:4/4 Mirošov - Vejprnice B 0:2 (-12\,-13)\nPořadatel Mirošov
DTSTART;TZID=Europe/Berlin:20260322T124500
DTEND;TZID=Europe/Berlin:20260322T144500
LOCATION:Sokolovna Mirošov\, Skořická 86 Mirošov
SUMMARY:P-U16Z-6D: Mirošov-Vejprnice B
END:VEVENT
BEGIN:VEVENT
UID:63386637-3334-4638-b836-343466333731
DTSTAMP:20260423T005259Z
DESCRIPTION:6/6 Město Touškov - Mirošov 2:0 (13\,4)\nPořadatel Mirošov
DTSTART;TZID=Europe/Berlin:20260322T151500
DTEND;TZID=Europe/Berlin:20260322T171500
LOCATION:Sokolovna Mirošov\, Skořická 86 Mirošov
SUMMARY:P-U16Z-6D: Město Touškov-Mirošov
END:VEVENT
END:VCALENDAR
