BEGIN:VCALENDAR
VERSION:2.0
PRODID:-//SK Volejbal Klatovy B U1489625//NONSGML kigkonsult.se iCalcreator 2.41.80//
CALSCALE:GREGORIAN
UID:63653462-6334-4365-b238-666166306236
BEGIN:VEVENT
UID:64626637-3432-4062-b433-656233333363
DTSTAMP:20260423T044358Z
DESCRIPTION:6/6 Klatovy A U15 - Klatovy B U14\nPořadatel Klatovy
DTSTART;TZID=Europe/Berlin:20260301T090000
DTEND;TZID=Europe/Berlin:20260301T110000
LOCATION:Sportovní hala ZŠ Čapkova\, Čapkova 136 Klatovy - Klatovy V
SUMMARY:P-U14Z6: Klatovy A U15-Klatovy B U14
END:VEVENT
BEGIN:VEVENT
UID:65373866-3664-4132-b664-653737656666
DTSTAMP:20260423T044358Z
DESCRIPTION:2/2 Klatovy B U14 - Lhota B U14 2:0 (9\,3)
DTSTART;TZID=Europe/Berlin:20250921T100000
DTEND;TZID=Europe/Berlin:20250921T120000
LOCATION:Městská sportovní hala  -  hala 2\, Úslavská 2357 Plzeň - Východní
  Předměstí
SUMMARY:P-U14Z6-1C: Klatovy B U14-Lhota B U14
END:VEVENT
BEGIN:VEVENT
UID:38393733-6635-4562-a666-653539643032
DTSTAMP:20260423T044358Z
DESCRIPTION:5/5 Klatovy B U14 - Šťáhlavy A U15 0:2 (-14\,-18)
DTSTART;TZID=Europe/Berlin:20250921T110000
DTEND;TZID=Europe/Berlin:20250921T130000
LOCATION:Městská sportovní hala  -  hala 2\, Úslavská 2357 Plzeň - Východní
  Předměstí
SUMMARY:P-U14Z6-1C: Klatovy B U14-Šťáhlavy A U15
END:VEVENT
BEGIN:VEVENT
UID:30616331-3131-4662-b832-653563323564
DTSTAMP:20260423T044358Z
DESCRIPTION:8/8 Klatovy B U14 - Vejprnice U15 2:0 (14\,19)
DTSTART;TZID=Europe/Berlin:20250921T130000
DTEND;TZID=Europe/Berlin:20250921T150000
LOCATION:Městská sportovní hala  -  hala 2\, Úslavská 2357 Plzeň - Východní
  Předměstí
SUMMARY:P-U14Z6-1C: Klatovy B U14-Vejprnice U15
END:VEVENT
BEGIN:VEVENT
UID:37383039-3965-4063-b065-343839313566
DTSTAMP:20260423T044358Z
DESCRIPTION:10/10 Klatovy B U14 - Slavia Plzeň A U15 0:2 (-17\,-22)
DTSTART;TZID=Europe/Berlin:20250921T140000
DTEND;TZID=Europe/Berlin:20250921T160000
LOCATION:Městská sportovní hala  -  hala 2\, Úslavská 2357 Plzeň - Východní
  Předměstí
SUMMARY:P-U14Z6-1C: Klatovy B U14-Slavia Plzeň A U15
END:VEVENT
BEGIN:VEVENT
UID:35333132-3138-4432-b461-393438333135
DTSTAMP:20260423T044358Z
DESCRIPTION:2/2 Klatovy B U14 - Rokycany A U15 2:1 (-17\,13\,14)\nPořadatel
  Slavia Plzeň
DTSTART;TZID=Europe/Berlin:20251019T100000
DTEND;TZID=Europe/Berlin:20251019T120000
LOCATION:Tělocvična 15.ZŠ\, Terezie Brzkové 863 Plzeň - Skvrňany
SUMMARY:P-U14Z6-2B: Klatovy B U14-Rokycany A U15
END:VEVENT
BEGIN:VEVENT
UID:32386230-3933-4265-a166-613730663063
DTSTAMP:20260423T044358Z
DESCRIPTION:5/5 Klatovy B U14 - Slavia Plzeň B U14 2:0 (13\,13)\nPořadatel 
 Slavia Plzeň
DTSTART;TZID=Europe/Berlin:20251019T130000
DTEND;TZID=Europe/Berlin:20251019T150000
LOCATION:Tělocvična 15.ZŠ\, Terezie Brzkové 863 Plzeň - Skvrňany
SUMMARY:P-U14Z6-2B: Klatovy B U14-Slavia Plzeň B U14
END:VEVENT
BEGIN:VEVENT
UID:65646333-3865-4431-a639-653335363939
DTSTAMP:20260423T044358Z
DESCRIPTION:4/4 Slavia Plzeň A U15 - Klatovy B U14 0:2 (-23\,-18)\nPořadate
 l Slavia Plzeň
DTSTART;TZID=Europe/Berlin:20251019T120000
DTEND;TZID=Europe/Berlin:20251019T140000
LOCATION:Tělocvična 15.ZŠ\, Terezie Brzkové 863 Plzeň - Skvrňany
SUMMARY:P-U14Z6-2B: Slavia Plzeň A U15-Klatovy B U14
END:VEVENT
BEGIN:VEVENT
UID:39363933-6339-4666-b065-626261313064
DTSTAMP:20260423T044358Z
DESCRIPTION:2/2 Klatovy B U14 - Rokycany B U14 0:2 (-15\,-23)\nPořadatel Šť
 áhlavy
DTSTART;TZID=Europe/Berlin:20251122T100000
DTEND;TZID=Europe/Berlin:20251122T120000
LOCATION:Sportovní hala Šťáhlavy\, U hřiště 525 Šťáhlavy
SUMMARY:P-U14Z6-3A: Klatovy B U14-Rokycany B U14
END:VEVENT
BEGIN:VEVENT
UID:61386332-6662-4939-b564-313363613866
DTSTAMP:20260423T044358Z
DESCRIPTION:5/5 Klatovy B U14 - Lhota A U15 0:2 (-12\,-14)\nPořadatel Šťáhl
 avy
DTSTART;TZID=Europe/Berlin:20251122T130000
DTEND;TZID=Europe/Berlin:20251122T150000
LOCATION:Sportovní hala Šťáhlavy\, U hřiště 525 Šťáhlavy
SUMMARY:P-U14Z6-3A: Klatovy B U14-Lhota A U15
END:VEVENT
BEGIN:VEVENT
UID:39393831-3135-4337-a435-343434383237
DTSTAMP:20260423T044358Z
DESCRIPTION:4/4 Šťáhlavy A U15 - Klatovy B U14 2:0 (14\,18)\nPořadatel Šťáh
 lavy
DTSTART;TZID=Europe/Berlin:20251122T120000
DTEND;TZID=Europe/Berlin:20251122T140000
LOCATION:Sportovní hala Šťáhlavy\, U hřiště 525 Šťáhlavy
SUMMARY:P-U14Z6-3A: Šťáhlavy A U15-Klatovy B U14
END:VEVENT
BEGIN:VEVENT
UID:64666237-3038-4434-b837-303937313337
DTSTAMP:20260423T044358Z
DESCRIPTION:2/2 Klatovy B U14 - Lhota B U14 1:2 (22\,-20\,-5)\nPořadatel Ro
 kycany
DTSTART;TZID=Europe/Berlin:20251213T100000
DTEND;TZID=Europe/Berlin:20251213T120000
LOCATION:Hala Gymnázia Rokycany\, Mládežníků 1115 Rokycany - Nové Město
SUMMARY:P-U14Z6-4B: Klatovy B U14-Lhota B U14
END:VEVENT
BEGIN:VEVENT
UID:32376538-3334-4537-a334-346265303433
DTSTAMP:20260423T044358Z
DESCRIPTION:5/5 Klatovy B U14 - Vejprnice U15 0:2 (-22\,-20)\nPořadatel Rok
 ycany
DTSTART;TZID=Europe/Berlin:20251213T130000
DTEND;TZID=Europe/Berlin:20251213T150000
LOCATION:Hala Gymnázia Rokycany\, Mládežníků 1115 Rokycany - Nové Město
SUMMARY:P-U14Z6-4B: Klatovy B U14-Vejprnice U15
END:VEVENT
BEGIN:VEVENT
UID:39343031-6335-4165-b936-316262323333
DTSTAMP:20260423T044358Z
DESCRIPTION:4/4 Loko Plzeň  A U14 - Klatovy B U14 0:2 (-20\,-12)\nPořadatel
  Rokycany
DTSTART;TZID=Europe/Berlin:20251213T120000
DTEND;TZID=Europe/Berlin:20251213T140000
LOCATION:Hala Gymnázia Rokycany\, Mládežníků 1115 Rokycany - Nové Město
SUMMARY:P-U14Z6-4B: Loko Plzeň  A U14-Klatovy B U14
END:VEVENT
BEGIN:VEVENT
UID:39653131-3332-4135-b239-313232383165
DTSTAMP:20260423T044358Z
DESCRIPTION:6/6 Klatovy B U14 - Rokycany B U14 2:1 (19\,-24\,4)\nPořadatel 
 Rokycany
DTSTART;TZID=Europe/Berlin:20260118T140000
DTEND;TZID=Europe/Berlin:20260118T160000
LOCATION:Hala Gymnázia Rokycany\, Mládežníků 1115 Rokycany - Nové Město
SUMMARY:P-U14Z6-5B: Klatovy B U14-Rokycany B U14
END:VEVENT
BEGIN:VEVENT
UID:37633032-6134-4037-b832-666536383231
DTSTAMP:20260423T044358Z
DESCRIPTION:2/2 Lhota B U14 - Klatovy B U14 0:2 (-8\,-18)\nPořadatel Rokyca
 ny
DTSTART;TZID=Europe/Berlin:20260118T100000
DTEND;TZID=Europe/Berlin:20260118T120000
LOCATION:Hala Gymnázia Rokycany\, Mládežníků 1115 Rokycany - Nové Město
SUMMARY:P-U14Z6-5B: Lhota B U14-Klatovy B U14
END:VEVENT
BEGIN:VEVENT
UID:30653064-3634-4763-b039-383762636230
DTSTAMP:20260423T044358Z
DESCRIPTION:3/3 Rokycany A U15 - Klatovy B U14 0:2 (-13\,-13)\nPořadatel Ro
 kycany
DTSTART;TZID=Europe/Berlin:20260118T110000
DTEND;TZID=Europe/Berlin:20260118T130000
LOCATION:Hala Gymnázia Rokycany\, Mládežníků 1115 Rokycany - Nové Město
SUMMARY:P-U14Z6-5B: Rokycany A U15-Klatovy B U14
END:VEVENT
BEGIN:VEVENT
UID:32653864-3838-4438-a335-313630323334
DTSTAMP:20260423T044358Z
DESCRIPTION:1/1 Klatovy B U14 - Vejprnice U15 2:1 (-23\,23\,8)\nPořadatel K
 latovy
DTSTART;TZID=Europe/Berlin:20260301T090000
DTEND;TZID=Europe/Berlin:20260301T110000
LOCATION:Sportovní hala ZŠ Čapkova\, Čapkova 136 Klatovy - Klatovy V
SUMMARY:P-U14Z6-6A: Klatovy B U14-Vejprnice U15
END:VEVENT
BEGIN:VEVENT
UID:30313665-3961-4061-b338-313930323765
DTSTAMP:20260423T044358Z
DESCRIPTION:4/4 Klatovy B U14 - Šťáhlavy A U15 0:2 (-8\,-17)\nPořadatel Kla
 tovy
DTSTART;TZID=Europe/Berlin:20260301T120000
DTEND;TZID=Europe/Berlin:20260301T140000
LOCATION:Sportovní hala ZŠ Čapkova\, Čapkova 136 Klatovy - Klatovy V
SUMMARY:P-U14Z6-6A: Klatovy B U14-Šťáhlavy A U15
END:VEVENT
BEGIN:VEVENT
UID:62346337-3365-4361-b065-643964313361
DTSTAMP:20260423T044358Z
DESCRIPTION:6/6 Lhota A U15 - Klatovy B U14 2:0 (10\,20)\nPořadatel Klatovy
DTSTART;TZID=Europe/Berlin:20260301T140000
DTEND;TZID=Europe/Berlin:20260301T160000
LOCATION:Sportovní hala ZŠ Čapkova\, Čapkova 136 Klatovy - Klatovy V
SUMMARY:P-U14Z6-6A: Lhota A U15-Klatovy B U14
END:VEVENT
BEGIN:VEVENT
UID:31353866-3932-4565-a161-363361343433
DTSTAMP:20260423T044358Z
DESCRIPTION:6/6 Klatovy B U14 - Lhota A U15 0:2 (-18\,-24)\nPořadatel Lokom
 otiva Plzeň
DTSTART;TZID=Europe/Berlin:20260329T151500
DTEND;TZID=Europe/Berlin:20260329T171500
LOCATION:Hala ZČU Plzeň Univerzitní 14\, Univerzitní 2765 Plzeň - Jižní Pře
 dměstí
SUMMARY:P-U14Z6-7A: Klatovy B U14-Lhota A U15
END:VEVENT
BEGIN:VEVENT
UID:62343039-3830-4161-a265-383430393462
DTSTAMP:20260423T044358Z
DESCRIPTION:2/2 Šťáhlavy A U15 - Klatovy B U14 2:1 (16\,-22\,10)\nPořadatel
  Lokomotiva Plzeň
DTSTART;TZID=Europe/Berlin:20260329T101500
DTEND;TZID=Europe/Berlin:20260329T121500
LOCATION:Hala ZČU Plzeň Univerzitní 14\, Univerzitní 2765 Plzeň - Jižní Pře
 dměstí
SUMMARY:P-U14Z6-7A: Šťáhlavy A U15-Klatovy B U14
END:VEVENT
BEGIN:VEVENT
UID:33393464-3034-4837-b632-363362616561
DTSTAMP:20260423T044358Z
DESCRIPTION:3/3 Rokycany B U14 - Klatovy B U14 0:2 (-21\,-22)\nPořadatel Lo
 komotiva Plzeň
DTSTART;TZID=Europe/Berlin:20260329T113000
DTEND;TZID=Europe/Berlin:20260329T133000
LOCATION:Hala ZČU Plzeň Univerzitní 14\, Univerzitní 2765 Plzeň - Jižní Pře
 dměstí
SUMMARY:P-U14Z6-7A: Rokycany B U14-Klatovy B U14
END:VEVENT
END:VCALENDAR
