BEGIN:VCALENDAR
VERSION:2.0
PRODID:-//TJ Lokomotiva Plzeň A U1489630//NONSGML kigkonsult.se iCalcreator 2.41.80//
CALSCALE:GREGORIAN
UID:30356662-6565-4463-b036-633863336664
BEGIN:VEVENT
UID:35396336-3662-4133-a430-343161666437
DTSTAMP:20260423T004412Z
DESCRIPTION:1/1 Loko Plzeň  A U14 - Loko Plzeň B\nPořadatel Lokomotiva
DTSTART;TZID=Europe/Berlin:20250921T090000
DTEND;TZID=Europe/Berlin:20250921T110000
LOCATION:Městská sportovní hala  -  hala 2\, Úslavská 2357 Plzeň - Východní
  Předměstí
SUMMARY:P-U14Z6: Loko Plzeň  A U14-Loko Plzeň B
END:VEVENT
BEGIN:VEVENT
UID:36313631-3536-4264-b338-343830323464
DTSTAMP:20260423T004412Z
DESCRIPTION:7/7 Loko Plzeň  A U14 - Loko Plzeň B\nPořadatel Lokomotiva
DTSTART;TZID=Europe/Berlin:20260329T090000
DTEND;TZID=Europe/Berlin:20260329T110000
LOCATION:Městská sportovní hala  -  hala 2\, Úslavská 2357 Plzeň - Východní
  Předměstí
SUMMARY:P-U14Z6: Loko Plzeň  A U14-Loko Plzeň B
END:VEVENT
BEGIN:VEVENT
UID:35363333-3937-4936-a164-336534313332
DTSTAMP:20260423T004412Z
DESCRIPTION:1/1 Loko Plzeň  A U14 - Šťáhlavy B U14 2:0 (12\,23)
DTSTART;TZID=Europe/Berlin:20250921T090000
DTEND;TZID=Europe/Berlin:20250921T110000
LOCATION:Městská sportovní hala  -  hala 2\, Úslavská 2357 Plzeň - Východní
  Předměstí
SUMMARY:P-U14Z6-1A: Loko Plzeň  A U14-Šťáhlavy B U14
END:VEVENT
BEGIN:VEVENT
UID:36333163-6362-4037-a162-366138643765
DTSTAMP:20260423T004412Z
DESCRIPTION:4/4 Loko Plzeň  A U14 - Slavia Plzeň B U14 2:1 (15\,-24\,10)
DTSTART;TZID=Europe/Berlin:20250921T120000
DTEND;TZID=Europe/Berlin:20250921T140000
LOCATION:Městská sportovní hala  -  hala 2\, Úslavská 2357 Plzeň - Východní
  Předměstí
SUMMARY:P-U14Z6-1A: Loko Plzeň  A U14-Slavia Plzeň B U14
END:VEVENT
BEGIN:VEVENT
UID:64366166-6132-4730-b632-333030316463
DTSTAMP:20260423T004412Z
DESCRIPTION:6/6 Rokycany A U15 - Loko Plzeň  A U14 1:2 (16\,-16\,-13)
DTSTART;TZID=Europe/Berlin:20250921T140000
DTEND;TZID=Europe/Berlin:20250921T160000
LOCATION:Městská sportovní hala  -  hala 2\, Úslavská 2357 Plzeň - Východní
  Předměstí
SUMMARY:P-U14Z6-1A: Rokycany A U15-Loko Plzeň  A U14
END:VEVENT
BEGIN:VEVENT
UID:30616431-6537-4764-b738-646361646666
DTSTAMP:20260423T004412Z
DESCRIPTION:2/2 Loko Plzeň  A U14 - Šťáhlavy A U15 0:2 (-11\,-7)\nPořadatel
  Lhota A
DTSTART;TZID=Europe/Berlin:20251019T100000
DTEND;TZID=Europe/Berlin:20251019T120000
LOCATION:Sokolovna Lhota\, Kolem Zahrad 558 Plzeň - Lhota
SUMMARY:P-U14Z6-2A: Loko Plzeň  A U14-Šťáhlavy A U15
END:VEVENT
BEGIN:VEVENT
UID:39383433-6262-4134-a565-376461666638
DTSTAMP:20260423T004412Z
DESCRIPTION:5/5 Loko Plzeň  A U14 - Rokycany B U14 0:2 (-11\,-17)\nPořadate
 l Lhota A
DTSTART;TZID=Europe/Berlin:20251019T130000
DTEND;TZID=Europe/Berlin:20251019T150000
LOCATION:Sokolovna Lhota\, Kolem Zahrad 558 Plzeň - Lhota
SUMMARY:P-U14Z6-2A: Loko Plzeň  A U14-Rokycany B U14
END:VEVENT
BEGIN:VEVENT
UID:64336339-6138-4134-b636-646337613332
DTSTAMP:20260423T004412Z
DESCRIPTION:4/4 Lhota A U15 - Loko Plzeň  A U14 2:0 (15\,7)\nPořadatel Lhot
 a A
DTSTART;TZID=Europe/Berlin:20251019T120000
DTEND;TZID=Europe/Berlin:20251019T140000
LOCATION:Sokolovna Lhota\, Kolem Zahrad 558 Plzeň - Lhota
SUMMARY:P-U14Z6-2A: Lhota A U15-Loko Plzeň  A U14
END:VEVENT
BEGIN:VEVENT
UID:38646135-3538-4530-b861-333136333138
DTSTAMP:20260423T004412Z
DESCRIPTION:2/2 Loko Plzeň  A U14 - Rokycany A U15 2:1 (20\,-21\,18)\nPořad
 atel Šťáhlavy
DTSTART;TZID=Europe/Berlin:20251122T110000
DTEND;TZID=Europe/Berlin:20251122T130000
LOCATION:Sportovní hala Šťáhlavy\, U hřiště 525 Šťáhlavy
SUMMARY:P-U14Z6-3B: Loko Plzeň  A U14-Rokycany A U15
END:VEVENT
BEGIN:VEVENT
UID:39643935-3839-4265-b332-323538646336
DTSTAMP:20260423T004412Z
DESCRIPTION:5/5 Loko Plzeň  A U14 - Vejprnice U15 0:2 (-19\,-5)\nPořadatel 
 Šťáhlavy
DTSTART;TZID=Europe/Berlin:20251122T140000
DTEND;TZID=Europe/Berlin:20251122T160000
LOCATION:Sportovní hala Šťáhlavy\, U hřiště 525 Šťáhlavy
SUMMARY:P-U14Z6-3B: Loko Plzeň  A U14-Vejprnice U15
END:VEVENT
BEGIN:VEVENT
UID:66646533-3261-4365-a235-393562366661
DTSTAMP:20260423T004412Z
DESCRIPTION:4/4 Slavia Plzeň A U15 - Loko Plzeň  A U14 2:0 (8\,4)\nPořadate
 l Šťáhlavy
DTSTART;TZID=Europe/Berlin:20251122T130000
DTEND;TZID=Europe/Berlin:20251122T150000
LOCATION:Sportovní hala Šťáhlavy\, U hřiště 525 Šťáhlavy
SUMMARY:P-U14Z6-3B: Slavia Plzeň A U15-Loko Plzeň  A U14
END:VEVENT
BEGIN:VEVENT
UID:34633036-3965-4236-b762-313634613136
DTSTAMP:20260423T004412Z
DESCRIPTION:1/1 Loko Plzeň  A U14 - Vejprnice U15 0:2 (-29\,-15)\nPořadatel
  Rokycany
DTSTART;TZID=Europe/Berlin:20251213T090000
DTEND;TZID=Europe/Berlin:20251213T110000
LOCATION:Hala Gymnázia Rokycany\, Mládežníků 1115 Rokycany - Nové Město
SUMMARY:P-U14Z6-4B: Loko Plzeň  A U14-Vejprnice U15
END:VEVENT
BEGIN:VEVENT
UID:32616335-6461-4234-b432-626638343531
DTSTAMP:20260423T004412Z
DESCRIPTION:4/4 Loko Plzeň  A U14 - Klatovy B U14 0:2 (-20\,-12)\nPořadatel
  Rokycany
DTSTART;TZID=Europe/Berlin:20251213T120000
DTEND;TZID=Europe/Berlin:20251213T140000
LOCATION:Hala Gymnázia Rokycany\, Mládežníků 1115 Rokycany - Nové Město
SUMMARY:P-U14Z6-4B: Loko Plzeň  A U14-Klatovy B U14
END:VEVENT
BEGIN:VEVENT
UID:65663935-6262-4564-b633-323431633437
DTSTAMP:20260423T004412Z
DESCRIPTION:6/6 Lhota B U14 - Loko Plzeň  A U14 2:1 (-19\,22\,6)\nPořadatel
  Rokycany
DTSTART;TZID=Europe/Berlin:20251213T140000
DTEND;TZID=Europe/Berlin:20251213T160000
LOCATION:Hala Gymnázia Rokycany\, Mládežníků 1115 Rokycany - Nové Město
SUMMARY:P-U14Z6-4B: Lhota B U14-Loko Plzeň  A U14
END:VEVENT
BEGIN:VEVENT
UID:63636562-6335-4164-a465-626138623833
DTSTAMP:20260423T004412Z
DESCRIPTION:2/2 Loko Plzeň  A U14 - Loko Plzeň B 2:0 (10\,18)\nPořadatel Ro
 kycany
DTSTART;TZID=Europe/Berlin:20260118T090000
DTEND;TZID=Europe/Berlin:20260118T110000
LOCATION:Hala Gymnázia Rokycany\, Mládežníků 1115 Rokycany - Nové Město
SUMMARY:P-U14Z6-5C: Loko Plzeň  A U14-Loko Plzeň B
END:VEVENT
BEGIN:VEVENT
UID:62636539-3065-4431-b766-663532616164
DTSTAMP:20260423T004412Z
DESCRIPTION:5/5 Loko Plzeň  A U14 - Šťáhlavy B U14 2:0 (17\,20)\nPořadatel 
 Rokycany
DTSTART;TZID=Europe/Berlin:20260118T120000
DTEND;TZID=Europe/Berlin:20260118T140000
LOCATION:Hala Gymnázia Rokycany\, Mládežníků 1115 Rokycany - Nové Město
SUMMARY:P-U14Z6-5C: Loko Plzeň  A U14-Šťáhlavy B U14
END:VEVENT
BEGIN:VEVENT
UID:39356231-3337-4363-b266-323034306263
DTSTAMP:20260423T004412Z
DESCRIPTION:8/8 Loko Plzeň  A U14 - Slavia Plzeň B U14 2:0 (13\,16)\nPořada
 tel Rokycany
DTSTART;TZID=Europe/Berlin:20260118T150000
DTEND;TZID=Europe/Berlin:20260118T170000
LOCATION:Hala Gymnázia Rokycany\, Mládežníků 1115 Rokycany - Nové Město
SUMMARY:P-U14Z6-5C: Loko Plzeň  A U14-Slavia Plzeň B U14
END:VEVENT
BEGIN:VEVENT
UID:30353265-6339-4338-b532-633165333034
DTSTAMP:20260423T004412Z
DESCRIPTION:10/10 Loko Plzeň  A U14 - Klatovy A U15 2:0 (18\,23)\nPořadatel
  Rokycany
DTSTART;TZID=Europe/Berlin:20260118T160000
DTEND;TZID=Europe/Berlin:20260118T180000
LOCATION:Hala Gymnázia Rokycany\, Mládežníků 1115 Rokycany - Nové Město
SUMMARY:P-U14Z6-5C: Loko Plzeň  A U14-Klatovy A U15
END:VEVENT
BEGIN:VEVENT
UID:35653166-3233-4635-b864-346531383235
DTSTAMP:20260423T004412Z
DESCRIPTION:3/3 Loko Plzeň  A U14 - Rokycany A U15 2:0 (18\,11)\nPořadatel 
 Klatovy
DTSTART;TZID=Europe/Berlin:20260301T110000
DTEND;TZID=Europe/Berlin:20260301T130000
LOCATION:Sportovní hala ZŠ Čapkova\, Čapkova 136 Klatovy - Klatovy V
SUMMARY:P-U14Z6-6B: Loko Plzeň  A U14-Rokycany A U15
END:VEVENT
BEGIN:VEVENT
UID:61353538-6134-4536-a237-616566376661
DTSTAMP:20260423T004412Z
DESCRIPTION:1/1 Lhota B U14 - Loko Plzeň  A U14 2:0 (20\,19)\nPořadatel Kla
 tovy
DTSTART;TZID=Europe/Berlin:20260301T090000
DTEND;TZID=Europe/Berlin:20260301T110000
LOCATION:Sportovní hala ZŠ Čapkova\, Čapkova 136 Klatovy - Klatovy V
SUMMARY:P-U14Z6-6B: Lhota B U14-Loko Plzeň  A U14
END:VEVENT
BEGIN:VEVENT
UID:63333266-3030-4565-b163-373663633239
DTSTAMP:20260423T004412Z
DESCRIPTION:5/5 Rokycany B U14 - Loko Plzeň  A U14 2:0 (20\,18)\nPořadatel 
 Klatovy
DTSTART;TZID=Europe/Berlin:20260301T130000
DTEND;TZID=Europe/Berlin:20260301T150000
LOCATION:Sportovní hala ZŠ Čapkova\, Čapkova 136 Klatovy - Klatovy V
SUMMARY:P-U14Z6-6B: Rokycany B U14-Loko Plzeň  A U14
END:VEVENT
BEGIN:VEVENT
UID:37363162-3939-4139-b239-333961313036
DTSTAMP:20260423T004412Z
DESCRIPTION:1/1 Loko Plzeň  A U14 - VK Jirkov 2:0 (12\,10)
DTSTART;TZID=Europe/Berlin:20260321T100000
DTEND;TZID=Europe/Berlin:20260321T120000
LOCATION:Městská sportovní hala  -  hala 2\, Úslavská 2357 Plzeň - Východní
  Předměstí
SUMMARY:MCR-U14Z-1G: Loko Plzeň  A U14-VK Jirkov
END:VEVENT
BEGIN:VEVENT
UID:61366433-3139-4062-b663-336532303861
DTSTAMP:20260423T004412Z
DESCRIPTION:2/5 Loko Plzeň  A U14 - VK Sever Žatec 2:1 (-12\,16\,5)
DTSTART;TZID=Europe/Berlin:20260321T124000
DTEND;TZID=Europe/Berlin:20260321T144000
LOCATION:Městská sportovní hala  -  hala 2\, Úslavská 2357 Plzeň - Východní
  Předměstí
SUMMARY:MCR-U14Z-1G: Loko Plzeň  A U14-VK Sever Žatec
END:VEVENT
BEGIN:VEVENT
UID:38383365-3561-4530-b438-353561383536
DTSTAMP:20260423T004412Z
DESCRIPTION:3/9 Loko Plzeň  A U14 - H. Počernice 2:0 (20\,18)
DTSTART;TZID=Europe/Berlin:20260321T150000
DTEND;TZID=Europe/Berlin:20260321T170000
LOCATION:Městská sportovní hala  -  hala 2\, Úslavská 2357 Plzeň - Východní
  Předměstí
SUMMARY:MCR-U14Z-1G: Loko Plzeň  A U14-H. Počernice
END:VEVENT
BEGIN:VEVENT
UID:30613835-3937-4730-a631-616634663961
DTSTAMP:20260423T004412Z
DESCRIPTION:4/13 Loko Plzeň  A U14 - PVK Olymp Praha 2:0 (22\,22)
DTSTART;TZID=Europe/Berlin:20260321T172000
DTEND;TZID=Europe/Berlin:20260321T192000
LOCATION:Městská sportovní hala  -  hala 2\, Úslavská 2357 Plzeň - Východní
  Předměstí
SUMMARY:MCR-U14Z-1G: Loko Plzeň  A U14-PVK Olymp Praha
END:VEVENT
BEGIN:VEVENT
UID:64623133-3030-4437-a266-623537653837
DTSTAMP:20260423T004412Z
DESCRIPTION:5/17 Loko Plzeň  A U14 - Madeta Jihostroj ČB 2:0 (7\,12)
DTSTART;TZID=Europe/Berlin:20260322T103000
DTEND;TZID=Europe/Berlin:20260322T123000
LOCATION:Městská sportovní hala  -  hala 2\, Úslavská 2357 Plzeň - Východní
  Předměstí
SUMMARY:MCR-U14Z-1G: Loko Plzeň  A U14-Madeta Jihostroj ČB
END:VEVENT
BEGIN:VEVENT
UID:64666662-3239-4032-a337-366630663338
DTSTAMP:20260423T004412Z
DESCRIPTION:6/21 Loko Plzeň  A U14 - Hořovice 2:0 (8\,16)
DTSTART;TZID=Europe/Berlin:20260322T125000
DTEND;TZID=Europe/Berlin:20260322T145000
LOCATION:Městská sportovní hala  -  hala 2\, Úslavská 2357 Plzeň - Východní
  Předměstí
SUMMARY:MCR-U14Z-1G: Loko Plzeň  A U14-Hořovice
END:VEVENT
BEGIN:VEVENT
UID:31666566-3665-4239-b939-323061393739
DTSTAMP:20260423T004412Z
DESCRIPTION:7/25 Loko Plzeň  A U14 - Benátky nad Jizerou B 2:0 (8\,17)
DTSTART;TZID=Europe/Berlin:20260322T151000
DTEND;TZID=Europe/Berlin:20260322T171000
LOCATION:Městská sportovní hala  -  hala 2\, Úslavská 2357 Plzeň - Východní
  Předměstí
SUMMARY:MCR-U14Z-1G: Loko Plzeň  A U14-Benátky nad Jizerou B
END:VEVENT
BEGIN:VEVENT
UID:38666133-3939-4361-b834-396135663030
DTSTAMP:20260423T004412Z
DESCRIPTION:6/6 Loko Plzeň  A U14 - Vejprnice U15 2:0 (14\,10)\nPořadatel L
 okomotiva Plzeň
DTSTART;TZID=Europe/Berlin:20260329T151500
DTEND;TZID=Europe/Berlin:20260329T171500
LOCATION:Hala ZČU Plzeň Univerzitní 14\, Univerzitní 2765 Plzeň - Jižní Pře
 dměstí
SUMMARY:P-U14Z6-7B: Loko Plzeň  A U14-Vejprnice U15
END:VEVENT
BEGIN:VEVENT
UID:35346266-6237-4430-b863-663366313039
DTSTAMP:20260423T004412Z
DESCRIPTION:2/2 Lhota B U14 - Loko Plzeň  A U14 0:2 (-13\,-14)\nPořadatel L
 okomotiva Plzeň
DTSTART;TZID=Europe/Berlin:20260329T101500
DTEND;TZID=Europe/Berlin:20260329T121500
LOCATION:Hala ZČU Plzeň Univerzitní 14\, Univerzitní 2765 Plzeň - Jižní Pře
 dměstí
SUMMARY:P-U14Z6-7B: Lhota B U14-Loko Plzeň  A U14
END:VEVENT
BEGIN:VEVENT
UID:31666666-6437-4436-b262-383231356638
DTSTAMP:20260423T004412Z
DESCRIPTION:3/3 Klatovy A U15 - Loko Plzeň  A U14 0:2 (-12\,-15)\nPořadatel
  Lokomotiva Plzeň
DTSTART;TZID=Europe/Berlin:20260329T113000
DTEND;TZID=Europe/Berlin:20260329T133000
LOCATION:Hala ZČU Plzeň Univerzitní 14\, Univerzitní 2765 Plzeň - Jižní Pře
 dměstí
SUMMARY:P-U14Z6-7B: Klatovy A U15-Loko Plzeň  A U14
END:VEVENT
BEGIN:VEVENT
UID:63623830-3235-4163-a366-303833303936
DTSTAMP:20260423T004412Z
DESCRIPTION:1/2 Loko Plzeň  A U14 - Klub volejbalu Kopřivnice 2:1 (-20\,12\
 ,3)
DTSTART;TZID=Europe/Berlin:20260418T093000
DTEND;TZID=Europe/Berlin:20260418T113000
LOCATION:Městská sportovní hala  -  hala 2\, Úslavská 2357 Plzeň - Východní
  Předměstí
SUMMARY:MCR-U14Z-2B: Loko Plzeň  A U14-Klub volejbalu Kopřivnice
END:VEVENT
BEGIN:VEVENT
UID:38363036-6532-4232-b461-613363346435
DTSTAMP:20260423T004412Z
DESCRIPTION:4/7 Loko Plzeň  A U14 - Škola volejbalu Č. Budějovice 2:0 (13\,
 20)
DTSTART;TZID=Europe/Berlin:20260418T131500
DTEND;TZID=Europe/Berlin:20260418T151500
LOCATION:Městská sportovní hala  -  hala 2\, Úslavská 2357 Plzeň - Východní
  Předměstí
SUMMARY:MCR-U14Z-2B: Loko Plzeň  A U14-Škola volejbalu Č. Budějovice
END:VEVENT
BEGIN:VEVENT
UID:61653465-6639-4835-b038-303037313930
DTSTAMP:20260423T004412Z
DESCRIPTION:6/12 Loko Plzeň  A U14 - Bedřichov 2:0 (11\,14)
DTSTART;TZID=Europe/Berlin:20260418T154500
DTEND;TZID=Europe/Berlin:20260418T174500
LOCATION:Městská sportovní hala  -  hala 2\, Úslavská 2357 Plzeň - Východní
  Předměstí
SUMMARY:MCR-U14Z-2B: Loko Plzeň  A U14-Bedřichov
END:VEVENT
BEGIN:VEVENT
UID:32363933-3564-4535-b761-346239623964
DTSTAMP:20260423T004412Z
DESCRIPTION:8/16 TJ Jiskra Havlíčkův Brod - Loko Plzeň  A U14 0:2 (-19\,-17
 )
DTSTART;TZID=Europe/Berlin:20260418T181500
DTEND;TZID=Europe/Berlin:20260418T201500
LOCATION:Sportovní hala TJ Jiskra II\, Ledečská 3028 Havlíčkův Brod
SUMMARY:MCR-U14Z-2B: TJ Jiskra Havlíčkův Brod-Loko Plzeň  A U14
END:VEVENT
BEGIN:VEVENT
UID:38393332-3034-4761-b436-376461643062
DTSTAMP:20260423T004412Z
DESCRIPTION:9/18 TJ Sokol Frýdek - Místek - Loko Plzeň  A U14 0:2 (-9\,-14)
DTSTART;TZID=Europe/Berlin:20260419T090000
DTEND;TZID=Europe/Berlin:20260419T110000
LOCATION:ZŠ Pionýrů 400 Frýdek-Místek\, Pionýrů 400 Frýdek-Místek - Místek
SUMMARY:MCR-U14Z-2B: TJ Sokol Frýdek - Místek-Loko Plzeň  A U14
END:VEVENT
BEGIN:VEVENT
UID:66306264-3962-4438-a334-666538343264
DTSTAMP:20260423T004412Z
DESCRIPTION:10/21 Volejbal Ústí n. L. - Loko Plzeň  A U14 0:2 (-17\,-24)
DTSTART;TZID=Europe/Berlin:20260419T103000
DTEND;TZID=Europe/Berlin:20260419T123000
LOCATION:Tělocvična Gymnázia a Střední odborné školy dr. Václava Šmejkala\,
  Stará 3299 Ústí nad Labem - Severní Terasa
SUMMARY:MCR-U14Z-2B: Volejbal Ústí n. L.-Loko Plzeň  A U14
END:VEVENT
BEGIN:VEVENT
UID:32653963-3363-4266-b162-386266623961
DTSTAMP:20260423T004412Z
DESCRIPTION:12/26 KP Brno - Loko Plzeň  A U14 0:2 (-20\,-11)
DTSTART;TZID=Europe/Berlin:20260419T133000
DTEND;TZID=Europe/Berlin:20260419T153000
LOCATION:Sportovní gymnázium Ludvíka Daňka\, Botanická 63 Brno - Ponava
SUMMARY:MCR-U14Z-2B: KP Brno-Loko Plzeň  A U14
END:VEVENT
BEGIN:VEVENT
UID:32393734-6335-4663-b935-366137333963
DTSTAMP:20260423T004412Z
DESCRIPTION:2/3 Loko Plzeň  A U14 - VK Raškovice
DTSTART;TZID=Europe/Berlin:20260501T153000
DTEND;TZID=Europe/Berlin:20260501T173000
LOCATION:Městská sportovní hala  -  hala 2\, Úslavská 2357 Plzeň - Východní
  Předměstí
SUMMARY:MCR-U14Z-3C: Loko Plzeň  A U14-VK Raškovice
END:VEVENT
BEGIN:VEVENT
UID:63313461-6631-4463-b838-643739613233
DTSTAMP:20260423T004412Z
DESCRIPTION:4/6 Loko Plzeň  A U14 - VK Olomouc
DTSTART;TZID=Europe/Berlin:20260501T181000
DTEND;TZID=Europe/Berlin:20260501T201000
LOCATION:Městská sportovní hala  -  hala 2\, Úslavská 2357 Plzeň - Východní
  Předměstí
SUMMARY:MCR-U14Z-3C: Loko Plzeň  A U14-VK Olomouc
END:VEVENT
BEGIN:VEVENT
UID:63663132-3035-4636-b562-323831333362
DTSTAMP:20260423T004412Z
DESCRIPTION:5/7 Loko Plzeň  A U14 - VK Znojmo - Přímětice
DTSTART;TZID=Europe/Berlin:20260502T090000
DTEND;TZID=Europe/Berlin:20260502T110000
LOCATION:Městská sportovní hala  -  hala 2\, Úslavská 2357 Plzeň - Východní
  Předměstí
SUMMARY:MCR-U14Z-3C: Loko Plzeň  A U14-VK Znojmo - Přímětice
END:VEVENT
BEGIN:VEVENT
UID:63666566-6263-4364-b862-393530643265
DTSTAMP:20260423T004412Z
DESCRIPTION:6/8 TJ VK Dukla Liberec - Loko Plzeň  A U14
DTSTART;TZID=Europe/Berlin:20260502T102000
DTEND;TZID=Europe/Berlin:20260502T122000
LOCATION:Dukla Liberec\, Jeronýmova 558 Liberec - Liberec VII-Horní Růžodol
SUMMARY:MCR-U14Z-3C: TJ VK Dukla Liberec-Loko Plzeň  A U14
END:VEVENT
END:VCALENDAR
