BEGIN:VCALENDAR
VERSION:2.0
PRODID:-//TJ Lokomotiva Plzeň A89635//NONSGML kigkonsult.se iCalcreator 2.41.80//
CALSCALE:GREGORIAN
UID:30393235-3138-4330-a530-383734656664
BEGIN:VEVENT
UID:34373036-3733-4466-b264-643566326531
DTSTAMP:20260423T050013Z
DESCRIPTION:6/6 Loko Plzeň A - Loko Plzeň A\nPořadatel Lokomotiva
DTSTART;TZID=Europe/Berlin:20260425T090000
DTEND;TZID=Europe/Berlin:20260425T110000
LOCATION:Městská sportovní hala  -  hala 2\, Úslavská 2357 Plzeň - Východní
  Předměstí
SUMMARY:P-U14Z4: Loko Plzeň A-Loko Plzeň A
END:VEVENT
BEGIN:VEVENT
UID:61643538-3735-4531-b661-316664626636
DTSTAMP:20260423T050013Z
DESCRIPTION:6/6 Loko Plzeň A - Loko Plzeň A\nPořadatel Lokomotiva
DTSTART;TZID=Europe/Berlin:20260425T090000
DTEND;TZID=Europe/Berlin:20260425T110000
LOCATION:Městská sportovní hala  -  hala 2\, Úslavská 2357 Plzeň - Východní
  Předměstí
SUMMARY:P-U14Z4: Loko Plzeň A-Loko Plzeň A
END:VEVENT
END:VCALENDAR
