BEGIN:VCALENDAR
VERSION:2.0
PRODID:-//TJ Sokol Čestice89663//NONSGML kigkonsult.se iCalcreator 2.41.80//
CALSCALE:GREGORIAN
UID:38313135-6637-4438-a364-306438346439
BEGIN:VEVENT
UID:31646264-6139-4564-a233-613834666466
DTSTAMP:20260422T010230Z
DESCRIPTION:1/1 TJ Sokol Čestice - TJ PotštejnKlár Vladimír
DTSTART;TZID=Europe/Berlin:20260506T173000
DTEND;TZID=Europe/Berlin:20260506T193000
LOCATION:TJ Sokol Čestice Čestice 112
SUMMARY:RK-M: TJ Sokol Čestice-TJ Potštejn
END:VEVENT
BEGIN:VEVENT
UID:36386465-6230-4137-a566-613465613539
DTSTAMP:20260422T010230Z
DESCRIPTION:4/16 TJ Sokol Čestice - VK SPORT B 0:3 (-9\,-23\,-21)
DTSTART;TZID=Europe/Berlin:20250912T170000
DTEND;TZID=Europe/Berlin:20250912T190000
LOCATION:TJ Sokol Čestice Čestice 112
SUMMARY:RK-M: TJ Sokol Čestice-VK SPORT B
END:VEVENT
BEGIN:VEVENT
UID:34383262-6639-4361-b766-336230626630
DTSTAMP:20260422T010230Z
DESCRIPTION:6/23 TJ Sokol Čestice - Chleny AŠkoda Petr
DTSTART;TZID=Europe/Berlin:20260513T173000
DTEND;TZID=Europe/Berlin:20260513T193000
LOCATION:TJ Sokol Čestice Čestice 112
SUMMARY:RK-M: TJ Sokol Čestice-Chleny A
END:VEVENT
BEGIN:VEVENT
UID:65363131-3265-4361-b633-393766333537
DTSTAMP:20260422T010230Z
DESCRIPTION:8/30 TJ Sokol Čestice - Kvasiny 0:3 (-15\,-19\,-16)
DTSTART;TZID=Europe/Berlin:20251009T170000
DTEND;TZID=Europe/Berlin:20251009T190000
LOCATION:TJ Sokol Čestice Čestice 112
SUMMARY:RK-M: TJ Sokol Čestice-Kvasiny
END:VEVENT
BEGIN:VEVENT
UID:38626437-3965-4161-b439-633062616334
DTSTAMP:20260422T010230Z
DESCRIPTION:11/44 TJ Sokol Čestice - Sokol Chleny BRetová Lucie
DTSTART;TZID=Europe/Berlin:20260508T173000
DTEND;TZID=Europe/Berlin:20260508T193000
LOCATION:TJ Sokol Čestice Čestice 112
SUMMARY:RK-M: TJ Sokol Čestice-Sokol Chleny B
END:VEVENT
BEGIN:VEVENT
UID:32616532-6434-4238-a161-376230323135
DTSTAMP:20260422T010230Z
DESCRIPTION:14/53 TJ Sokol Čestice - Spartak OpočnoSršeň Miloslav
DTSTART;TZID=Europe/Berlin:20260528T173000
DTEND;TZID=Europe/Berlin:20260528T193000
LOCATION:TJ Sokol Čestice Čestice 112
SUMMARY:RK-M: TJ Sokol Čestice-Spartak Opočno
END:VEVENT
BEGIN:VEVENT
UID:30333333-3937-4339-b836-653362323365
DTSTAMP:20260422T010230Z
DESCRIPTION:16/62 TJ Sokol Čestice - SK KounovSršeň Miloslav
DTSTART;TZID=Europe/Berlin:20260605T173000
DTEND;TZID=Europe/Berlin:20260605T193000
LOCATION:TJ Sokol Čestice Čestice 112
SUMMARY:RK-M: TJ Sokol Čestice-SK Kounov
END:VEVENT
BEGIN:VEVENT
UID:37363036-6631-4363-a264-383861656333
DTSTAMP:20260422T010230Z
DESCRIPTION:18/71 TJ Sokol Čestice - AMT KOSršeň Miloslav
DTSTART;TZID=Europe/Berlin:20260619T173000
DTEND;TZID=Europe/Berlin:20260619T193000
LOCATION:TJ Sokol Čestice Čestice 112
SUMMARY:RK-M: TJ Sokol Čestice-AMT KO
END:VEVENT
BEGIN:VEVENT
UID:63346632-6339-4835-b534-396239353165
DTSTAMP:20260422T010230Z
DESCRIPTION:2/8 Sokol Chleny B - TJ Sokol Čestice 3:0 (11\,17\,22)
DTSTART;TZID=Europe/Berlin:20250904T170000
DTEND;TZID=Europe/Berlin:20250904T190000
LOCATION:Chleny Chleny
SUMMARY:RK-M: Sokol Chleny B-TJ Sokol Čestice
END:VEVENT
BEGIN:VEVENT
UID:33326431-3666-4865-a335-376133303733
DTSTAMP:20260422T010230Z
DESCRIPTION:5/17 Spartak Opočno - TJ Sokol Čestice 3:0 (20\,21\,23)
DTSTART;TZID=Europe/Berlin:20250918T170000
DTEND;TZID=Europe/Berlin:20250918T190000
LOCATION:Opočno\, fotbalový stadion Pohořská 210\, Opočno 51773
SUMMARY:RK-M: Spartak Opočno-TJ Sokol Čestice
END:VEVENT
BEGIN:VEVENT
UID:61316132-3031-4566-a234-616238356461
DTSTAMP:20260422T010230Z
DESCRIPTION:7/26 SK Kounov - TJ Sokol ČesticeŠkoda Petr
DTSTART;TZID=Europe/Berlin:20260520T173000
DTEND;TZID=Europe/Berlin:20260520T193000
LOCATION:Kounov Kounov
SUMMARY:RK-M: SK Kounov-TJ Sokol Čestice
END:VEVENT
BEGIN:VEVENT
UID:62356338-6362-4662-b539-386433643338
DTSTAMP:20260422T010230Z
DESCRIPTION:9/35 AMT KO - TJ Sokol Čestice 3:1 (-24\,12\,23\,17)
DTSTART;TZID=Europe/Berlin:20251003T163000
DTEND;TZID=Europe/Berlin:20251003T183000
LOCATION:Kostelec nad Orlicí Kostelec nad Orlicí
SUMMARY:RK-M: AMT KO-TJ Sokol Čestice
END:VEVENT
BEGIN:VEVENT
UID:64373231-3335-4964-a461-643437313263
DTSTAMP:20260422T010230Z
DESCRIPTION:10/37 TJ Potštejn - TJ Sokol ČesticeKlár Vladimír
DTSTART;TZID=Europe/Berlin:20260501T173000
DTEND;TZID=Europe/Berlin:20260501T193000
LOCATION:Hřiště Pod lipami Pod lipami Potštejn
SUMMARY:RK-M: TJ Potštejn-TJ Sokol Čestice
END:VEVENT
BEGIN:VEVENT
UID:37613038-6662-4862-b137-663234323030
DTSTAMP:20260422T010230Z
DESCRIPTION:13/52 VK SPORT B - TJ Sokol ČesticeVolt Karel
DTSTART;TZID=Europe/Berlin:20260522T173000
DTEND;TZID=Europe/Berlin:20260522T193000
LOCATION:SÍMANKA RYCHNOV NAD KNĚŽNOU
SUMMARY:RK-M: VK SPORT B-TJ Sokol Čestice
END:VEVENT
BEGIN:VEVENT
UID:31646130-6463-4561-b839-303865653931
DTSTAMP:20260422T010230Z
DESCRIPTION:15/59 Chleny A - TJ Sokol ČesticeMyšák Josef
DTSTART;TZID=Europe/Berlin:20260529T173000
DTEND;TZID=Europe/Berlin:20260529T193000
LOCATION:Sokol Chleny hřiště Chleny 79
SUMMARY:RK-M: Chleny A-TJ Sokol Čestice
END:VEVENT
BEGIN:VEVENT
UID:65366563-6335-4133-b834-646663303834
DTSTAMP:20260422T010230Z
DESCRIPTION:17/66 Kvasiny - TJ Sokol ČesticeLinhart Eduard
DTSTART;TZID=Europe/Berlin:20260614T173000
DTEND;TZID=Europe/Berlin:20260614T193000
LOCATION:Areál u nádraží ČD Solnice -
SUMMARY:RK-M: Kvasiny-TJ Sokol Čestice
END:VEVENT
END:VCALENDAR
