BEGIN:VCALENDAR
VERSION:2.0
PRODID:-//SK Volejbal Kolín, z.s.89666//NONSGML kigkonsult.se iCalcreator 2.41.80//
CALSCALE:GREGORIAN
UID:62343639-3838-4764-b534-373465353465
BEGIN:VEVENT
UID:64373966-6333-4532-a166-336261303061
DTSTAMP:20260421T183715Z
DESCRIPTION:1/4 SK Volejbal Kolín - Nová Paka 2:1 (25\,-22\,5)
DTSTART;TZID=Europe/Berlin:20250913T103000
DTEND;TZID=Europe/Berlin:20250913T123000
LOCATION:hala STAV\, SOŠ Kolín\, Brankovická 1417 Kolín - Kolín V
SUMMARY:CP-U16Z-Z1B: SK Volejbal Kolín-Nová Paka
END:VEVENT
BEGIN:VEVENT
UID:64333864-6461-4065-a464-353862643530
DTSTAMP:20260421T183715Z
DESCRIPTION:3/12 SK Volejbal Kolín - Střešovice 1:2 (-19\,22\,-8)
DTSTART;TZID=Europe/Berlin:20250913T143000
DTEND;TZID=Europe/Berlin:20250913T163000
LOCATION:hala STAV\, SOŠ Kolín\, Brankovická 1417 Kolín - Kolín V
SUMMARY:CP-U16Z-Z1B: SK Volejbal Kolín-Střešovice
END:VEVENT
BEGIN:VEVENT
UID:63323637-3465-4531-b163-343565653632
DTSTAMP:20260421T183715Z
DESCRIPTION:4/16 SK Volejbal Kolín - DUKLA Liberec 0:2 (-18\,-17)
DTSTART;TZID=Europe/Berlin:20250913T163000
DTEND;TZID=Europe/Berlin:20250913T183000
LOCATION:hala STAV\, SOŠ Kolín\, Brankovická 1417 Kolín - Kolín V
SUMMARY:CP-U16Z-Z1B: SK Volejbal Kolín-DUKLA Liberec
END:VEVENT
BEGIN:VEVENT
UID:38623039-6432-4235-b332-393436356435
DTSTAMP:20260421T183715Z
DESCRIPTION:5/20 SK Volejbal Kolín - TJ Kunice 1:2 (24\,-20\,-14)
DTSTART;TZID=Europe/Berlin:20250914T090000
DTEND;TZID=Europe/Berlin:20250914T110000
LOCATION:hala STAV\, SOŠ Kolín\, Brankovická 1417 Kolín - Kolín V
SUMMARY:CP-U16Z-Z1B: SK Volejbal Kolín-TJ Kunice
END:VEVENT
BEGIN:VEVENT
UID:33346262-6332-4262-b066-366161623137
DTSTAMP:20260421T183715Z
DESCRIPTION:6/24 SK Volejbal Kolín - PVK Olymp Praha 1:2 (-12\,18\,-12)
DTSTART;TZID=Europe/Berlin:20250914T110000
DTEND;TZID=Europe/Berlin:20250914T130000
LOCATION:hala STAV\, SOŠ Kolín\, Brankovická 1417 Kolín - Kolín V
SUMMARY:CP-U16Z-Z1B: SK Volejbal Kolín-PVK Olymp Praha
END:VEVENT
BEGIN:VEVENT
UID:32383135-3661-4131-b566-393666656263
DTSTAMP:20260421T183715Z
DESCRIPTION:7/28 SK Volejbal Kolín - Kladno C 2:0 (14\,9)
DTSTART;TZID=Europe/Berlin:20250914T130000
DTEND;TZID=Europe/Berlin:20250914T150000
LOCATION:hala STAV\, SOŠ Kolín\, Brankovická 1417 Kolín - Kolín V
SUMMARY:CP-U16Z-Z1B: SK Volejbal Kolín-Kladno C
END:VEVENT
BEGIN:VEVENT
UID:35343261-6532-4436-b563-666630623962
DTSTAMP:20260421T183715Z
DESCRIPTION:2/8 VK KRALUPY - SK Volejbal Kolín 2:0 (13\,18)
DTSTART;TZID=Europe/Berlin:20250913T123000
DTEND;TZID=Europe/Berlin:20250913T143000
LOCATION:TJ KRALUPY\, z.s.\, Gen. Klapálka 1029 Kralupy nad Vltavou
SUMMARY:CP-U16Z-Z1B: VK KRALUPY-SK Volejbal Kolín
END:VEVENT
BEGIN:VEVENT
UID:30346338-3566-4431-b564-386563343965
DTSTAMP:20260421T183715Z
DESCRIPTION:2/4 SK Volejbal Kolín - VK Lvi Praha 2:0 (19\,10)
DTSTART;TZID=Europe/Berlin:20251018T103000
DTEND;TZID=Europe/Berlin:20251018T123000
LOCATION:hala STAV\, SOŠ Kolín\, Brankovická 1417 Kolín - Kolín V
SUMMARY:CP-U16Z-Z2D: SK Volejbal Kolín-VK Lvi Praha
END:VEVENT
BEGIN:VEVENT
UID:61643765-3462-4831-b032-356535363639
DTSTAMP:20260421T183715Z
DESCRIPTION:6/12 SK Volejbal Kolín - Mělník 0:2 (-23\,-20)
DTSTART;TZID=Europe/Berlin:20251018T163000
DTEND;TZID=Europe/Berlin:20251018T183000
LOCATION:hala STAV\, SOŠ Kolín\, Brankovická 1417 Kolín - Kolín V
SUMMARY:CP-U16Z-Z2D: SK Volejbal Kolín-Mělník
END:VEVENT
BEGIN:VEVENT
UID:64396635-3133-4461-a530-623739653333
DTSTAMP:20260421T183715Z
DESCRIPTION:7/14 SK Volejbal Kolín - Volejbal Rudolfov 1:2 (23\,-22\,-8)
DTSTART;TZID=Europe/Berlin:20251018T180000
DTEND;TZID=Europe/Berlin:20251018T200000
LOCATION:hala STAV\, SOŠ Kolín\, Brankovická 1417 Kolín - Kolín V
SUMMARY:CP-U16Z-Z2D: SK Volejbal Kolín-Volejbal Rudolfov
END:VEVENT
BEGIN:VEVENT
UID:62653461-6263-4263-a435-666138653236
DTSTAMP:20260421T183715Z
DESCRIPTION:10/19 SK Volejbal Kolín - SK Dansport 1:2 (20\,-21\,-8)
DTSTART;TZID=Europe/Berlin:20251019T114500
DTEND;TZID=Europe/Berlin:20251019T134500
LOCATION:hala STAV\, SOŠ Kolín\, Brankovická 1417 Kolín - Kolín V
SUMMARY:CP-U16Z-Z2D: SK Volejbal Kolín-SK Dansport
END:VEVENT
BEGIN:VEVENT
UID:39633636-3861-4737-b530-613839306237
DTSTAMP:20260421T183715Z
DESCRIPTION:4/7 VK Sever Žatec - SK Volejbal Kolín 2:1 (19\,-16\,8)
DTSTART;TZID=Europe/Berlin:20251018T133000
DTEND;TZID=Europe/Berlin:20251018T153000
LOCATION:Sportovní hala TJ Sever Žatec\, Plzeňská 2787 Žatec
SUMMARY:CP-U16Z-Z2D: VK Sever Žatec-SK Volejbal Kolín
END:VEVENT
BEGIN:VEVENT
UID:30623632-6665-4263-b965-363462386135
DTSTAMP:20260421T183715Z
DESCRIPTION:9/18 VK Slavia Plzeň - SK Volejbal Kolín 0:2 (-25\,-19)
DTSTART;TZID=Europe/Berlin:20251019T103000
DTEND;TZID=Europe/Berlin:20251019T123000
LOCATION:Tělocvična 15.ZŠ\, Terezie Brzkové 863 Plzeň - Skvrňany
SUMMARY:CP-U16Z-Z2D: VK Slavia Plzeň-SK Volejbal Kolín
END:VEVENT
BEGIN:VEVENT
UID:38373463-3739-4237-a439-386634373939
DTSTAMP:20260421T183715Z
DESCRIPTION:2/6 SK Volejbal Kolín - INLAB SK Meteor Praha 2:1 (-7\,10\,10)
DTSTART;TZID=Europe/Berlin:20251129T113000
DTEND;TZID=Europe/Berlin:20251129T133000
LOCATION:hala STAV\, SOŠ Kolín\, Brankovická 1417 Kolín - Kolín V
SUMMARY:CP-U16Z-Z3D: SK Volejbal Kolín-INLAB SK Meteor Praha
END:VEVENT
BEGIN:VEVENT
UID:63383636-6231-4137-a534-326631303838
DTSTAMP:20260421T183715Z
DESCRIPTION:4/10 SK Volejbal Kolín - VK Lvi Praha 1:2 (22\,-5\,-12)
DTSTART;TZID=Europe/Berlin:20251129T143000
DTEND;TZID=Europe/Berlin:20251129T163000
LOCATION:hala STAV\, SOŠ Kolín\, Brankovická 1417 Kolín - Kolín V
SUMMARY:CP-U16Z-Z3D: SK Volejbal Kolín-VK Lvi Praha
END:VEVENT
BEGIN:VEVENT
UID:30626132-3265-4763-a438-336630373533
DTSTAMP:20260421T183715Z
DESCRIPTION:7/19 SK Volejbal Kolín - VK Sever Žatec 2:0 (21\,23)
DTSTART;TZID=Europe/Berlin:20251130T130000
DTEND;TZID=Europe/Berlin:20251130T150000
LOCATION:hala STAV\, SOŠ Kolín\, Brankovická 1417 Kolín - Kolín V
SUMMARY:CP-U16Z-Z3D: SK Volejbal Kolín-VK Sever Žatec
END:VEVENT
BEGIN:VEVENT
UID:65323033-3334-4965-b733-646130653136
DTSTAMP:20260421T183715Z
DESCRIPTION:1/2 BVC Chodov - SK Volejbal Kolín 0:2 (-18\,-15)
DTSTART;TZID=Europe/Berlin:20251129T100000
DTEND;TZID=Europe/Berlin:20251129T120000
LOCATION:Městská sportovní hala Chodov\, Tyršova 1201 Chodov
SUMMARY:CP-U16Z-Z3D: BVC Chodov-SK Volejbal Kolín
END:VEVENT
BEGIN:VEVENT
UID:64313630-3065-4836-b537-363963636637
DTSTAMP:20260421T183715Z
DESCRIPTION:3/9 SK Španielka - SK Volejbal Kolín 1:2 (23\,-19\,-16)
DTSTART;TZID=Europe/Berlin:20251129T130000
DTEND;TZID=Europe/Berlin:20251129T150000
LOCATION:Tělocvična ZŠ\, Španielova 1111 Praha - Řepy
SUMMARY:CP-U16Z-Z3D: SK Španielka-SK Volejbal Kolín
END:VEVENT
BEGIN:VEVENT
UID:64393738-6563-4763-a534-636562326364
DTSTAMP:20260421T183715Z
DESCRIPTION:5/13 Mikulova B - SK Volejbal Kolín 0:2 (-12\,-19)
DTSTART;TZID=Europe/Berlin:20251130T100000
DTEND;TZID=Europe/Berlin:20251130T120000
LOCATION:tělocvičny ZŠ Mikulova\, Mikulova 1594 Praha - Chodov
SUMMARY:CP-U16Z-Z3D: Mikulova B-SK Volejbal Kolín
END:VEVENT
BEGIN:VEVENT
UID:61636465-3134-4466-b831-386532353032
DTSTAMP:20260421T183715Z
DESCRIPTION:2/4 SK Volejbal Kolín - VK Lvi Praha 0:2 (-14\,-17)
DTSTART;TZID=Europe/Berlin:20260117T113000
DTEND;TZID=Europe/Berlin:20260117T133000
LOCATION:hala STAV\, SOŠ Kolín\, Brankovická 1417 Kolín - Kolín V
SUMMARY:CP-U16Z4F: SK Volejbal Kolín-VK Lvi Praha
END:VEVENT
BEGIN:VEVENT
UID:37373534-3266-4766-b231-613432373832
DTSTAMP:20260421T183715Z
DESCRIPTION:4/11 SK Volejbal Kolín - SK Španielka 2:0 (17\,15)
DTSTART;TZID=Europe/Berlin:20260117T143000
DTEND;TZID=Europe/Berlin:20260117T163000
LOCATION:hala STAV\, SOŠ Kolín\, Brankovická 1417 Kolín - Kolín V
SUMMARY:CP-U16Z4F: SK Volejbal Kolín-SK Španielka
END:VEVENT
BEGIN:VEVENT
UID:35353136-6335-4534-b561-616435346636
DTSTAMP:20260421T183715Z
DESCRIPTION:5/14 SK Volejbal Kolín - Volejbal Rudolfov 0:2 (-19\,-24)
DTSTART;TZID=Europe/Berlin:20260117T160000
DTEND;TZID=Europe/Berlin:20260117T180000
LOCATION:hala STAV\, SOŠ Kolín\, Brankovická 1417 Kolín - Kolín V
SUMMARY:CP-U16Z4F: SK Volejbal Kolín-Volejbal Rudolfov
END:VEVENT
BEGIN:VEVENT
UID:32323337-3662-4837-b362-656237303162
DTSTAMP:20260421T183715Z
DESCRIPTION:1/1 VK Brno - SK Volejbal Kolín 2:1 (19\,-18\,10)
DTSTART;TZID=Europe/Berlin:20260117T100000
DTEND;TZID=Europe/Berlin:20260117T120000
LOCATION:ZŠ Vejrostova\, Vejrostova 1066 Brno - Bystrc
SUMMARY:CP-U16Z4F: VK Brno-SK Volejbal Kolín
END:VEVENT
BEGIN:VEVENT
UID:30346335-3062-4731-a663-623635376361
DTSTAMP:20260421T183715Z
DESCRIPTION:7/18 Třebíč - SK Volejbal Kolín 0:2 (-18\,-22)
DTSTART;TZID=Europe/Berlin:20260118T090000
DTEND;TZID=Europe/Berlin:20260118T110000
LOCATION:hala ZŠ TGM\, Komenského nám. 61 Třebíč - Horka-Domky
SUMMARY:CP-U16Z4F: Třebíč-SK Volejbal Kolín
END:VEVENT
BEGIN:VEVENT
UID:38643338-6566-4661-b363-353538333230
DTSTAMP:20260421T183715Z
DESCRIPTION:8/21 BVC Chodov - SK Volejbal Kolín 0:2 (-11\,-10)
DTSTART;TZID=Europe/Berlin:20260118T103000
DTEND;TZID=Europe/Berlin:20260118T123000
LOCATION:Městská sportovní hala Chodov\, Tyršova 1201 Chodov
SUMMARY:CP-U16Z4F: BVC Chodov-SK Volejbal Kolín
END:VEVENT
BEGIN:VEVENT
UID:35353662-3134-4362-b963-636431663238
DTSTAMP:20260421T183715Z
DESCRIPTION:10/27 VSK  Staré Město - SK Volejbal Kolín 1:2 (21\,-16\,-12)
DTSTART;TZID=Europe/Berlin:20260118T133000
DTEND;TZID=Europe/Berlin:20260118T153000
LOCATION:Městská sportovní hala Širůch\, Nad Hřištěm 1921 Staré Město
SUMMARY:CP-U16Z4F: VSK  Staré Město-SK Volejbal Kolín
END:VEVENT
BEGIN:VEVENT
UID:62646662-6436-4266-a166-323235393433
DTSTAMP:20260421T183715Z
DESCRIPTION:3/5 SK Volejbal Kolín - TJ Kunice 2:0 (23\,16)
DTSTART;TZID=Europe/Berlin:20260207T113000
DTEND;TZID=Europe/Berlin:20260207T133000
LOCATION:TJ Slavia Hradec Králové\, Víta Nejedlého 1216 Hradec Králové
SUMMARY:CP-U16Z5F: SK Volejbal Kolín-TJ Kunice
END:VEVENT
BEGIN:VEVENT
UID:35373430-6437-4633-a239-356363363463
DTSTAMP:20260421T183715Z
DESCRIPTION:7/13 SK Volejbal Kolín - KP Brno B 2:1 (-20\,16\,11)
DTSTART;TZID=Europe/Berlin:20260207T163000
DTEND;TZID=Europe/Berlin:20260207T183000
LOCATION:TJ Slavia Hradec Králové\, Víta Nejedlého 1216 Hradec Králové
SUMMARY:CP-U16Z5F: SK Volejbal Kolín-KP Brno B
END:VEVENT
BEGIN:VEVENT
UID:61653161-3761-4537-a565-646366613931
DTSTAMP:20260421T183715Z
DESCRIPTION:11/21 SK Volejbal Kolín - SK Španielka 2:0 (23\,15)
DTSTART;TZID=Europe/Berlin:20260208T113000
DTEND;TZID=Europe/Berlin:20260208T133000
LOCATION:TJ Slavia Hradec Králové\, Víta Nejedlého 1216 Hradec Králové
SUMMARY:CP-U16Z5F: SK Volejbal Kolín-SK Španielka
END:VEVENT
BEGIN:VEVENT
UID:30393764-3633-4163-b862-623331396563
DTSTAMP:20260421T183715Z
DESCRIPTION:1/1 SC Braník - SK Volejbal Kolín 0:2 (-13\,-12)
DTSTART;TZID=Europe/Berlin:20260207T090000
DTEND;TZID=Europe/Berlin:20260207T110000
LOCATION:TJ Slavia Hradec Králové\, Víta Nejedlého 1216 Hradec Králové
SUMMARY:CP-U16Z5F: SC Braník-SK Volejbal Kolín
END:VEVENT
BEGIN:VEVENT
UID:31646162-6338-4535-b532-383435643866
DTSTAMP:20260421T183715Z
DESCRIPTION:5/9 VK Lvi Praha - SK Volejbal Kolín 1:2 (-20\,18\,-17)
DTSTART;TZID=Europe/Berlin:20260207T140000
DTEND;TZID=Europe/Berlin:20260207T160000
LOCATION:TJ Slavia Hradec Králové\, Víta Nejedlého 1216 Hradec Králové
SUMMARY:CP-U16Z5F: VK Lvi Praha-SK Volejbal Kolín
END:VEVENT
BEGIN:VEVENT
UID:31373936-6366-4666-a137-643138376163
DTSTAMP:20260421T183715Z
DESCRIPTION:9/17 VSK Baník Sokolov - SK Volejbal Kolín 2:1 (18\,-21\,14)
DTSTART;TZID=Europe/Berlin:20260208T090000
DTEND;TZID=Europe/Berlin:20260208T110000
LOCATION:TJ Slavia Hradec Králové\, Víta Nejedlého 1216 Hradec Králové
SUMMARY:CP-U16Z5F: VSK Baník Sokolov-SK Volejbal Kolín
END:VEVENT
BEGIN:VEVENT
UID:33393265-3832-4663-b463-383038386264
DTSTAMP:20260421T183715Z
DESCRIPTION:13/25 VK Brno - SK Volejbal Kolín 1:2 (17\,-24\,-5)
DTSTART;TZID=Europe/Berlin:20260208T140000
DTEND;TZID=Europe/Berlin:20260208T160000
LOCATION:TJ Slavia Hradec Králové\, Víta Nejedlého 1216 Hradec Králové
SUMMARY:CP-U16Z5F: VK Brno-SK Volejbal Kolín
END:VEVENT
BEGIN:VEVENT
UID:39633666-6436-4366-a362-653835303236
DTSTAMP:20260421T183715Z
DESCRIPTION:1/2 SK Volejbal Kolín - SVK Nový Jičín 2:0 (16\,20)
DTSTART;TZID=Europe/Berlin:20260328T090000
DTEND;TZID=Europe/Berlin:20260328T110000
LOCATION:hala STAV\, SOŠ Kolín\, Brankovická 1417 Kolín - Kolín V
SUMMARY:CP-U16Z6H: SK Volejbal Kolín-SVK Nový Jičín
END:VEVENT
BEGIN:VEVENT
UID:31623434-3533-4539-b264-396633666265
DTSTAMP:20260421T183715Z
DESCRIPTION:8/16 SK Volejbal Kolín - S V B C 1:2 (21\,-25\,-11)
DTSTART;TZID=Europe/Berlin:20260328T174500
DTEND;TZID=Europe/Berlin:20260328T194500
LOCATION:hala STAV\, SOŠ Kolín\, Brankovická 1417 Kolín - Kolín V
SUMMARY:CP-U16Z6H: SK Volejbal Kolín-S V B C
END:VEVENT
BEGIN:VEVENT
UID:63366636-3236-4733-b765-336662643765
DTSTAMP:20260421T183715Z
DESCRIPTION:14/28 SK Volejbal Kolín - VK Jirkov 2:0 (9\,29)
DTSTART;TZID=Europe/Berlin:20260329T151500
DTEND;TZID=Europe/Berlin:20260329T171500
LOCATION:hala STAV\, SOŠ Kolín\, Brankovická 1417 Kolín - Kolín V
SUMMARY:CP-U16Z6H: SK Volejbal Kolín-VK Jirkov
END:VEVENT
BEGIN:VEVENT
UID:33326132-6464-4232-a364-313061386639
DTSTAMP:20260421T183715Z
DESCRIPTION:4/7 Klatovy - SK Volejbal Kolín 0:2 (-20\,-23)
DTSTART;TZID=Europe/Berlin:20260328T124500
DTEND;TZID=Europe/Berlin:20260328T144500
LOCATION:Sportovní hala ZŠ Čapkova\, Čapkova 136 Klatovy - Klatovy V
SUMMARY:CP-U16Z6H: Klatovy-SK Volejbal Kolín
END:VEVENT
BEGIN:VEVENT
UID:38666331-3365-4235-b630-373562363535
DTSTAMP:20260421T183715Z
DESCRIPTION:6/11 Slavia H.Králové - SK Volejbal Kolín 1:2 (-18\,22\,-6)
DTSTART;TZID=Europe/Berlin:20260328T151500
DTEND;TZID=Europe/Berlin:20260328T171500
LOCATION:TJ Slavia Hradec Králové\, Víta Nejedlého 1216 Hradec Králové
SUMMARY:CP-U16Z6H: Slavia H.Králové-SK Volejbal Kolín
END:VEVENT
BEGIN:VEVENT
UID:31333130-6130-4733-b234-623136313666
DTSTAMP:20260421T183715Z
DESCRIPTION:10/20 Volejbal Tábor - SK Volejbal Kolín 0:2 (-20\,-18)
DTSTART;TZID=Europe/Berlin:20260329T101500
DTEND;TZID=Europe/Berlin:20260329T121500
LOCATION:Sportovní Hala Mír\, U Stadionu Míru 1579 Tábor
SUMMARY:CP-U16Z6H: Volejbal Tábor-SK Volejbal Kolín
END:VEVENT
BEGIN:VEVENT
UID:39613934-3063-4463-a636-613430323761
DTSTAMP:20260421T183715Z
DESCRIPTION:11/21 KP Brno B - SK Volejbal Kolín 2:0 (17\,9)
DTSTART;TZID=Europe/Berlin:20260329T113000
DTEND;TZID=Europe/Berlin:20260329T133000
LOCATION:Sportovní gymnázium Ludvíka Daňka\, Botanická 63 Brno - Ponava
SUMMARY:CP-U16Z6H: KP Brno B-SK Volejbal Kolín
END:VEVENT
END:VCALENDAR
