BEGIN:VCALENDAR
VERSION:2.0
PRODID:-//Black Volley Beskydy B89715//NONSGML kigkonsult.se iCalcreator 2.41.80//
CALSCALE:GREGORIAN
UID:34356332-6361-4935-b532-626137376266
BEGIN:VEVENT
UID:63393038-6135-4961-b039-653461616336
DTSTAMP:20260425T161735Z
DESCRIPTION:3/12067 Beskydy B - VK Brno 2:3 (-23\,-19\,19\,24\,-10)
DTSTART;TZID=Europe/Berlin:20251010T180000
DTEND;TZID=Europe/Berlin:20251010T200000
LOCATION:Sportovní hala Ostrava -Třebovice\, 5. května 5649 Ostrava - Třebo
 vice
SUMMARY:1-M-B: Beskydy B-VK Brno
END:VEVENT
BEGIN:VEVENT
UID:38343932-3661-4761-a535-316366313364
DTSTAMP:20260425T161735Z
DESCRIPTION:5/12074 Beskydy B - Kometa Brno 0:3 (-14\,-19\,-21)
DTSTART;TZID=Europe/Berlin:20251018T170000
DTEND;TZID=Europe/Berlin:20251018T190000
LOCATION:Sportovní hala Nová Bělá\, Krmelínská 750 Ostrava - Nová Bělá
SUMMARY:1-M-B: Beskydy B-Kometa Brno
END:VEVENT
BEGIN:VEVENT
UID:64383939-6536-4530-b037-613335336637
DTSTAMP:20260425T161735Z
DESCRIPTION:7/12081 Beskydy B - Velké Meziříčí 3:0 (19\,13\,21)
DTSTART;TZID=Europe/Berlin:20251031T180000
DTEND;TZID=Europe/Berlin:20251031T200000
LOCATION:Sportovní hala Ostrava -Třebovice\, 5. května 5649 Ostrava - Třebo
 vice
SUMMARY:1-M-B: Beskydy B-Velké Meziříčí
END:VEVENT
BEGIN:VEVENT
UID:63646338-6365-4764-b535-336336366236
DTSTAMP:20260425T161735Z
DESCRIPTION:9/12090 Beskydy B - Kojetín 3:0 (19\,20\,16)
DTSTART;TZID=Europe/Berlin:20251114T180000
DTEND;TZID=Europe/Berlin:20251114T200000
LOCATION:Sportovní hala Ostrava -Třebovice\, 5. května 5649 Ostrava - Třebo
 vice
SUMMARY:1-M-B: Beskydy B-Kojetín
END:VEVENT
BEGIN:VEVENT
UID:32313531-3439-4563-b861-373437353963
DTSTAMP:20260425T161735Z
DESCRIPTION:11/12099 Beskydy B - Bučovice 3:0 (20\,23\,19)
DTSTART;TZID=Europe/Berlin:20251128T180000
DTEND;TZID=Europe/Berlin:20251128T200000
LOCATION:Sportovní hala Ostrava -Třebovice\, 5. května 5649 Ostrava - Třebo
 vice
SUMMARY:1-M-B: Beskydy B-Bučovice
END:VEVENT
BEGIN:VEVENT
UID:34346233-3337-4362-a363-613930616530
DTSTAMP:20260425T161735Z
DESCRIPTION:13/12108 Beskydy B - H. Králové 1:3 (-18\,-19\,23\,-20)
DTSTART;TZID=Europe/Berlin:20251212T180000
DTEND;TZID=Europe/Berlin:20251212T200000
LOCATION:Sportovní hala Ostrava -Třebovice\, 5. května 5649 Ostrava - Třebo
 vice
SUMMARY:1-M-B: Beskydy B-H. Králové
END:VEVENT
BEGIN:VEVENT
UID:33393664-3936-4164-b833-616165306164
DTSTAMP:20260425T161735Z
DESCRIPTION:2/12062 Kojetín - Beskydy B 0:3 (-19\,-23\,-21)
DTSTART;TZID=Europe/Berlin:20251004T180000
DTEND;TZID=Europe/Berlin:20251004T200000
LOCATION:Městská sportovní hala\, Hanusíkova 1476 Kojetín - Kojetín I-Město
SUMMARY:1-M-B: Kojetín-Beskydy B
END:VEVENT
BEGIN:VEVENT
UID:32393436-6465-4962-b930-363131363335
DTSTAMP:20260425T161735Z
DESCRIPTION:4/12071 Bučovice - Beskydy B 3:0 (18\,22\,14)
DTSTART;TZID=Europe/Berlin:20251017T190000
DTEND;TZID=Europe/Berlin:20251017T210000
LOCATION:ZŠ Bučovice 710\, Školní 710 Bučovice
SUMMARY:1-M-B: Bučovice-Beskydy B
END:VEVENT
BEGIN:VEVENT
UID:63616463-3337-4964-a666-316339336636
DTSTAMP:20260425T161735Z
DESCRIPTION:6/12080 H. Králové - Beskydy B 3:0 (12\,14\,19)
DTSTART;TZID=Europe/Berlin:20251024T190000
DTEND;TZID=Europe/Berlin:20251024T210000
LOCATION:TJ Slavia Hradec Králové\, Víta Nejedlého 1216 Hradec Králové
SUMMARY:1-M-B: H. Králové-Beskydy B
END:VEVENT
BEGIN:VEVENT
UID:61343035-6335-4339-b631-323438633139
DTSTAMP:20260425T161735Z
DESCRIPTION:10/12095 VK Brno - Beskydy B 3:2 (-24\,-24\,21\,23\,13)
DTSTART;TZID=Europe/Berlin:20251121T190000
DTEND;TZID=Europe/Berlin:20251121T210000
LOCATION:Sportovní gymnázium Ludvíka Daňka\, Botanická 63 Brno - Ponava
SUMMARY:1-M-B: VK Brno-Beskydy B
END:VEVENT
BEGIN:VEVENT
UID:38353064-3665-4735-a437-383531386633
DTSTAMP:20260425T161735Z
DESCRIPTION:12/12102 Kometa Brno - Beskydy B 3:0 (19\,24\,20)
DTSTART;TZID=Europe/Berlin:20251205T180000
DTEND;TZID=Europe/Berlin:20251205T200000
LOCATION:Sportovní hala Rousínov\, Habrovanská 1199 Rousínov
SUMMARY:1-M-B: Kometa Brno-Beskydy B
END:VEVENT
BEGIN:VEVENT
UID:65613039-3866-4637-b265-663138383866
DTSTAMP:20260425T161735Z
DESCRIPTION:14/12109 Velké Meziříčí - Beskydy B 3:0 (18\,15\,18)
DTSTART;TZID=Europe/Berlin:20251219T193000
DTEND;TZID=Europe/Berlin:20251219T213000
LOCATION:ZŠ Komenského\, Komenského 1 Velké Meziříčí
SUMMARY:1-M-B: Velké Meziříčí-Beskydy B
END:VEVENT
BEGIN:VEVENT
UID:38623261-3736-4861-b965-393338623961
DTSTAMP:20260425T161735Z
DESCRIPTION:1/1 Beskydy B - Nový Jičín 2:3 (18\,-20\,-23\,19\,-14)
DTSTART;TZID=Europe/Berlin:20250920T100000
DTEND;TZID=Europe/Berlin:20250920T120000
LOCATION:Sportovní hala Ostrava -Třebovice\, 5. května 5649 Ostrava - Třebo
 vice
SUMMARY:CP-M-G: Beskydy B-Nový Jičín
END:VEVENT
BEGIN:VEVENT
UID:31663531-3966-4131-a638-633031616464
DTSTAMP:20260425T161735Z
DESCRIPTION:1/3 Beskydy B - Kojetín 0:3 (-17\,-25\,-22)
DTSTART;TZID=Europe/Berlin:20250920T170000
DTEND;TZID=Europe/Berlin:20250920T190000
LOCATION:Sportovní hala Ostrava -Třebovice\, 5. května 5649 Ostrava - Třebo
 vice
SUMMARY:CP-M-G: Beskydy B-Kojetín
END:VEVENT
BEGIN:VEVENT
UID:39633765-6438-4263-b838-383939323764
DTSTAMP:20260425T161735Z
DESCRIPTION:1/12132 Beskydy B - ČZU Praha 1:3 (-22\,-13\,23\,-22)
DTSTART;TZID=Europe/Berlin:20260109T180000
DTEND;TZID=Europe/Berlin:20260109T200000
LOCATION:Sportovní hala Ostrava -Třebovice\, 5. května 5649 Ostrava - Třebo
 vice
SUMMARY:1-M-II: Beskydy B-ČZU Praha
END:VEVENT
BEGIN:VEVENT
UID:35623264-3139-4765-a262-313637333836
DTSTAMP:20260425T161735Z
DESCRIPTION:2/12136 Beskydy B - Č. Budějovice B 3:2 (-24\,16\,23\,-18\,10)
DTSTART;TZID=Europe/Berlin:20260110T144500
DTEND;TZID=Europe/Berlin:20260110T164500
LOCATION:Sportovní hala Nová Bělá\, Krmelínská 750 Ostrava - Nová Bělá
SUMMARY:1-M-II: Beskydy B-Č. Budějovice B
END:VEVENT
BEGIN:VEVENT
UID:35633165-3038-4632-b865-643863393464
DTSTAMP:20260425T161735Z
DESCRIPTION:6/12152 Beskydy B - Kolín 3:0 (14\,18\,26)
DTSTART;TZID=Europe/Berlin:20260130T160000
DTEND;TZID=Europe/Berlin:20260130T180000
LOCATION:Sportovní hala Ostrava -Třebovice\, 5. května 5649 Ostrava - Třebo
 vice
SUMMARY:1-M-II: Beskydy B-Kolín
END:VEVENT
BEGIN:VEVENT
UID:62333832-3564-4866-b536-303865636539
DTSTAMP:20260425T161735Z
DESCRIPTION:7/12156 Beskydy B - Lvi Praha B 0:3 (-17\,-22\,-19)
DTSTART;TZID=Europe/Berlin:20260131T170000
DTEND;TZID=Europe/Berlin:20260131T190000
LOCATION:Sportovní hala Ostrava -Třebovice\, 5. května 5649 Ostrava - Třebo
 vice
SUMMARY:1-M-II: Beskydy B-Lvi Praha B
END:VEVENT
BEGIN:VEVENT
UID:30346637-3564-4662-b035-326666663032
DTSTAMP:20260425T161735Z
DESCRIPTION:3/12140 Kolín - Beskydy B 1:3 (20\,-22\,-19\,-25)
DTSTART;TZID=Europe/Berlin:20260116T180000
DTEND;TZID=Europe/Berlin:20260116T200000
LOCATION:Sportovní hala Borky\, Brankovická 1216 Kolín - Kolín V
SUMMARY:1-M-II: Kolín-Beskydy B
END:VEVENT
BEGIN:VEVENT
UID:38656363-3135-4563-b233-383565346637
DTSTAMP:20260425T161735Z
DESCRIPTION:4/12144 Lvi Praha B - Beskydy B 3:1 (-23\,23\,18\,17)
DTSTART;TZID=Europe/Berlin:20260123T190000
DTEND;TZID=Europe/Berlin:20260123T210000
LOCATION:Sportovní hala Lužiny\, Bellušova 1877 Praha - Stodůlky
SUMMARY:1-M-II: Lvi Praha B-Beskydy B
END:VEVENT
BEGIN:VEVENT
UID:36386630-3035-4638-a637-663239623264
DTSTAMP:20260425T161735Z
DESCRIPTION:5/12148 ČZU Praha - Beskydy B 3:1 (23\,18\,-19\,10)
DTSTART;TZID=Europe/Berlin:20260124T160000
DTEND;TZID=Europe/Berlin:20260124T180000
LOCATION:Sportcentrum Suchdol ČZU\, Sídlištní 1167 Praha - Suchdol
SUMMARY:1-M-II: ČZU Praha-Beskydy B
END:VEVENT
BEGIN:VEVENT
UID:37616366-6231-4535-b661-393031646237
DTSTAMP:20260425T161735Z
DESCRIPTION:8/12160 Č. Budějovice B - Beskydy B 3:1 (-23\,25\,23\,19)
DTSTART;TZID=Europe/Berlin:20260206T190000
DTEND;TZID=Europe/Berlin:20260206T210000
LOCATION:ZŠ Oskara Nedbala České Budějovice\, O. Nedbala 882 České Budějovi
 ce - České Budějovice 2
SUMMARY:1-M-II: Č. Budějovice B-Beskydy B
END:VEVENT
BEGIN:VEVENT
UID:33663465-3263-4563-b164-316635383766
DTSTAMP:20260425T161735Z
DESCRIPTION:3/12171 Beskydy B - Kolín 3:0 (17\,23\,22)
DTSTART;TZID=Europe/Berlin:20260212T140000
DTEND;TZID=Europe/Berlin:20260212T160000
LOCATION:Sportovní hala Nová Bělá\, Krmelínská 750 Ostrava - Nová Bělá
SUMMARY:1-M-IV: Beskydy B-Kolín
END:VEVENT
BEGIN:VEVENT
UID:63626664-3539-4332-b236-336163646639
DTSTAMP:20260425T161735Z
DESCRIPTION:5/12176 Beskydy B - Kojetín 3:0 (21\,23\,18)
DTSTART;TZID=Europe/Berlin:20260313T180000
DTEND;TZID=Europe/Berlin:20260313T200000
LOCATION:Sportovní hala Ostrava -Třebovice\, 5. května 5649 Ostrava - Třebo
 vice
SUMMARY:1-M-IV: Beskydy B-Kojetín
END:VEVENT
BEGIN:VEVENT
UID:34623762-3930-4333-b464-396665353433
DTSTAMP:20260425T161735Z
DESCRIPTION:6/12180 Beskydy B - Kometa Brno 0:3 (-21\,-21\,-14)
DTSTART;TZID=Europe/Berlin:20260314T140000
DTEND;TZID=Europe/Berlin:20260314T160000
LOCATION:Sportovní hala Ostrava -Třebovice\, 5. května 5649 Ostrava - Třebo
 vice
SUMMARY:1-M-IV: Beskydy B-Kometa Brno
END:VEVENT
BEGIN:VEVENT
UID:62666639-6630-4763-b930-356239373733
DTSTAMP:20260425T161735Z
DESCRIPTION:7/12181 Beskydy B - Velké Meziříčí 3:0 (16\,22\,22)
DTSTART;TZID=Europe/Berlin:20260320T190000
DTEND;TZID=Europe/Berlin:20260320T210000
LOCATION:Sportovní hala Ostrava -Třebovice\, 5. května 5649 Ostrava - Třebo
 vice
SUMMARY:1-M-IV: Beskydy B-Velké Meziříčí
END:VEVENT
BEGIN:VEVENT
UID:61623538-3837-4632-b066-363564353535
DTSTAMP:20260425T161735Z
DESCRIPTION:9/12188 Beskydy B - ČZU Praha 3:0 (13\,15\,10)
DTSTART;TZID=Europe/Berlin:20260328T140000
DTEND;TZID=Europe/Berlin:20260328T160000
LOCATION:Sportovní hala Ostrava -Třebovice\, 5. května 5649 Ostrava - Třebo
 vice
SUMMARY:1-M-IV: Beskydy B-ČZU Praha
END:VEVENT
BEGIN:VEVENT
UID:36346363-6139-4134-a633-383362643732
DTSTAMP:20260425T161735Z
DESCRIPTION:1/12165 Kometa Brno - Beskydy B 0:3 (-17\,-20\,-23)
DTSTART;TZID=Europe/Berlin:20260213T180000
DTEND;TZID=Europe/Berlin:20260213T200000
LOCATION:Sportovní hala Rousínov\, Habrovanská 1199 Rousínov
SUMMARY:1-M-IV: Kometa Brno-Beskydy B
END:VEVENT
BEGIN:VEVENT
UID:31353462-3339-4264-b334-313165376662
DTSTAMP:20260425T161735Z
DESCRIPTION:2/12166 Velké Meziříčí - Beskydy B 0:3 (-18\,-23\,-14)
DTSTART;TZID=Europe/Berlin:20260220T193000
DTEND;TZID=Europe/Berlin:20260220T213000
LOCATION:ZŠ Komenského\, Komenského 1 Velké Meziříčí
SUMMARY:1-M-IV: Velké Meziříčí-Beskydy B
END:VEVENT
BEGIN:VEVENT
UID:64323336-3936-4637-a430-333834636363
DTSTAMP:20260425T161735Z
DESCRIPTION:4/12173 ČZU Praha - Beskydy B 3:0 (16\,19\,21)
DTSTART;TZID=Europe/Berlin:20260306T190000
DTEND;TZID=Europe/Berlin:20260306T210000
LOCATION:Sportcentrum Suchdol ČZU\, Sídlištní 1167 Praha - Suchdol
SUMMARY:1-M-IV: ČZU Praha-Beskydy B
END:VEVENT
BEGIN:VEVENT
UID:63373130-6136-4230-b136-373665346636
DTSTAMP:20260425T161735Z
DESCRIPTION:8/12186 Kolín - Beskydy B 0:3 (-17\,-12\,-22)
DTSTART;TZID=Europe/Berlin:20260327T180000
DTEND;TZID=Europe/Berlin:20260327T200000
LOCATION:Sportovní hala Borky\, Brankovická 1216 Kolín - Kolín V
SUMMARY:1-M-IV: Kolín-Beskydy B
END:VEVENT
BEGIN:VEVENT
UID:36346165-3864-4263-b762-366137393562
DTSTAMP:20260425T161735Z
DESCRIPTION:10/12191 Kojetín - Beskydy B 0:3 (-15\,-14\,-18)
DTSTART;TZID=Europe/Berlin:20260403T190000
DTEND;TZID=Europe/Berlin:20260403T210000
LOCATION:Městská sportovní hala\, Hanusíkova 1476 Kojetín - Kojetín I-Město
SUMMARY:1-M-IV: Kojetín-Beskydy B
END:VEVENT
END:VCALENDAR
