BEGIN:VCALENDAR
VERSION:2.0
PRODID:-//SK Kojetín 201689728//NONSGML kigkonsult.se iCalcreator 2.41.80//
CALSCALE:GREGORIAN
UID:32613932-3537-4038-a363-626132636531
BEGIN:VEVENT
UID:66643232-6536-4239-b636-663736373434
DTSTAMP:20260425T183006Z
DESCRIPTION:2/12062 Kojetín - Beskydy B 0:3 (-19\,-23\,-21)
DTSTART;TZID=Europe/Berlin:20251004T180000
DTEND;TZID=Europe/Berlin:20251004T200000
LOCATION:Městská sportovní hala\, Hanusíkova 1476 Kojetín - Kojetín I-Město
SUMMARY:1-M-B: Kojetín-Beskydy B
END:VEVENT
BEGIN:VEVENT
UID:65636637-3863-4638-b831-656539623334
DTSTAMP:20260425T183006Z
DESCRIPTION:5/12076 Kojetín - VK Brno 1:3 (-23\,-20\,30\,-20)
DTSTART;TZID=Europe/Berlin:20251018T180000
DTEND;TZID=Europe/Berlin:20251018T200000
LOCATION:Městská sportovní hala\, Hanusíkova 1476 Kojetín - Kojetín I-Město
SUMMARY:1-M-B: Kojetín-VK Brno
END:VEVENT
BEGIN:VEVENT
UID:32313438-6530-4062-a631-366331326635
DTSTAMP:20260425T183006Z
DESCRIPTION:7/12083 Kojetín - Kometa Brno 3:2 (-29\,-18\,14\,13\,14)
DTSTART;TZID=Europe/Berlin:20251031T190000
DTEND;TZID=Europe/Berlin:20251031T210000
LOCATION:Městská sportovní hala\, Hanusíkova 1476 Kojetín - Kojetín I-Město
SUMMARY:1-M-B: Kojetín-Kometa Brno
END:VEVENT
BEGIN:VEVENT
UID:37353664-3132-4138-b364-343132653733
DTSTAMP:20260425T183006Z
DESCRIPTION:8/12087 Kojetín - H. Králové 2:3 (21\,-22\,22\,-22\,-12)
DTSTART;TZID=Europe/Berlin:20251107T190000
DTEND;TZID=Europe/Berlin:20251107T210000
LOCATION:Městská sportovní hala\, Hanusíkova 1476 Kojetín - Kojetín I-Město
SUMMARY:1-M-B: Kojetín-H. Králové
END:VEVENT
BEGIN:VEVENT
UID:37373638-3732-4536-b436-373564323030
DTSTAMP:20260425T183006Z
DESCRIPTION:11/12097 Kojetín - Velké Meziříčí 3:1 (-24\,24\,23\,7)
DTSTART;TZID=Europe/Berlin:20251128T190000
DTEND;TZID=Europe/Berlin:20251128T210000
LOCATION:Městská sportovní hala\, Hanusíkova 1476 Kojetín - Kojetín I-Město
SUMMARY:1-M-B: Kojetín-Velké Meziříčí
END:VEVENT
BEGIN:VEVENT
UID:32343237-3435-4462-a534-623832653232
DTSTAMP:20260425T183006Z
DESCRIPTION:13/12106 Kojetín - Bučovice 2:3 (-17\,-19\,21\,22\,-8)
DTSTART;TZID=Europe/Berlin:20251212T190000
DTEND;TZID=Europe/Berlin:20251212T210000
LOCATION:Městská sportovní hala\, Hanusíkova 1476 Kojetín - Kojetín I-Město
SUMMARY:1-M-B: Kojetín-Bučovice
END:VEVENT
BEGIN:VEVENT
UID:63396438-3630-4033-a136-373530623764
DTSTAMP:20260425T183006Z
DESCRIPTION:1/12059 H. Králové - Kojetín 3:0 (19\,19\,17)
DTSTART;TZID=Europe/Berlin:20251003T190000
DTEND;TZID=Europe/Berlin:20251003T210000
LOCATION:TJ Slavia Hradec Králové\, Víta Nejedlého 1216 Hradec Králové
SUMMARY:1-M-B: H. Králové-Kojetín
END:VEVENT
BEGIN:VEVENT
UID:36303865-6439-4861-b264-636331653732
DTSTAMP:20260425T183006Z
DESCRIPTION:4/12069 Velké Meziříčí - Kojetín 1:3 (-22\,23\,-18\,-19)
DTSTART;TZID=Europe/Berlin:20251017T193000
DTEND;TZID=Europe/Berlin:20251017T213000
LOCATION:ZŠ Komenského\, Komenského 1 Velké Meziříčí
SUMMARY:1-M-B: Velké Meziříčí-Kojetín
END:VEVENT
BEGIN:VEVENT
UID:31353666-3338-4266-a463-373536616664
DTSTAMP:20260425T183006Z
DESCRIPTION:6/12078 Bučovice - Kojetín 3:0 (20\,20\,18)
DTSTART;TZID=Europe/Berlin:20251024T190000
DTEND;TZID=Europe/Berlin:20251024T210000
LOCATION:ZŠ Bučovice 710\, Školní 710 Bučovice
SUMMARY:1-M-B: Bučovice-Kojetín
END:VEVENT
BEGIN:VEVENT
UID:65336466-3139-4539-a333-373861336236
DTSTAMP:20260425T183006Z
DESCRIPTION:9/12090 Beskydy B - Kojetín 3:0 (19\,20\,16)
DTSTART;TZID=Europe/Berlin:20251114T180000
DTEND;TZID=Europe/Berlin:20251114T200000
LOCATION:Sportovní hala Ostrava -Třebovice\, 5. května 5649 Ostrava - Třebo
 vice
SUMMARY:1-M-B: Beskydy B-Kojetín
END:VEVENT
BEGIN:VEVENT
UID:62326533-6234-4066-a465-336331663261
DTSTAMP:20260425T183006Z
DESCRIPTION:12/12104 VK Brno - Kojetín 3:1 (-24\,22\,24\,21)
DTSTART;TZID=Europe/Berlin:20251205T190000
DTEND;TZID=Europe/Berlin:20251205T210000
LOCATION:Sportovní gymnázium Ludvíka Daňka\, Botanická 63 Brno - Ponava
SUMMARY:1-M-B: VK Brno-Kojetín
END:VEVENT
BEGIN:VEVENT
UID:63633735-6134-4034-b130-393034666566
DTSTAMP:20260425T183006Z
DESCRIPTION:14/12111 Kometa Brno - Kojetín 0:3 (-16\,-18\,-22)
DTSTART;TZID=Europe/Berlin:20251219T180000
DTEND;TZID=Europe/Berlin:20251219T200000
LOCATION:Sportovní hala Rousínov\, Habrovanská 1199 Rousínov
SUMMARY:1-M-B: Kometa Brno-Kojetín
END:VEVENT
BEGIN:VEVENT
UID:32326466-6333-4337-a137-396537626462
DTSTAMP:20260425T183006Z
DESCRIPTION:2/10008 Kojetín - Brno 1:3 (23\,-14\,-19\,-22)
DTSTART;TZID=Europe/Berlin:20251021T190000
DTEND;TZID=Europe/Berlin:20251021T210000
LOCATION:Městská sportovní hala\, Hanusíkova 1476 Kojetín - Kojetín I-Město
SUMMARY:CP-M: Kojetín-Brno
END:VEVENT
BEGIN:VEVENT
UID:63613165-6336-4832-b236-646166383938
DTSTAMP:20260425T183006Z
DESCRIPTION:1/2 Nový Jičín - Kojetín 0:3 (-18\,-12\,-13)
DTSTART;TZID=Europe/Berlin:20250920T133000
DTEND;TZID=Europe/Berlin:20250920T153000
LOCATION:Sportovní hala Ostrava -Třebovice\, 5. května 5649 Ostrava - Třebo
 vice
SUMMARY:CP-M-G: Nový Jičín-Kojetín
END:VEVENT
BEGIN:VEVENT
UID:30656330-3463-4463-a633-366539373664
DTSTAMP:20260425T183006Z
DESCRIPTION:1/3 Beskydy B - Kojetín 0:3 (-17\,-25\,-22)
DTSTART;TZID=Europe/Berlin:20250920T170000
DTEND;TZID=Europe/Berlin:20250920T190000
LOCATION:Sportovní hala Ostrava -Třebovice\, 5. května 5649 Ostrava - Třebo
 vice
SUMMARY:CP-M-G: Beskydy B-Kojetín
END:VEVENT
BEGIN:VEVENT
UID:34346263-6139-4435-a439-656562346135
DTSTAMP:20260425T183006Z
DESCRIPTION:1/12134 Kojetín - Č. Budějovice B 3:0 (24\,17\,20)
DTSTART;TZID=Europe/Berlin:20260109T190000
DTEND;TZID=Europe/Berlin:20260109T210000
LOCATION:Městská sportovní hala\, Hanusíkova 1476 Kojetín - Kojetín I-Město
SUMMARY:1-M-II: Kojetín-Č. Budějovice B
END:VEVENT
BEGIN:VEVENT
UID:64616134-3534-4430-b335-613766656334
DTSTAMP:20260425T183006Z
DESCRIPTION:2/12138 Kojetín - ČZU Praha 3:1 (21\,19\,-17\,16)
DTSTART;TZID=Europe/Berlin:20260110T170000
DTEND;TZID=Europe/Berlin:20260110T190000
LOCATION:Městská sportovní hala\, Hanusíkova 1476 Kojetín - Kojetín I-Město
SUMMARY:1-M-II: Kojetín-ČZU Praha
END:VEVENT
BEGIN:VEVENT
UID:61383539-3662-4231-b266-643935653930
DTSTAMP:20260425T183006Z
DESCRIPTION:6/12154 Kojetín - Lvi Praha B 1:3 (21\,-26\,-21\,-12)
DTSTART;TZID=Europe/Berlin:20260130T190000
DTEND;TZID=Europe/Berlin:20260130T210000
LOCATION:Městská sportovní hala\, Hanusíkova 1476 Kojetín - Kojetín I-Město
SUMMARY:1-M-II: Kojetín-Lvi Praha B
END:VEVENT
BEGIN:VEVENT
UID:33336434-6137-4961-b334-633864626536
DTSTAMP:20260425T183006Z
DESCRIPTION:7/12158 Kojetín - Kolín 3:0 (15\,18\,20)
DTSTART;TZID=Europe/Berlin:20260129T200000
DTEND;TZID=Europe/Berlin:20260129T220000
LOCATION:Městská sportovní hala\, Hanusíkova 1476 Kojetín - Kojetín I-Město
SUMMARY:1-M-II: Kojetín-Kolín
END:VEVENT
BEGIN:VEVENT
UID:34623965-3330-4631-a463-626565616234
DTSTAMP:20260425T183006Z
DESCRIPTION:3/12142 Lvi Praha B - Kojetín 3:0 (14\,18\,23)
DTSTART;TZID=Europe/Berlin:20260116T190000
DTEND;TZID=Europe/Berlin:20260116T210000
LOCATION:Sportovní hala Lužiny\, Bellušova 1877 Praha - Stodůlky
SUMMARY:1-M-II: Lvi Praha B-Kojetín
END:VEVENT
BEGIN:VEVENT
UID:38306434-3063-4962-b339-313563376638
DTSTAMP:20260425T183006Z
DESCRIPTION:4/12146 Kolín - Kojetín 3:0 (23\,20\,22)
DTSTART;TZID=Europe/Berlin:20260123T180000
DTEND;TZID=Europe/Berlin:20260123T200000
LOCATION:Sportovní hala Borky\, Brankovická 1216 Kolín - Kolín V
SUMMARY:1-M-II: Kolín-Kojetín
END:VEVENT
BEGIN:VEVENT
UID:63306133-6534-4830-a338-343336326239
DTSTAMP:20260425T183006Z
DESCRIPTION:5/12150 Č. Budějovice B - Kojetín 3:1 (21\,22\,-23\,20)
DTSTART;TZID=Europe/Berlin:20260124T130000
DTEND;TZID=Europe/Berlin:20260124T150000
LOCATION:ZŠ Oskara Nedbala České Budějovice\, O. Nedbala 882 České Budějovi
 ce - České Budějovice 2
SUMMARY:1-M-II: Č. Budějovice B-Kojetín
END:VEVENT
BEGIN:VEVENT
UID:38386162-6166-4533-a161-626162653633
DTSTAMP:20260425T183006Z
DESCRIPTION:8/12162 ČZU Praha - Kojetín 3:0 (23\,20\,16)
DTSTART;TZID=Europe/Berlin:20260206T190000
DTEND;TZID=Europe/Berlin:20260206T210000
LOCATION:Sportcentrum Suchdol ČZU\, Sídlištní 1167 Praha - Suchdol
SUMMARY:1-M-II: ČZU Praha-Kojetín
END:VEVENT
BEGIN:VEVENT
UID:30666461-6136-4636-b735-336135333138
DTSTAMP:20260425T183006Z
DESCRIPTION:1/12164 Kojetín - Kolín 3:0 (21\,18\,21)
DTSTART;TZID=Europe/Berlin:20260213T190000
DTEND;TZID=Europe/Berlin:20260213T210000
LOCATION:Městská sportovní hala\, Hanusíkova 1476 Kojetín - Kojetín I-Město
SUMMARY:1-M-IV: Kojetín-Kolín
END:VEVENT
BEGIN:VEVENT
UID:63623339-3832-4364-b837-623136663933
DTSTAMP:20260425T183006Z
DESCRIPTION:3/12169 Kojetín - Velké Meziříčí 3:0 (19\,15\,20)
DTSTART;TZID=Europe/Berlin:20260221T173000
DTEND;TZID=Europe/Berlin:20260221T193000
LOCATION:Městská sportovní hala\, Hanusíkova 1476 Kojetín - Kojetín I-Město
SUMMARY:1-M-IV: Kojetín-Velké Meziříčí
END:VEVENT
BEGIN:VEVENT
UID:34383763-6532-4834-b265-643034303134
DTSTAMP:20260425T183006Z
DESCRIPTION:4/12174 Kojetín - Kometa Brno 3:1 (24\,20\,-25\,20)
DTSTART;TZID=Europe/Berlin:20260306T190000
DTEND;TZID=Europe/Berlin:20260306T210000
LOCATION:Městská sportovní hala\, Hanusíkova 1476 Kojetín - Kojetín I-Město
SUMMARY:1-M-IV: Kojetín-Kometa Brno
END:VEVENT
BEGIN:VEVENT
UID:37643464-6333-4431-a535-386664643232
DTSTAMP:20260425T183006Z
DESCRIPTION:7/12183 Kojetín - ČZU Praha 3:0 (10\,23\,14)
DTSTART;TZID=Europe/Berlin:20260320T190000
DTEND;TZID=Europe/Berlin:20260320T210000
LOCATION:Městská sportovní hala\, Hanusíkova 1476 Kojetín - Kojetín I-Město
SUMMARY:1-M-IV: Kojetín-ČZU Praha
END:VEVENT
BEGIN:VEVENT
UID:66633934-3731-4462-a533-356232346333
DTSTAMP:20260425T183006Z
DESCRIPTION:10/12191 Kojetín - Beskydy B 0:3 (-15\,-14\,-18)
DTSTART;TZID=Europe/Berlin:20260403T190000
DTEND;TZID=Europe/Berlin:20260403T210000
LOCATION:Městská sportovní hala\, Hanusíkova 1476 Kojetín - Kojetín I-Město
SUMMARY:1-M-IV: Kojetín-Beskydy B
END:VEVENT
BEGIN:VEVENT
UID:37393935-6565-4136-a334-383835643661
DTSTAMP:20260425T183006Z
DESCRIPTION:2/12168 ČZU Praha - Kojetín 3:2 (-20\,15\,15\,-19\,11)
DTSTART;TZID=Europe/Berlin:20260220T190000
DTEND;TZID=Europe/Berlin:20260220T210000
LOCATION:Sportcentrum Suchdol ČZU\, Sídlištní 1167 Praha - Suchdol
SUMMARY:1-M-IV: ČZU Praha-Kojetín
END:VEVENT
BEGIN:VEVENT
UID:33383034-3265-4432-b731-316262363031
DTSTAMP:20260425T183006Z
DESCRIPTION:5/12176 Beskydy B - Kojetín 3:0 (21\,23\,18)
DTSTART;TZID=Europe/Berlin:20260313T180000
DTEND;TZID=Europe/Berlin:20260313T200000
LOCATION:Sportovní hala Ostrava -Třebovice\, 5. května 5649 Ostrava - Třebo
 vice
SUMMARY:1-M-IV: Beskydy B-Kojetín
END:VEVENT
BEGIN:VEVENT
UID:65323262-3131-4665-a339-383335636163
DTSTAMP:20260425T183006Z
DESCRIPTION:6/12179 Kolín - Kojetín 2:3 (-22\,24\,-22\,18\,-13)
DTSTART;TZID=Europe/Berlin:20260314T170000
DTEND;TZID=Europe/Berlin:20260314T190000
LOCATION:Sportovní hala Borky\, Brankovická 1216 Kolín - Kolín V
SUMMARY:1-M-IV: Kolín-Kojetín
END:VEVENT
BEGIN:VEVENT
UID:34646665-3863-4838-b064-653030373131
DTSTAMP:20260425T183006Z
DESCRIPTION:8/12184 Velké Meziříčí - Kojetín 3:1 (23\,-23\,22\,14)
DTSTART;TZID=Europe/Berlin:20260327T193000
DTEND;TZID=Europe/Berlin:20260327T213000
LOCATION:ZŠ Komenského\, Komenského 1 Velké Meziříčí
SUMMARY:1-M-IV: Velké Meziříčí-Kojetín
END:VEVENT
BEGIN:VEVENT
UID:66393166-3466-4738-a233-663337363233
DTSTAMP:20260425T183006Z
DESCRIPTION:9/12189 Kometa Brno - Kojetín 3:1 (23\,21\,-30\,23)
DTSTART;TZID=Europe/Berlin:20260328T180000
DTEND;TZID=Europe/Berlin:20260328T200000
LOCATION:Sportovní hala Rousínov\, Habrovanská 1199 Rousínov
SUMMARY:1-M-IV: Kometa Brno-Kojetín
END:VEVENT
END:VCALENDAR
