BEGIN:VCALENDAR
VERSION:2.0
PRODID:-//TJ Jiskra Havlíčkův Brod89792//NONSGML kigkonsult.se iCalcreator 2.41.80//
CALSCALE:GREGORIAN
UID:30343830-3565-4736-b537-386339653230
BEGIN:VEVENT
UID:39653330-3764-4965-b230-613639663438
DTSTAMP:20260422T053810Z
DESCRIPTION:3/12 Jiskra H. Brod - Šelmy B 3:0 (22\,20\,24)
DTSTART;TZID=Europe/Berlin:20251011T100000
DTEND;TZID=Europe/Berlin:20251011T120000
LOCATION:Sportovní hala TJ Jiskra\, Ledečská 3028 Havlíčkův Brod
SUMMARY:2-Z-B: Jiskra H. Brod-Šelmy B
END:VEVENT
BEGIN:VEVENT
UID:32343066-6337-4664-b135-646366646431
DTSTAMP:20260422T053810Z
DESCRIPTION:4/17 Jiskra H. Brod - Šelmy B 1:3 (-17\,-20\,21\,-23)
DTSTART;TZID=Europe/Berlin:20251011T140000
DTEND;TZID=Europe/Berlin:20251011T160000
LOCATION:Sportovní hala TJ Jiskra\, Ledečská 3028 Havlíčkův Brod
SUMMARY:2-Z-B: Jiskra H. Brod-Šelmy B
END:VEVENT
BEGIN:VEVENT
UID:30646664-6663-4361-b866-623232393530
DTSTAMP:20260422T053810Z
DESCRIPTION:9/45 Jiskra H. Brod - Č. Krumlov 2:3 (23\,-20\,-23\,25\,-12)
DTSTART;TZID=Europe/Berlin:20251108T100000
DTEND;TZID=Europe/Berlin:20251108T120000
LOCATION:Sportovní hala TJ Jiskra\, Ledečská 3028 Havlíčkův Brod
SUMMARY:2-Z-B: Jiskra H. Brod-Č. Krumlov
END:VEVENT
BEGIN:VEVENT
UID:66303235-6136-4162-b936-393661386662
DTSTAMP:20260422T053810Z
DESCRIPTION:10/50 Jiskra H. Brod - Č. Krumlov 3:0 (21\,22\,15)
DTSTART;TZID=Europe/Berlin:20251108T140000
DTEND;TZID=Europe/Berlin:20251108T160000
LOCATION:Sportovní hala TJ Jiskra\, Ledečská 3028 Havlíčkův Brod
SUMMARY:2-Z-B: Jiskra H. Brod-Č. Krumlov
END:VEVENT
BEGIN:VEVENT
UID:62353062-6165-4066-b536-306562326264
DTSTAMP:20260422T053810Z
DESCRIPTION:13/64 Jiskra H. Brod - S V B C 1:3 (24\,-16\,-18\,-21)
DTSTART;TZID=Europe/Berlin:20251129T100000
DTEND;TZID=Europe/Berlin:20251129T120000
LOCATION:Sportovní hala TJ Jiskra\, Ledečská 3028 Havlíčkův Brod
SUMMARY:2-Z-B: Jiskra H. Brod-S V B C
END:VEVENT
BEGIN:VEVENT
UID:30316135-6364-4432-b233-663039333036
DTSTAMP:20260422T053810Z
DESCRIPTION:14/69 Jiskra H. Brod - S V B C 2:3 (-17\,-24\,22\,15\,-11)
DTSTART;TZID=Europe/Berlin:20251129T140000
DTEND;TZID=Europe/Berlin:20251129T160000
LOCATION:Sportovní hala TJ Jiskra\, Ledečská 3028 Havlíčkův Brod
SUMMARY:2-Z-B: Jiskra H. Brod-S V B C
END:VEVENT
BEGIN:VEVENT
UID:35663065-3134-4463-b530-643161323438
DTSTAMP:20260422T053810Z
DESCRIPTION:17/83 Jiskra H. Brod - Střešovice B 3:0 (21\,17\,16)
DTSTART;TZID=Europe/Berlin:20251213T100000
DTEND;TZID=Europe/Berlin:20251213T120000
LOCATION:Sportovní hala TJ Jiskra\, Ledečská 3028 Havlíčkův Brod
SUMMARY:2-Z-B: Jiskra H. Brod-Střešovice B
END:VEVENT
BEGIN:VEVENT
UID:30373866-3965-4666-a366-303265663838
DTSTAMP:20260422T053810Z
DESCRIPTION:18/88 Jiskra H. Brod - Střešovice B 3:0 (18\,17\,12)
DTSTART;TZID=Europe/Berlin:20251213T140000
DTEND;TZID=Europe/Berlin:20251213T160000
LOCATION:Sportovní hala TJ Jiskra\, Ledečská 3028 Havlíčkův Brod
SUMMARY:2-Z-B: Jiskra H. Brod-Střešovice B
END:VEVENT
BEGIN:VEVENT
UID:30393263-6331-4564-b535-333161323463
DTSTAMP:20260422T053810Z
DESCRIPTION:19/94 Jiskra H. Brod - Nové Veselí 2:3 (-15\,22\,23\,-23\,-12)
DTSTART;TZID=Europe/Berlin:20260110T100000
DTEND;TZID=Europe/Berlin:20260110T120000
LOCATION:Sportovní hala TJ Jiskra\, Ledečská 3028 Havlíčkův Brod
SUMMARY:2-Z-B: Jiskra H. Brod-Nové Veselí
END:VEVENT
BEGIN:VEVENT
UID:61346430-6665-4664-b764-333662393231
DTSTAMP:20260422T053810Z
DESCRIPTION:20/99 Jiskra H. Brod - Nové Veselí 1:3 (-19\,-18\,23\,-15)
DTSTART;TZID=Europe/Berlin:20260110T140000
DTEND;TZID=Europe/Berlin:20260110T160000
LOCATION:Sportovní hala TJ Jiskra\, Ledečská 3028 Havlíčkův Brod
SUMMARY:2-Z-B: Jiskra H. Brod-Nové Veselí
END:VEVENT
BEGIN:VEVENT
UID:33383136-6437-4337-b534-626630353062
DTSTAMP:20260422T053810Z
DESCRIPTION:23/115 Jiskra H. Brod - Žižkov 3:2 (20\,-23\,20\,-20\,9)
DTSTART;TZID=Europe/Berlin:20260124T100000
DTEND;TZID=Europe/Berlin:20260124T120000
LOCATION:Sportovní hala TJ Jiskra\, Ledečská 3028 Havlíčkův Brod
SUMMARY:2-Z-B: Jiskra H. Brod-Žižkov
END:VEVENT
BEGIN:VEVENT
UID:32323635-6439-4433-a632-303361623765
DTSTAMP:20260422T053810Z
DESCRIPTION:24/120 Jiskra H. Brod - Žižkov 3:1 (19\,-29\,21\,15)
DTSTART;TZID=Europe/Berlin:20260124T140000
DTEND;TZID=Europe/Berlin:20260124T160000
LOCATION:Sportovní hala TJ Jiskra\, Ledečská 3028 Havlíčkův Brod
SUMMARY:2-Z-B: Jiskra H. Brod-Žižkov
END:VEVENT
BEGIN:VEVENT
UID:65616631-3637-4338-b532-373965366430
DTSTAMP:20260422T053810Z
DESCRIPTION:25/121 Jiskra H. Brod - Č. Třebová 3:1 (20\,18\,-18\,13)
DTSTART;TZID=Europe/Berlin:20260207T100000
DTEND;TZID=Europe/Berlin:20260207T120000
LOCATION:Sportovní hala TJ Jiskra\, Ledečská 3028 Havlíčkův Brod
SUMMARY:2-Z-B: Jiskra H. Brod-Č. Třebová
END:VEVENT
BEGIN:VEVENT
UID:38373437-6131-4363-b964-323166386137
DTSTAMP:20260422T053810Z
DESCRIPTION:26/126 Jiskra H. Brod - Č. Třebová 3:1 (21\,-22\,23\,20)
DTSTART;TZID=Europe/Berlin:20260207T140000
DTEND;TZID=Europe/Berlin:20260207T160000
LOCATION:Sportovní hala TJ Jiskra\, Ledečská 3028 Havlíčkův Brod
SUMMARY:2-Z-B: Jiskra H. Brod-Č. Třebová
END:VEVENT
BEGIN:VEVENT
UID:35623937-6535-4662-b166-313663326232
DTSTAMP:20260422T053810Z
DESCRIPTION:29/142 Jiskra H. Brod - Jihlava 0:3 (-22\,-20\,-22)
DTSTART;TZID=Europe/Berlin:20260221T100000
DTEND;TZID=Europe/Berlin:20260221T120000
LOCATION:Sportovní hala TJ Jiskra\, Ledečská 3028 Havlíčkův Brod
SUMMARY:2-Z-B: Jiskra H. Brod-Jihlava
END:VEVENT
BEGIN:VEVENT
UID:66333033-6333-4434-b335-333161636334
DTSTAMP:20260422T053810Z
DESCRIPTION:30/147 Jiskra H. Brod - Jihlava 1:3 (20\,-16\,-20\,-20)
DTSTART;TZID=Europe/Berlin:20260221T140000
DTEND;TZID=Europe/Berlin:20260221T160000
LOCATION:Sportovní hala TJ Jiskra\, Ledečská 3028 Havlíčkův Brod
SUMMARY:2-Z-B: Jiskra H. Brod-Jihlava
END:VEVENT
BEGIN:VEVENT
UID:64373664-3463-4530-a365-383235376562
DTSTAMP:20260422T053810Z
DESCRIPTION:33/163 Jiskra H. Brod - Sokol H. Brod 0:3 (-17\,-18\,-18)
DTSTART;TZID=Europe/Berlin:20260321T100000
DTEND;TZID=Europe/Berlin:20260321T120000
LOCATION:Sportovní hala TJ Jiskra\, Ledečská 3028 Havlíčkův Brod
SUMMARY:2-Z-B: Jiskra H. Brod-Sokol H. Brod
END:VEVENT
BEGIN:VEVENT
UID:30656566-6166-4164-a364-353362623930
DTSTAMP:20260422T053810Z
DESCRIPTION:34/168 Jiskra H. Brod - Sokol H. Brod 1:3 (-15\,18\,-24\,-20)
DTSTART;TZID=Europe/Berlin:20260321T140000
DTEND;TZID=Europe/Berlin:20260321T160000
LOCATION:Sportovní hala TJ Jiskra\, Ledečská 3028 Havlíčkův Brod
SUMMARY:2-Z-B: Jiskra H. Brod-Sokol H. Brod
END:VEVENT
BEGIN:VEVENT
UID:62343931-6333-4364-a137-616236616663
DTSTAMP:20260422T053810Z
DESCRIPTION:1/4 Nové Veselí - Jiskra H. Brod 1:3 (-23\,-23\,14\,-16)
DTSTART;TZID=Europe/Berlin:20251220T100000
DTEND;TZID=Europe/Berlin:20251220T120000
LOCATION:Víceúčelová sportovní hala Nové Veselí\, Žďárská 356 Nové Veselí
SUMMARY:2-Z-B: Nové Veselí-Jiskra H. Brod
END:VEVENT
BEGIN:VEVENT
UID:61353134-3362-4930-b437-653461333933
DTSTAMP:20260422T053810Z
DESCRIPTION:2/9 Nové Veselí - Jiskra H. Brod 3:0 (23\,13\,16)
DTSTART;TZID=Europe/Berlin:20251220T140000
DTEND;TZID=Europe/Berlin:20251220T160000
LOCATION:Víceúčelová sportovní hala Nové Veselí\, Žďárská 356 Nové Veselí
SUMMARY:2-Z-B: Nové Veselí-Jiskra H. Brod
END:VEVENT
BEGIN:VEVENT
UID:37393864-3866-4433-b137-333765626536
DTSTAMP:20260422T053810Z
DESCRIPTION:5/25 Žižkov - Jiskra H. Brod 3:0 (13\,15\,18)
DTSTART;TZID=Europe/Berlin:20251018T100000
DTEND;TZID=Europe/Berlin:20251018T120000
LOCATION:TJ Sokol Žižkov I.\, Hartigova 929 Praha - Žižkov
SUMMARY:2-Z-B: Žižkov-Jiskra H. Brod
END:VEVENT
BEGIN:VEVENT
UID:65633564-3830-4838-b461-336333613163
DTSTAMP:20260422T053810Z
DESCRIPTION:6/30 Žižkov - Jiskra H. Brod 2:3 (-16\,20\,-21\,24\,-12)
DTSTART;TZID=Europe/Berlin:20251018T140000
DTEND;TZID=Europe/Berlin:20251018T160000
LOCATION:TJ Sokol Žižkov I.\, Hartigova 929 Praha - Žižkov
SUMMARY:2-Z-B: Žižkov-Jiskra H. Brod
END:VEVENT
BEGIN:VEVENT
UID:35383864-3838-4662-b337-643133303865
DTSTAMP:20260422T053810Z
DESCRIPTION:7/31 Č. Třebová - Jiskra H. Brod 3:2 (-15\,21\,-23\,21\,12)
DTSTART;TZID=Europe/Berlin:20251101T100000
DTEND;TZID=Europe/Berlin:20251101T120000
LOCATION:Základní škola Česká Třebová Habrmanova\, Na Skále\, Na Skále 566 
 Česká Třebová
SUMMARY:2-Z-B: Č. Třebová-Jiskra H. Brod
END:VEVENT
BEGIN:VEVENT
UID:63306536-6530-4364-a137-316532393435
DTSTAMP:20260422T053810Z
DESCRIPTION:8/36 Č. Třebová - Jiskra H. Brod 2:3 (18\,-25\,-19\,26\,-7)
DTSTART;TZID=Europe/Berlin:20251101T140000
DTEND;TZID=Europe/Berlin:20251101T160000
LOCATION:Základní škola Česká Třebová Habrmanova\, Na Skále\, Na Skále 566 
 Česká Třebová
SUMMARY:2-Z-B: Č. Třebová-Jiskra H. Brod
END:VEVENT
BEGIN:VEVENT
UID:66653730-3066-4437-b663-616330636231
DTSTAMP:20260422T053810Z
DESCRIPTION:11/52 Jihlava - Jiskra H. Brod 3:1 (11\,-23\,20\,20)
DTSTART;TZID=Europe/Berlin:20250927T100000
DTEND;TZID=Europe/Berlin:20250927T120000
LOCATION:TJ Start Jihlava\, Romana Havelky 5508 Jihlava
SUMMARY:2-Z-B: Jihlava-Jiskra H. Brod
END:VEVENT
BEGIN:VEVENT
UID:31613464-3930-4465-a334-353137313933
DTSTAMP:20260422T053810Z
DESCRIPTION:12/57 Jihlava - Jiskra H. Brod 3:0 (7\,12\,20)
DTSTART;TZID=Europe/Berlin:20250927T140000
DTEND;TZID=Europe/Berlin:20250927T160000
LOCATION:TJ Start Jihlava\, Romana Havelky 5508 Jihlava
SUMMARY:2-Z-B: Jihlava-Jiskra H. Brod
END:VEVENT
BEGIN:VEVENT
UID:32363739-6532-4133-a466-613232636636
DTSTAMP:20260422T053810Z
DESCRIPTION:15/73 Sokol H. Brod - Jiskra H. Brod 3:0 (16\,22\,16)
DTSTART;TZID=Europe/Berlin:20251206T090000
DTEND;TZID=Europe/Berlin:20251206T110000
LOCATION:Střední zdravotnická škola Havlíčkův Brod\, Masarykova 2033 Havlíč
 kův Brod
SUMMARY:2-Z-B: Sokol H. Brod-Jiskra H. Brod
END:VEVENT
BEGIN:VEVENT
UID:34633664-3032-4664-b665-386665313363
DTSTAMP:20260422T053810Z
DESCRIPTION:16/78 Sokol H. Brod - Jiskra H. Brod 3:0 (20\,17\,16)
DTSTART;TZID=Europe/Berlin:20251206T130000
DTEND;TZID=Europe/Berlin:20251206T150000
LOCATION:Střední zdravotnická škola Havlíčkův Brod\, Masarykova 2033 Havlíč
 kův Brod
SUMMARY:2-Z-B: Sokol H. Brod-Jiskra H. Brod
END:VEVENT
BEGIN:VEVENT
UID:31383837-3233-4531-b633-383536326134
DTSTAMP:20260422T053810Z
DESCRIPTION:21/102 Šelmy B - Jiskra H. Brod 3:0 (16\,25\,21)
DTSTART;TZID=Europe/Berlin:20260117T100000
DTEND;TZID=Europe/Berlin:20260117T120000
LOCATION:Gymnázium Matyáše Lercha\, Žižkova 980 Brno - Veveří
SUMMARY:2-Z-B: Šelmy B-Jiskra H. Brod
END:VEVENT
BEGIN:VEVENT
UID:35643930-3832-4834-a532-333131663931
DTSTAMP:20260422T053810Z
DESCRIPTION:22/107 Šelmy B - Jiskra H. Brod 1:3 (14\,-18\,-15\,-13)
DTSTART;TZID=Europe/Berlin:20260117T140000
DTEND;TZID=Europe/Berlin:20260117T160000
LOCATION:Gymnázium Matyáše Lercha\, Žižkova 980 Brno - Veveří
SUMMARY:2-Z-B: Šelmy B-Jiskra H. Brod
END:VEVENT
BEGIN:VEVENT
UID:30386638-3464-4638-b462-613534623831
DTSTAMP:20260422T053810Z
DESCRIPTION:27/135 Č. Krumlov - Jiskra H. Brod 3:1 (18\,23\,-18\,21)
DTSTART;TZID=Europe/Berlin:20260214T100000
DTEND;TZID=Europe/Berlin:20260214T120000
LOCATION:ZŠ Za Nádražím Český Krumlov\, Za Nádražím 222 Český Krumlov - Nád
 ražní Předměstí
SUMMARY:2-Z-B: Č. Krumlov-Jiskra H. Brod
END:VEVENT
BEGIN:VEVENT
UID:31343438-6434-4331-b734-363062383436
DTSTAMP:20260422T053810Z
DESCRIPTION:28/140 Č. Krumlov - Jiskra H. Brod 1:3 (22\,-23\,-22\,-23)
DTSTART;TZID=Europe/Berlin:20260214T140000
DTEND;TZID=Europe/Berlin:20260214T160000
LOCATION:ZŠ Za Nádražím Český Krumlov\, Za Nádražím 222 Český Krumlov - Nád
 ražní Předměstí
SUMMARY:2-Z-B: Č. Krumlov-Jiskra H. Brod
END:VEVENT
BEGIN:VEVENT
UID:36376466-3237-4337-a539-663330643739
DTSTAMP:20260422T053810Z
DESCRIPTION:31/154 S V B C - Jiskra H. Brod 3:0 (17\,22\,16)
DTSTART;TZID=Europe/Berlin:20260308T090000
DTEND;TZID=Europe/Berlin:20260308T110000
LOCATION:Sportovní hala Řevnice \, Školní 600 Řevnice
SUMMARY:2-Z-B: S V B C-Jiskra H. Brod
END:VEVENT
BEGIN:VEVENT
UID:31316462-3430-4663-b664-346238633234
DTSTAMP:20260422T053810Z
DESCRIPTION:32/159 S V B C - Jiskra H. Brod 3:2 (-21\,-21\,22\,7\,7)
DTSTART;TZID=Europe/Berlin:20260308T130000
DTEND;TZID=Europe/Berlin:20260308T150000
LOCATION:Sportovní hala Řevnice \, Školní 600 Řevnice
SUMMARY:2-Z-B: S V B C-Jiskra H. Brod
END:VEVENT
BEGIN:VEVENT
UID:64653330-3235-4235-a366-653535356634
DTSTAMP:20260422T053810Z
DESCRIPTION:35/173 Střešovice B - Jiskra H. Brod 0:3 (-21\,-20\,-12)
DTSTART;TZID=Europe/Berlin:20260328T100000
DTEND;TZID=Europe/Berlin:20260328T120000
LOCATION:TJ Tatran Střešovice\, Sibeliova 368 Praha - Střešovice
SUMMARY:2-Z-B: Střešovice B-Jiskra H. Brod
END:VEVENT
BEGIN:VEVENT
UID:39396666-3133-4438-a631-353434353730
DTSTAMP:20260422T053810Z
DESCRIPTION:36/178 Střešovice B - Jiskra H. Brod 1:3 (-12\,-13\,22\,-16)
DTSTART;TZID=Europe/Berlin:20260328T140000
DTEND;TZID=Europe/Berlin:20260328T160000
LOCATION:TJ Tatran Střešovice\, Sibeliova 368 Praha - Střešovice
SUMMARY:2-Z-B: Střešovice B-Jiskra H. Brod
END:VEVENT
BEGIN:VEVENT
UID:39343633-3836-4566-b861-306163313032
DTSTAMP:20260422T053810Z
DESCRIPTION:1/1 Jiskra H. Brod - Jihlava 0:3 (-10\,-17\,-20)
DTSTART;TZID=Europe/Berlin:20250920T100000
DTEND;TZID=Europe/Berlin:20250920T120000
LOCATION:Sportovní hala TJ Jiskra\, Ledečská 3028 Havlíčkův Brod
SUMMARY:CP-Z-C: Jiskra H. Brod-Jihlava
END:VEVENT
BEGIN:VEVENT
UID:31636532-6430-4435-b436-363334396131
DTSTAMP:20260422T053810Z
DESCRIPTION:2/4 Jiskra H. Brod - Junior Brno 0:3 (-20\,-17\,-18)
DTSTART;TZID=Europe/Berlin:20250920T170000
DTEND;TZID=Europe/Berlin:20250920T190000
LOCATION:Sportovní hala TJ Jiskra\, Ledečská 3028 Havlíčkův Brod
SUMMARY:CP-Z-C: Jiskra H. Brod-Junior Brno
END:VEVENT
BEGIN:VEVENT
UID:37636462-3866-4236-b134-303562656438
DTSTAMP:20260422T053810Z
DESCRIPTION:3/6 Šelmy B - Jiskra H. Brod 3:0 (11\,16\,14)
DTSTART;TZID=Europe/Berlin:20250919T191500
DTEND;TZID=Europe/Berlin:20250919T211500
LOCATION:Sportovní hala TJ Jiskra\, Ledečská 3028 Havlíčkův Brod
SUMMARY:CP-Z-C: Šelmy B-Jiskra H. Brod
END:VEVENT
END:VCALENDAR
