BEGIN:VCALENDAR
VERSION:2.0
PRODID:-//TJ Sokol Žižkov I89794//NONSGML kigkonsult.se iCalcreator 2.41.80//
CALSCALE:GREGORIAN
UID:37613064-6461-4734-b530-623434633831
BEGIN:VEVENT
UID:65616336-3931-4534-b065-383138323864
DTSTAMP:20260421T182805Z
DESCRIPTION:5/25 Žižkov - Jiskra H. Brod 3:0 (13\,15\,18)
DTSTART;TZID=Europe/Berlin:20251018T100000
DTEND;TZID=Europe/Berlin:20251018T120000
LOCATION:TJ Sokol Žižkov I.\, Hartigova 929 Praha - Žižkov
SUMMARY:2-Z-B: Žižkov-Jiskra H. Brod
END:VEVENT
BEGIN:VEVENT
UID:38366438-3632-4162-b039-393233666466
DTSTAMP:20260421T182805Z
DESCRIPTION:6/30 Žižkov - Jiskra H. Brod 2:3 (-16\,20\,-21\,24\,-12)
DTSTART;TZID=Europe/Berlin:20251018T140000
DTEND;TZID=Europe/Berlin:20251018T160000
LOCATION:TJ Sokol Žižkov I.\, Hartigova 929 Praha - Žižkov
SUMMARY:2-Z-B: Žižkov-Jiskra H. Brod
END:VEVENT
BEGIN:VEVENT
UID:38316437-6238-4161-b336-623339346336
DTSTAMP:20260421T182805Z
DESCRIPTION:9/44 Žižkov - Jihlava 3:1 (23\,-19\,20\,21)
DTSTART;TZID=Europe/Berlin:20251108T110000
DTEND;TZID=Europe/Berlin:20251108T130000
LOCATION:TJ Sokol Žižkov I.\, Hartigova 929 Praha - Žižkov
SUMMARY:2-Z-B: Žižkov-Jihlava
END:VEVENT
BEGIN:VEVENT
UID:34336362-3366-4264-a636-313936306337
DTSTAMP:20260421T182805Z
DESCRIPTION:10/49 Žižkov - Jihlava 2:3 (17\,-13\,24\,-17\,-11)
DTSTART;TZID=Europe/Berlin:20251108T150000
DTEND;TZID=Europe/Berlin:20251108T170000
LOCATION:TJ Sokol Žižkov I.\, Hartigova 929 Praha - Žižkov
SUMMARY:2-Z-B: Žižkov-Jihlava
END:VEVENT
BEGIN:VEVENT
UID:64373935-6139-4431-a336-346236363065
DTSTAMP:20260421T182805Z
DESCRIPTION:13/63 Žižkov - Sokol H. Brod 3:1 (19\,21\,-23\,21)
DTSTART;TZID=Europe/Berlin:20251129T100000
DTEND;TZID=Europe/Berlin:20251129T120000
LOCATION:TJ Sokol Žižkov I.\, Hartigova 929 Praha - Žižkov
SUMMARY:2-Z-B: Žižkov-Sokol H. Brod
END:VEVENT
BEGIN:VEVENT
UID:33666166-6335-4438-b165-306463666630
DTSTAMP:20260421T182805Z
DESCRIPTION:14/68 Žižkov - Sokol H. Brod 3:1 (19\,16\,-14\,27)
DTSTART;TZID=Europe/Berlin:20251129T140000
DTEND;TZID=Europe/Berlin:20251129T160000
LOCATION:TJ Sokol Žižkov I.\, Hartigova 929 Praha - Žižkov
SUMMARY:2-Z-B: Žižkov-Sokol H. Brod
END:VEVENT
BEGIN:VEVENT
UID:36623331-3535-4335-b136-636438313763
DTSTAMP:20260421T182805Z
DESCRIPTION:17/82 Žižkov - Nové Veselí 3:2 (26\,-12\,18\,-7\,13)
DTSTART;TZID=Europe/Berlin:20251213T100000
DTEND;TZID=Europe/Berlin:20251213T120000
LOCATION:TJ Sokol Žižkov I.\, Hartigova 929 Praha - Žižkov
SUMMARY:2-Z-B: Žižkov-Nové Veselí
END:VEVENT
BEGIN:VEVENT
UID:65626133-3434-4538-b733-373834623266
DTSTAMP:20260421T182805Z
DESCRIPTION:18/87 Žižkov - Nové Veselí 3:2 (-23\,22\,-16\,22\,11)
DTSTART;TZID=Europe/Berlin:20251213T140000
DTEND;TZID=Europe/Berlin:20251213T160000
LOCATION:TJ Sokol Žižkov I.\, Hartigova 929 Praha - Žižkov
SUMMARY:2-Z-B: Žižkov-Nové Veselí
END:VEVENT
BEGIN:VEVENT
UID:61383066-3834-4336-a464-653362373432
DTSTAMP:20260421T182805Z
DESCRIPTION:19/95 Žižkov - Šelmy B 3:2 (-22\,22\,26\,-23\,15)
DTSTART;TZID=Europe/Berlin:20260110T100000
DTEND;TZID=Europe/Berlin:20260110T120000
LOCATION:TJ Sokol Žižkov I.\, Hartigova 929 Praha - Žižkov
SUMMARY:2-Z-B: Žižkov-Šelmy B
END:VEVENT
BEGIN:VEVENT
UID:61643239-3962-4330-b934-623930343733
DTSTAMP:20260421T182805Z
DESCRIPTION:20/100 Žižkov - Šelmy B 0:3 (-20\,-23\,-19)
DTSTART;TZID=Europe/Berlin:20260110T140000
DTEND;TZID=Europe/Berlin:20260110T160000
LOCATION:TJ Sokol Žižkov I.\, Hartigova 929 Praha - Žižkov
SUMMARY:2-Z-B: Žižkov-Šelmy B
END:VEVENT
BEGIN:VEVENT
UID:35383564-6332-4362-b661-653037353561
DTSTAMP:20260421T182805Z
DESCRIPTION:21/101 Žižkov - Č. Třebová 0:3 (-11\,-20\,-17)
DTSTART;TZID=Europe/Berlin:20260117T110000
DTEND;TZID=Europe/Berlin:20260117T130000
LOCATION:TJ Sokol Žižkov I.\, Hartigova 929 Praha - Žižkov
SUMMARY:2-Z-B: Žižkov-Č. Třebová
END:VEVENT
BEGIN:VEVENT
UID:32346631-3965-4964-b137-383534353237
DTSTAMP:20260421T182805Z
DESCRIPTION:22/106 Žižkov - Č. Třebová 1:3 (25\,-21\,-23\,-25)
DTSTART;TZID=Europe/Berlin:20260117T150000
DTEND;TZID=Europe/Berlin:20260117T170000
LOCATION:TJ Sokol Žižkov I.\, Hartigova 929 Praha - Žižkov
SUMMARY:2-Z-B: Žižkov-Č. Třebová
END:VEVENT
BEGIN:VEVENT
UID:39313365-3336-4330-a137-393665386165
DTSTAMP:20260421T182805Z
DESCRIPTION:25/122 Žižkov - Č. Krumlov 3:1 (17\,20\,-21\,20)
DTSTART;TZID=Europe/Berlin:20260207T100000
DTEND;TZID=Europe/Berlin:20260207T120000
LOCATION:TJ Sokol Žižkov I.\, Hartigova 929 Praha - Žižkov
SUMMARY:2-Z-B: Žižkov-Č. Krumlov
END:VEVENT
BEGIN:VEVENT
UID:66396461-6334-4334-a563-363966313235
DTSTAMP:20260421T182805Z
DESCRIPTION:26/127 Žižkov - Č. Krumlov 0:3 (-22\,-24\,-16)
DTSTART;TZID=Europe/Berlin:20260207T140000
DTEND;TZID=Europe/Berlin:20260207T160000
LOCATION:TJ Sokol Žižkov I.\, Hartigova 929 Praha - Žižkov
SUMMARY:2-Z-B: Žižkov-Č. Krumlov
END:VEVENT
BEGIN:VEVENT
UID:30633432-3530-4266-a564-663238393438
DTSTAMP:20260421T182805Z
DESCRIPTION:29/143 Žižkov - S V B C 0:3 (-21\,-12\,-26)
DTSTART;TZID=Europe/Berlin:20260221T100000
DTEND;TZID=Europe/Berlin:20260221T120000
LOCATION:TJ Sokol Žižkov I.\, Hartigova 929 Praha - Žižkov
SUMMARY:2-Z-B: Žižkov-S V B C
END:VEVENT
BEGIN:VEVENT
UID:66376337-3438-4830-a232-376235336138
DTSTAMP:20260421T182805Z
DESCRIPTION:30/148 Žižkov - S V B C 3:0 (21\,20\,20)
DTSTART;TZID=Europe/Berlin:20260221T140000
DTEND;TZID=Europe/Berlin:20260221T160000
LOCATION:TJ Sokol Žižkov I.\, Hartigova 929 Praha - Žižkov
SUMMARY:2-Z-B: Žižkov-S V B C
END:VEVENT
BEGIN:VEVENT
UID:31613963-3931-4432-b537-373831303638
DTSTAMP:20260421T182805Z
DESCRIPTION:33/164 Žižkov - Střešovice B 0:3 (-20\,-15\,-21)
DTSTART;TZID=Europe/Berlin:20260321T100000
DTEND;TZID=Europe/Berlin:20260321T120000
LOCATION:TJ Sokol Žižkov I.\, Hartigova 929 Praha - Žižkov
SUMMARY:2-Z-B: Žižkov-Střešovice B
END:VEVENT
BEGIN:VEVENT
UID:39623363-3637-4662-b135-326265303563
DTSTAMP:20260421T182805Z
DESCRIPTION:34/169 Žižkov - Střešovice B 3:2 (-20\,-21\,24\,19\,10)
DTSTART;TZID=Europe/Berlin:20260321T140000
DTEND;TZID=Europe/Berlin:20260321T160000
LOCATION:TJ Sokol Žižkov I.\, Hartigova 929 Praha - Žižkov
SUMMARY:2-Z-B: Žižkov-Střešovice B
END:VEVENT
BEGIN:VEVENT
UID:33323639-3265-4230-b137-643130393266
DTSTAMP:20260421T182805Z
DESCRIPTION:1/5 Šelmy B - Žižkov 3:1 (15\,19\,-22\,22)
DTSTART;TZID=Europe/Berlin:20251004T100000
DTEND;TZID=Europe/Berlin:20251004T120000
LOCATION:Gymnázium Matyáše Lercha\, Žižkova 980 Brno - Veveří
SUMMARY:2-Z-B: Šelmy B-Žižkov
END:VEVENT
BEGIN:VEVENT
UID:66663062-3630-4639-b834-343132373139
DTSTAMP:20260421T182805Z
DESCRIPTION:2/10 Šelmy B - Žižkov 3:0 (23\,20\,23)
DTSTART;TZID=Europe/Berlin:20251004T140000
DTEND;TZID=Europe/Berlin:20251004T160000
LOCATION:Gymnázium Matyáše Lercha\, Žižkova 980 Brno - Veveří
SUMMARY:2-Z-B: Šelmy B-Žižkov
END:VEVENT
BEGIN:VEVENT
UID:65303935-3333-4661-b338-626461636434
DTSTAMP:20260421T182805Z
DESCRIPTION:3/11 Č. Třebová - Žižkov 3:2 (-17\,18\,20\,-24\,10)
DTSTART;TZID=Europe/Berlin:20251011T110000
DTEND;TZID=Europe/Berlin:20251011T130000
LOCATION:Základní škola Česká Třebová Habrmanova\, Na Skále\, Na Skále 566 
 Česká Třebová
SUMMARY:2-Z-B: Č. Třebová-Žižkov
END:VEVENT
BEGIN:VEVENT
UID:65653634-6630-4961-a463-383762643461
DTSTAMP:20260421T182805Z
DESCRIPTION:4/16 Č. Třebová - Žižkov 1:3 (-17\,-22\,18\,-21)
DTSTART;TZID=Europe/Berlin:20251011T150000
DTEND;TZID=Europe/Berlin:20251011T170000
LOCATION:Základní škola Česká Třebová Habrmanova\, Na Skále\, Na Skále 566 
 Česká Třebová
SUMMARY:2-Z-B: Č. Třebová-Žižkov
END:VEVENT
BEGIN:VEVENT
UID:65646464-3466-4864-b039-393262313638
DTSTAMP:20260421T182805Z
DESCRIPTION:7/32 Č. Krumlov - Žižkov 3:0 (21\,22\,13)
DTSTART;TZID=Europe/Berlin:20251101T100000
DTEND;TZID=Europe/Berlin:20251101T120000
LOCATION:ZŠ Za Nádražím Český Krumlov\, Za Nádražím 222 Český Krumlov - Nád
 ražní Předměstí
SUMMARY:2-Z-B: Č. Krumlov-Žižkov
END:VEVENT
BEGIN:VEVENT
UID:34383539-6631-4838-a236-336436636437
DTSTAMP:20260421T182805Z
DESCRIPTION:8/37 Č. Krumlov - Žižkov 3:2 (23\,-20\,19\,-21\,9)
DTSTART;TZID=Europe/Berlin:20251101T140000
DTEND;TZID=Europe/Berlin:20251101T160000
LOCATION:ZŠ Za Nádražím Český Krumlov\, Za Nádražím 222 Český Krumlov - Nád
 ražní Předměstí
SUMMARY:2-Z-B: Č. Krumlov-Žižkov
END:VEVENT
BEGIN:VEVENT
UID:62343861-3137-4065-b162-336166396432
DTSTAMP:20260421T182805Z
DESCRIPTION:11/53 S V B C - Žižkov 3:1 (23\,16\,-23\,22)
DTSTART;TZID=Europe/Berlin:20251115T100000
DTEND;TZID=Europe/Berlin:20251115T120000
LOCATION:Sportovní hala Řevnice \, Školní 600 Řevnice
SUMMARY:2-Z-B: S V B C-Žižkov
END:VEVENT
BEGIN:VEVENT
UID:61316563-3631-4234-b566-333566646334
DTSTAMP:20260421T182805Z
DESCRIPTION:12/58 S V B C - Žižkov 0:3 (-23\,-19\,-23)
DTSTART;TZID=Europe/Berlin:20251115T140000
DTEND;TZID=Europe/Berlin:20251115T160000
LOCATION:Sportovní hala Řevnice \, Školní 600 Řevnice
SUMMARY:2-Z-B: S V B C-Žižkov
END:VEVENT
BEGIN:VEVENT
UID:37623463-3632-4261-a462-333861613039
DTSTAMP:20260421T182805Z
DESCRIPTION:15/74 Střešovice B - Žižkov 3:1 (18\,21\,-13\,15)
DTSTART;TZID=Europe/Berlin:20251206T100000
DTEND;TZID=Europe/Berlin:20251206T120000
LOCATION:TJ Tatran Střešovice\, Sibeliova 368 Praha - Střešovice
SUMMARY:2-Z-B: Střešovice B-Žižkov
END:VEVENT
BEGIN:VEVENT
UID:32323961-3134-4736-b935-366131613036
DTSTAMP:20260421T182805Z
DESCRIPTION:16/79 Střešovice B - Žižkov 3:0 (17\,13\,18)
DTSTART;TZID=Europe/Berlin:20251206T140000
DTEND;TZID=Europe/Berlin:20251206T160000
LOCATION:TJ Tatran Střešovice\, Sibeliova 368 Praha - Střešovice
SUMMARY:2-Z-B: Střešovice B-Žižkov
END:VEVENT
BEGIN:VEVENT
UID:34326636-3130-4361-b133-333233356161
DTSTAMP:20260421T182805Z
DESCRIPTION:23/115 Jiskra H. Brod - Žižkov 3:2 (20\,-23\,20\,-20\,9)
DTSTART;TZID=Europe/Berlin:20260124T100000
DTEND;TZID=Europe/Berlin:20260124T120000
LOCATION:Sportovní hala TJ Jiskra\, Ledečská 3028 Havlíčkův Brod
SUMMARY:2-Z-B: Jiskra H. Brod-Žižkov
END:VEVENT
BEGIN:VEVENT
UID:36343563-3932-4730-b634-333938376132
DTSTAMP:20260421T182805Z
DESCRIPTION:24/120 Jiskra H. Brod - Žižkov 3:1 (19\,-29\,21\,15)
DTSTART;TZID=Europe/Berlin:20260124T140000
DTEND;TZID=Europe/Berlin:20260124T160000
LOCATION:Sportovní hala TJ Jiskra\, Ledečská 3028 Havlíčkův Brod
SUMMARY:2-Z-B: Jiskra H. Brod-Žižkov
END:VEVENT
BEGIN:VEVENT
UID:34343038-6164-4631-b062-623461356339
DTSTAMP:20260421T182805Z
DESCRIPTION:27/134 Jihlava - Žižkov 3:0 (18\,17\,14)
DTSTART;TZID=Europe/Berlin:20260214T100000
DTEND;TZID=Europe/Berlin:20260214T120000
LOCATION:TJ Start Jihlava\, Romana Havelky 5508 Jihlava
SUMMARY:2-Z-B: Jihlava-Žižkov
END:VEVENT
BEGIN:VEVENT
UID:34323139-3263-4162-a462-346239366636
DTSTAMP:20260421T182805Z
DESCRIPTION:28/139 Jihlava - Žižkov 3:0 (14\,23\,24)
DTSTART;TZID=Europe/Berlin:20260214T140000
DTEND;TZID=Europe/Berlin:20260214T160000
LOCATION:TJ Start Jihlava\, Romana Havelky 5508 Jihlava
SUMMARY:2-Z-B: Jihlava-Žižkov
END:VEVENT
BEGIN:VEVENT
UID:32326638-6665-4634-a365-323337616535
DTSTAMP:20260421T182805Z
DESCRIPTION:31/153 Sokol H. Brod - Žižkov 0:3 (-20\,-16\,-23)
DTSTART;TZID=Europe/Berlin:20260307T100000
DTEND;TZID=Europe/Berlin:20260307T120000
LOCATION:Střední zdravotnická škola Havlíčkův Brod\, Masarykova 2033 Havlíč
 kův Brod
SUMMARY:2-Z-B: Sokol H. Brod-Žižkov
END:VEVENT
BEGIN:VEVENT
UID:63346633-3237-4439-b736-323537636264
DTSTAMP:20260421T182805Z
DESCRIPTION:32/158 Sokol H. Brod - Žižkov 3:0 (22\,23\,12)
DTSTART;TZID=Europe/Berlin:20260307T140000
DTEND;TZID=Europe/Berlin:20260307T160000
LOCATION:Střední zdravotnická škola Havlíčkův Brod\, Masarykova 2033 Havlíč
 kův Brod
SUMMARY:2-Z-B: Sokol H. Brod-Žižkov
END:VEVENT
BEGIN:VEVENT
UID:36643236-6131-4262-b936-646631366132
DTSTAMP:20260421T182805Z
DESCRIPTION:35/172 Nové Veselí - Žižkov 1:3 (19\,-12\,-14\,-24)
DTSTART;TZID=Europe/Berlin:20260328T100000
DTEND;TZID=Europe/Berlin:20260328T120000
LOCATION:Tělocvična ZŠ a MŠ Radostín nad Oslavou\,  Radostín nad Oslavou136
SUMMARY:2-Z-B: Nové Veselí-Žižkov
END:VEVENT
BEGIN:VEVENT
UID:39396530-3939-4063-a133-396536383034
DTSTAMP:20260421T182805Z
DESCRIPTION:36/177 Nové Veselí - Žižkov 3:1 (23\,12\,-13\,17)
DTSTART;TZID=Europe/Berlin:20260328T140000
DTEND;TZID=Europe/Berlin:20260328T160000
LOCATION:Tělocvična ZŠ a MŠ Radostín nad Oslavou\,  Radostín nad Oslavou136
SUMMARY:2-Z-B: Nové Veselí-Žižkov
END:VEVENT
END:VCALENDAR
