BEGIN:VCALENDAR
VERSION:2.0
PRODID:-//ČEZ Karlovarsko89809//NONSGML kigkonsult.se iCalcreator 2.41.80//
CALSCALE:GREGORIAN
UID:33373563-3537-4939-a137-343939336334
BEGIN:VEVENT
UID:35306535-3231-4436-a662-646465383163
DTSTAMP:20260422T164522Z
DESCRIPTION:1/1 Karlovarsko - Kladno 3:1 (21\,18\,-18\,20)
DTSTART;TZID=Europe/Berlin:20250927T110000
DTEND;TZID=Europe/Berlin:20250927T130000
LOCATION:Mattoni Arena Hala míčových sportů\, Západní 1812 Karlovy Vary
SUMMARY:EX-U22M-1A: Karlovarsko-Kladno
END:VEVENT
BEGIN:VEVENT
UID:35303532-3330-4664-b735-316337646566
DTSTAMP:20260422T164522Z
DESCRIPTION:1/4 Karlovarsko - Kolín 3:1 (20\,-17\,19\,18)
DTSTART;TZID=Europe/Berlin:20250927T170000
DTEND;TZID=Europe/Berlin:20250927T190000
LOCATION:Mattoni Arena Hala míčových sportů\, Západní 1812 Karlovy Vary
SUMMARY:EX-U22M-1A: Karlovarsko-Kolín
END:VEVENT
BEGIN:VEVENT
UID:37616564-6538-4438-a361-386563643335
DTSTAMP:20260422T164522Z
DESCRIPTION:1/7 Karlovarsko - H. Králové 1:3 (-15\,17\,-24\,-22)
DTSTART;TZID=Europe/Berlin:20250928T110000
DTEND;TZID=Europe/Berlin:20250928T130000
LOCATION:Mattoni Arena Hala míčových sportů\, Západní 1812 Karlovy Vary
SUMMARY:EX-U22M-1A: Karlovarsko-H. Králové
END:VEVENT
BEGIN:VEVENT
UID:36383430-3634-4134-b133-666362626462
DTSTAMP:20260422T164522Z
DESCRIPTION:1/10 Odolena Voda - Karlovarsko 0:3 (-16\,-19\,-15)
DTSTART;TZID=Europe/Berlin:20250928T170000
DTEND;TZID=Europe/Berlin:20250928T190000
LOCATION:Mattoni Arena Hala míčových sportů\, Západní 1812 Karlovy Vary
SUMMARY:EX-U22M-1A: Odolena Voda-Karlovarsko
END:VEVENT
BEGIN:VEVENT
UID:35386639-3139-4834-b735-373963343866
DTSTAMP:20260422T164522Z
DESCRIPTION:1/2 Karlovarsko - Příbram 0:3 (-9\,-17\,-13)
DTSTART;TZID=Europe/Berlin:20251025T123000
DTEND;TZID=Europe/Berlin:20251025T143000
LOCATION:Sportovní gymnázium Ludvíka Daňka\, Botanická 63 Brno - Ponava
SUMMARY:EX-U22M-2A: Karlovarsko-Příbram
END:VEVENT
BEGIN:VEVENT
UID:61356430-3832-4631-b231-643639666433
DTSTAMP:20260422T164522Z
DESCRIPTION:1/3 Brno - Karlovarsko 3:0 (18\,11\,15)
DTSTART;TZID=Europe/Berlin:20251025T150000
DTEND;TZID=Europe/Berlin:20251025T170000
LOCATION:Sportovní gymnázium Ludvíka Daňka\, Botanická 63 Brno - Ponava
SUMMARY:EX-U22M-2A: Brno-Karlovarsko
END:VEVENT
BEGIN:VEVENT
UID:64333334-3832-4337-b366-643233333163
DTSTAMP:20260422T164522Z
DESCRIPTION:1/5 Blue Ostrava - Karlovarsko 3:1 (17\,-22\,16\,19)\nNH: Sokol
  Brno\, Kounicova
DTSTART;TZID=Europe/Berlin:20251026T100000
DTEND;TZID=Europe/Berlin:20251026T120000
LOCATION:Sportovní gymnázium Ludvíka Daňka\, Botanická 63 Brno - Ponava
SUMMARY:EX-U22M-2A: Blue Ostrava-Karlovarsko
END:VEVENT
BEGIN:VEVENT
UID:30373737-3864-4434-b838-326631646139
DTSTAMP:20260422T164522Z
DESCRIPTION:1/2 Karlovarsko - Prosek 3:0 (20\,22\,19)
DTSTART;TZID=Europe/Berlin:20251129T120000
DTEND;TZID=Europe/Berlin:20251129T140000
LOCATION:Baluo\, U Letiště 976 Olomouc - Neředín
SUMMARY:EX-U22M-3B: Karlovarsko-Prosek
END:VEVENT
BEGIN:VEVENT
UID:65663762-6535-4566-b433-326664393939
DTSTAMP:20260422T164522Z
DESCRIPTION:1/3 Olomouc - Karlovarsko 2:3 (-25\,22\,-23\,26\,-15)
DTSTART;TZID=Europe/Berlin:20251129T150000
DTEND;TZID=Europe/Berlin:20251129T170000
LOCATION:Baluo\, U Letiště 976 Olomouc - Neředín
SUMMARY:EX-U22M-3B: Olomouc-Karlovarsko
END:VEVENT
BEGIN:VEVENT
UID:64623236-3531-4534-b634-373336396531
DTSTAMP:20260422T164522Z
DESCRIPTION:1/5 H. Králové - Karlovarsko 3:0 (20\,20\,21)
DTSTART;TZID=Europe/Berlin:20251130T100000
DTEND;TZID=Europe/Berlin:20251130T120000
LOCATION:Baluo\, U Letiště 976 Olomouc - Neředín
SUMMARY:EX-U22M-3B: H. Králové-Karlovarsko
END:VEVENT
BEGIN:VEVENT
UID:39643930-3963-4338-b333-643836313139
DTSTAMP:20260422T164522Z
DESCRIPTION:1/1 Karlovarsko - Příbram 1:3 (-23\,19\,-16\,-22)
DTSTART;TZID=Europe/Berlin:20251220T100000
DTEND;TZID=Europe/Berlin:20251220T120000
LOCATION:Hala Střední pedagogické školy\, Lidická 455 Karlovy Vary - Drahov
 ice
SUMMARY:EX-U22M-4B: Karlovarsko-Příbram
END:VEVENT
BEGIN:VEVENT
UID:37333430-3138-4035-b432-666564623361
DTSTAMP:20260422T164522Z
DESCRIPTION:1/3 Karlovarsko - Olomouc 3:2 (-21\,16\,24\,-24\,11)
DTSTART;TZID=Europe/Berlin:20251220T150000
DTEND;TZID=Europe/Berlin:20251220T170000
LOCATION:Hala Střední pedagogické školy\, Lidická 455 Karlovy Vary - Drahov
 ice
SUMMARY:EX-U22M-4B: Karlovarsko-Olomouc
END:VEVENT
BEGIN:VEVENT
UID:33323364-3835-4766-b661-343365373661
DTSTAMP:20260422T164522Z
DESCRIPTION:1/6 Č. Budějovice - Karlovarsko 0:3 (-23\,-19\,-21)
DTSTART;TZID=Europe/Berlin:20251221T120000
DTEND;TZID=Europe/Berlin:20251221T140000
LOCATION:Hala Střední pedagogické školy\, Lidická 455 Karlovy Vary - Drahov
 ice
SUMMARY:EX-U22M-4B: Č. Budějovice-Karlovarsko
END:VEVENT
BEGIN:VEVENT
UID:38313635-3362-4433-b361-373961653234
DTSTAMP:20260422T164522Z
DESCRIPTION:1/2 Karlovarsko - H. Králové 2:3 (-16\,-22\,18\,18\,-13)\nNH: B
 roučkova 372
DTSTART;TZID=Europe/Berlin:20260221T120000
DTEND;TZID=Europe/Berlin:20260221T140000
LOCATION:Sportovní hala Datart Zlín\, U Zimního stadionu 4286 Zlín
SUMMARY:EX-U22M-5B: Karlovarsko-H. Králové
END:VEVENT
BEGIN:VEVENT
UID:39386630-3463-4239-b564-366664613663
DTSTAMP:20260422T164522Z
DESCRIPTION:1/3 Zlín - Karlovarsko 0:3 (-19\,-18\,-11)
DTSTART;TZID=Europe/Berlin:20260221T150000
DTEND;TZID=Europe/Berlin:20260221T170000
LOCATION:Sportovní hala Datart Zlín\, U Zimního stadionu 4286 Zlín
SUMMARY:EX-U22M-5B: Zlín-Karlovarsko
END:VEVENT
BEGIN:VEVENT
UID:64396133-3531-4165-b531-656235346436
DTSTAMP:20260422T164522Z
DESCRIPTION:1/5 Olomouc - Karlovarsko 0:3 (-17\,-13\,-15)
DTSTART;TZID=Europe/Berlin:20260222T100000
DTEND;TZID=Europe/Berlin:20260222T120000
LOCATION:Sportovní hala Datart Zlín\, U Zimního stadionu 4286 Zlín
SUMMARY:EX-U22M-5B: Olomouc-Karlovarsko
END:VEVENT
BEGIN:VEVENT
UID:37313338-3965-4064-b138-643733306362
DTSTAMP:20260422T164522Z
DESCRIPTION:1/6 Karlovarsko - Č. Budějovice 3:1 (28\,-22\,17\,14)
DTSTART;TZID=Europe/Berlin:20260322T120000
DTEND;TZID=Europe/Berlin:20260322T140000
LOCATION:ZŠ Oskara Nedbala České Budějovice\, O. Nedbala 882 České Budějovi
 ce - České Budějovice 2
SUMMARY:EX-U22M-6A: Karlovarsko-Č. Budějovice
END:VEVENT
BEGIN:VEVENT
UID:31303862-3337-4466-b465-646632353261
DTSTAMP:20260422T164522Z
DESCRIPTION:1/2 Blue Ostrava - Karlovarsko 3:1 (-22\,19\,22\,24)
DTSTART;TZID=Europe/Berlin:20260321T120000
DTEND;TZID=Europe/Berlin:20260321T140000
LOCATION:ZŠ Oskara Nedbala České Budějovice\, O. Nedbala 882 České Budějovi
 ce - České Budějovice 2
SUMMARY:EX-U22M-6A: Blue Ostrava-Karlovarsko
END:VEVENT
BEGIN:VEVENT
UID:66636561-3935-4233-b462-343630653731
DTSTAMP:20260422T164522Z
DESCRIPTION:1/4 Brno - Karlovarsko 3:0 (21\,21\,17)\nNH: SH Litvínovice
DTSTART;TZID=Europe/Berlin:20260321T170000
DTEND;TZID=Europe/Berlin:20260321T190000
LOCATION:ZŠ Oskara Nedbala České Budějovice\, O. Nedbala 882 České Budějovi
 ce - České Budějovice 2
SUMMARY:EX-U22M-6A: Brno-Karlovarsko
END:VEVENT
BEGIN:VEVENT
UID:61613162-3239-4533-b533-396139616536
DTSTAMP:20260422T164522Z
DESCRIPTION:1/2 Karlovarsko - H. Králové 1:3 (-13\,19\,-17\,-23)
DTSTART;TZID=Europe/Berlin:20260411T120000
DTEND;TZID=Europe/Berlin:20260411T140000
LOCATION:Sportovní hala Ostrava -Třebovice\, 5. května 5649 Ostrava - Třebo
 vice
SUMMARY:EX-U22M-7A: Karlovarsko-H. Králové
END:VEVENT
BEGIN:VEVENT
UID:63343837-3030-4132-b833-373931363239
DTSTAMP:20260422T164522Z
DESCRIPTION:1/3 Blue Ostrava - Karlovarsko 3:0 (18\,22\,19)
DTSTART;TZID=Europe/Berlin:20260411T150000
DTEND;TZID=Europe/Berlin:20260411T170000
LOCATION:Sportovní hala Ostrava -Třebovice\, 5. května 5649 Ostrava - Třebo
 vice
SUMMARY:EX-U22M-7A: Blue Ostrava-Karlovarsko
END:VEVENT
BEGIN:VEVENT
UID:36326661-3863-4737-b166-353332343463
DTSTAMP:20260422T164522Z
DESCRIPTION:1/5 Brno - Karlovarsko 3:0 (13\,24\,17)
DTSTART;TZID=Europe/Berlin:20260412T100000
DTEND;TZID=Europe/Berlin:20260412T120000
LOCATION:Sportovní hala Ostrava -Třebovice\, 5. května 5649 Ostrava - Třebo
 vice
SUMMARY:EX-U22M-7A: Brno-Karlovarsko
END:VEVENT
BEGIN:VEVENT
UID:64653839-3430-4139-a462-316663386235
DTSTAMP:20260422T164522Z
DESCRIPTION:1/12 Karlovarsko - Blue Ostrava\nKurt 2
DTSTART;TZID=Europe/Berlin:20260508T183000
DTEND;TZID=Europe/Berlin:20260508T203000
LOCATION:Mattoni Arena Hala míčových sportů\, Západní 1812 Karlovy Vary
SUMMARY:EX-U22M-FII: Karlovarsko-Blue Ostrava
END:VEVENT
BEGIN:VEVENT
UID:39353535-6235-4135-a161-663332636332
DTSTAMP:20260422T164522Z
DESCRIPTION:1/4 Č. Budějovice - Karlovarsko\nKurt 2
DTSTART;TZID=Europe/Berlin:20260507T183000
DTEND;TZID=Europe/Berlin:20260507T203000
LOCATION:Mattoni Arena Hala míčových sportů\, Západní 1812 Karlovy Vary
SUMMARY:EX-U22M-FII: Č. Budějovice-Karlovarsko
END:VEVENT
BEGIN:VEVENT
UID:30643738-6234-4163-a162-356132623164
DTSTAMP:20260422T164522Z
DESCRIPTION:1/6 H. Králové - Karlovarsko\nKurt 2
DTSTART;TZID=Europe/Berlin:20260508T100000
DTEND;TZID=Europe/Berlin:20260508T120000
LOCATION:Mattoni Arena Hala míčových sportů\, Západní 1812 Karlovy Vary
SUMMARY:EX-U22M-FII: H. Králové-Karlovarsko
END:VEVENT
END:VCALENDAR
