BEGIN:VCALENDAR
VERSION:2.0
PRODID:-//SKV Ústí nad Labem89813//NONSGML kigkonsult.se iCalcreator 2.41.80//
CALSCALE:GREGORIAN
UID:39346637-3439-4031-b365-303034666632
BEGIN:VEVENT
UID:63626333-3131-4466-b566-326436623830
DTSTAMP:20260422T183256Z
DESCRIPTION:1/6 Ústí n. L. - Velké Meziříčí 3:1 (-23\,19\,17\,22)
DTSTART;TZID=Europe/Berlin:20250928T090000
DTEND;TZID=Europe/Berlin:20250928T110000
LOCATION:Dukla Liberec\, Jeronýmova 558 Liberec - Liberec VII-Horní Růžodol
SUMMARY:EX-U22M-1C: Ústí n. L.-Velké Meziříčí
END:VEVENT
BEGIN:VEVENT
UID:64663665-3235-4764-b564-653030636563
DTSTAMP:20260422T183256Z
DESCRIPTION:1/1 Liberec - Ústí n. L. 3:0 (22\,18\,19)
DTSTART;TZID=Europe/Berlin:20250927T100000
DTEND;TZID=Europe/Berlin:20250927T120000
LOCATION:Dukla Liberec\, Jeronýmova 558 Liberec - Liberec VII-Horní Růžodol
SUMMARY:EX-U22M-1C: Liberec-Ústí n. L.
END:VEVENT
BEGIN:VEVENT
UID:64663137-6465-4532-b063-653735383239
DTSTAMP:20260422T183256Z
DESCRIPTION:1/3 Brno - Ústí n. L. 3:0 (21\,10\,21)
DTSTART;TZID=Europe/Berlin:20250927T140000
DTEND;TZID=Europe/Berlin:20250927T160000
LOCATION:Dukla Liberec\, Jeronýmova 558 Liberec - Liberec VII-Horní Růžodol
SUMMARY:EX-U22M-1C: Brno-Ústí n. L.
END:VEVENT
BEGIN:VEVENT
UID:61386262-3337-4563-b637-643732376330
DTSTAMP:20260422T183256Z
DESCRIPTION:1/8 Olomouc - Ústí n. L. 3:0 (17\,20\,17)
DTSTART;TZID=Europe/Berlin:20250928T130000
DTEND;TZID=Europe/Berlin:20250928T150000
LOCATION:Dukla Liberec\, Jeronýmova 558 Liberec - Liberec VII-Horní Růžodol
SUMMARY:EX-U22M-1C: Olomouc-Ústí n. L.
END:VEVENT
BEGIN:VEVENT
UID:31323538-3565-4363-b638-636131646665
DTSTAMP:20260422T183256Z
DESCRIPTION:1/2 Ústí n. L. - Kladno 1:3 (23\,-26\,-12\,-16)
DTSTART;TZID=Europe/Berlin:20251025T120000
DTEND;TZID=Europe/Berlin:20251025T140000
LOCATION:Gymnázium Dr. Karla Polesného\, náměstí Komenského 945 Znojmo
SUMMARY:EX-U22M-2D: Ústí n. L.-Kladno
END:VEVENT
BEGIN:VEVENT
UID:37633939-3737-4164-a233-663534636431
DTSTAMP:20260422T183256Z
DESCRIPTION:1/3 Znojmo - Ústí n. L. 3:2 (11\,-23\,17\,-24\,11)
DTSTART;TZID=Europe/Berlin:20251025T150000
DTEND;TZID=Europe/Berlin:20251025T170000
LOCATION:Gymnázium Dr. Karla Polesného\, náměstí Komenského 945 Znojmo
SUMMARY:EX-U22M-2D: Znojmo-Ústí n. L.
END:VEVENT
BEGIN:VEVENT
UID:35313230-3535-4136-b663-386461393561
DTSTAMP:20260422T183256Z
DESCRIPTION:1/5 Kojetín - Ústí n. L. 3:0 (28\,24\,17)
DTSTART;TZID=Europe/Berlin:20251026T100000
DTEND;TZID=Europe/Berlin:20251026T120000
LOCATION:Gymnázium Dr. Karla Polesného\, náměstí Komenského 945 Znojmo
SUMMARY:EX-U22M-2D: Kojetín-Ústí n. L.
END:VEVENT
BEGIN:VEVENT
UID:37303362-3130-4434-a364-613535373037
DTSTAMP:20260422T183256Z
DESCRIPTION:1/2 Ústí n. L. - Benátky n. J. 0:3 (-21\,-22\,-16)\nHřiště 3
DTSTART;TZID=Europe/Berlin:20251129T100000
DTEND;TZID=Europe/Berlin:20251129T120000
LOCATION:Sportovní hala Na Střelnici\, Pražská 2162 Svitavy - Předměstí
SUMMARY:EX-U22M-3E: Ústí n. L.-Benátky n. J.
END:VEVENT
BEGIN:VEVENT
UID:64333833-6331-4464-b730-393661656234
DTSTAMP:20260422T183256Z
DESCRIPTION:1/3 Svitavy - Ústí n. L. 0:3 (-21\,-18\,-17)\nHřiště 2
DTSTART;TZID=Europe/Berlin:20251129T130000
DTEND;TZID=Europe/Berlin:20251129T150000
LOCATION:Sportovní hala Na Střelnici\, Pražská 2162 Svitavy - Předměstí
SUMMARY:EX-U22M-3E: Svitavy-Ústí n. L.
END:VEVENT
BEGIN:VEVENT
UID:39353963-3365-4931-a162-326339613066
DTSTAMP:20260422T183256Z
DESCRIPTION:1/5 Kolín - Ústí n. L. 0:3 (-20\,-14\,-15)\nHřiště 2
DTSTART;TZID=Europe/Berlin:20251130T100000
DTEND;TZID=Europe/Berlin:20251130T120000
LOCATION:Sportovní hala Na Střelnici\, Pražská 2162 Svitavy - Předměstí
SUMMARY:EX-U22M-3E: Kolín-Ústí n. L.
END:VEVENT
BEGIN:VEVENT
UID:39613538-3435-4236-a266-336166346235
DTSTAMP:20260422T183256Z
DESCRIPTION:1/2 Ústí n. L. - VK Ostrava 3:0 (18\,23\,22)\nKurt 2
DTSTART;TZID=Europe/Berlin:20251220T110000
DTEND;TZID=Europe/Berlin:20251220T130000
LOCATION:Sportovní hala Na Střelnici\, Pražská 2162 Svitavy - Předměstí
SUMMARY:EX-U22M-4E: Ústí n. L.-VK Ostrava
END:VEVENT
BEGIN:VEVENT
UID:35653539-3035-4663-b166-333164646230
DTSTAMP:20260422T183256Z
DESCRIPTION:1/3 Svitavy - Ústí n. L. 0:3 (-20\,-9\,-28)\nKurt 1
DTSTART;TZID=Europe/Berlin:20251220T140000
DTEND;TZID=Europe/Berlin:20251220T160000
LOCATION:Sportovní hala Na Střelnici\, Pražská 2162 Svitavy - Předměstí
SUMMARY:EX-U22M-4E: Svitavy-Ústí n. L.
END:VEVENT
BEGIN:VEVENT
UID:61663261-3262-4236-b237-313031353162
DTSTAMP:20260422T183256Z
DESCRIPTION:1/5 Kolín - Ústí n. L. 3:0 (18\,17\,19)\nKurt 1
DTSTART;TZID=Europe/Berlin:20251221T100000
DTEND;TZID=Europe/Berlin:20251221T120000
LOCATION:Sportovní hala Na Střelnici\, Pražská 2162 Svitavy - Předměstí
SUMMARY:EX-U22M-4E: Kolín-Ústí n. L.
END:VEVENT
BEGIN:VEVENT
UID:38656230-3861-4366-b936-326265373238
DTSTAMP:20260422T183256Z
DESCRIPTION:1/2 Ústí n. L. - Liberec 0:3 (-14\,-16\,-18)
DTSTART;TZID=Europe/Berlin:20260221T120000
DTEND;TZID=Europe/Berlin:20260221T140000
LOCATION:Sportovní hala Ostrava -Třebovice\, 5. května 5649 Ostrava - Třebo
 vice
SUMMARY:EX-U22M-5E: Ústí n. L.-Liberec
END:VEVENT
BEGIN:VEVENT
UID:66663838-6236-4139-a361-373636626430
DTSTAMP:20260422T183256Z
DESCRIPTION:1/3 VK Ostrava - Ústí n. L. 0:3 (-18\,-24\,-18)
DTSTART;TZID=Europe/Berlin:20260221T150000
DTEND;TZID=Europe/Berlin:20260221T170000
LOCATION:Sportovní hala Ostrava -Třebovice\, 5. května 5649 Ostrava - Třebo
 vice
SUMMARY:EX-U22M-5E: VK Ostrava-Ústí n. L.
END:VEVENT
BEGIN:VEVENT
UID:66323030-3239-4763-a336-376633316237
DTSTAMP:20260422T183256Z
DESCRIPTION:1/5 Svitavy - Ústí n. L. 3:1 (25\,19\,-22\,24)
DTSTART;TZID=Europe/Berlin:20260222T100000
DTEND;TZID=Europe/Berlin:20260222T120000
LOCATION:Sportovní hala Ostrava -Třebovice\, 5. května 5649 Ostrava - Třebo
 vice
SUMMARY:EX-U22M-5E: Svitavy-Ústí n. L.
END:VEVENT
BEGIN:VEVENT
UID:66336231-3439-4966-b238-663336343632
DTSTAMP:20260422T183256Z
DESCRIPTION:1/2 Ústí n. L. - VK Ostrava 2:3 (-21\,20\,-18\,22\,-14)\nKurt 2
DTSTART;TZID=Europe/Berlin:20260321T100000
DTEND;TZID=Europe/Berlin:20260321T120000
LOCATION:Sportovní hala Na Střelnici\, Pražská 2162 Svitavy - Předměstí
SUMMARY:EX-U22M-6E: Ústí n. L.-VK Ostrava
END:VEVENT
BEGIN:VEVENT
UID:39306330-3163-4833-a366-623638356134
DTSTAMP:20260422T183256Z
DESCRIPTION:1/3 Svitavy - Ústí n. L. 3:0 (23\,21\,21)\nKurt 1
DTSTART;TZID=Europe/Berlin:20260321T130000
DTEND;TZID=Europe/Berlin:20260321T150000
LOCATION:Sportovní hala Na Střelnici\, Pražská 2162 Svitavy - Předměstí
SUMMARY:EX-U22M-6E: Svitavy-Ústí n. L.
END:VEVENT
BEGIN:VEVENT
UID:39306561-3030-4566-b532-653266363433
DTSTAMP:20260422T183256Z
DESCRIPTION:1/5 Kolín - Ústí n. L. 3:0 (15\,15\,14)
DTSTART;TZID=Europe/Berlin:20260322T100000
DTEND;TZID=Europe/Berlin:20260322T120000
LOCATION:Sportovní hala Na Střelnici\, Pražská 2162 Svitavy - Předměstí
SUMMARY:EX-U22M-6E: Kolín-Ústí n. L.
END:VEVENT
BEGIN:VEVENT
UID:37616239-3465-4533-a337-376664393834
DTSTAMP:20260422T183256Z
DESCRIPTION:1/2 Ústí n. L. - VK Ostrava 3:0 (21\,20\,18)
DTSTART;TZID=Europe/Berlin:20260411T120000
DTEND;TZID=Europe/Berlin:20260411T140000
LOCATION:Městská sportovní hala\, Hanusíkova 1476 Kojetín - Kojetín I-Město
SUMMARY:EX-U22M-7E: Ústí n. L.-VK Ostrava
END:VEVENT
BEGIN:VEVENT
UID:38303966-3038-4438-b139-336130396465
DTSTAMP:20260422T183256Z
DESCRIPTION:1/3 Kojetín - Ústí n. L. 1:3 (-20\,-13\,22\,-20)
DTSTART;TZID=Europe/Berlin:20260411T150000
DTEND;TZID=Europe/Berlin:20260411T170000
LOCATION:Městská sportovní hala\, Hanusíkova 1476 Kojetín - Kojetín I-Město
SUMMARY:EX-U22M-7E: Kojetín-Ústí n. L.
END:VEVENT
BEGIN:VEVENT
UID:34313232-3334-4733-b664-373161376539
DTSTAMP:20260422T183256Z
DESCRIPTION:1/5 Svitavy - Ústí n. L. 1:3 (18\,-25\,-16\,-18)
DTSTART;TZID=Europe/Berlin:20260412T100000
DTEND;TZID=Europe/Berlin:20260412T120000
LOCATION:Městská sportovní hala\, Hanusíkova 1476 Kojetín - Kojetín I-Město
SUMMARY:EX-U22M-7E: Svitavy-Ústí n. L.
END:VEVENT
BEGIN:VEVENT
UID:63336139-6338-4661-a338-663161366233
DTSTAMP:20260422T183256Z
DESCRIPTION:1/1 Ústí n. L. - Orion
DTSTART;TZID=Europe/Berlin:20260508T100000
DTEND;TZID=Europe/Berlin:20260508T120000
LOCATION:Sportcentrum SLUNETA 2\, Jateční 1026 Ústí nad Labem - Klíše
SUMMARY:EX-U22M-K: Ústí n. L.-Orion
END:VEVENT
BEGIN:VEVENT
UID:38393965-3636-4139-b735-613135393461
DTSTAMP:20260422T183256Z
DESCRIPTION:1/4 Ústí n. L. - Svitavy
DTSTART;TZID=Europe/Berlin:20260508T160000
DTEND;TZID=Europe/Berlin:20260508T180000
LOCATION:Sportcentrum SLUNETA 2\, Jateční 1026 Ústí nad Labem - Klíše
SUMMARY:EX-U22M-K: Ústí n. L.-Svitavy
END:VEVENT
BEGIN:VEVENT
UID:64333736-3037-4162-a462-376464646238
DTSTAMP:20260422T183256Z
DESCRIPTION:1/7 Ústí n. L. - Šlapanice
DTSTART;TZID=Europe/Berlin:20260509T110000
DTEND;TZID=Europe/Berlin:20260509T130000
LOCATION:Sportcentrum SLUNETA 2\, Jateční 1026 Ústí nad Labem - Klíše
SUMMARY:EX-U22M-K: Ústí n. L.-Šlapanice
END:VEVENT
BEGIN:VEVENT
UID:65343932-3963-4661-a564-626464376331
DTSTAMP:20260422T183256Z
DESCRIPTION:1/10 Choceň - Ústí n. L.
DTSTART;TZID=Europe/Berlin:20260509T170000
DTEND;TZID=Europe/Berlin:20260509T190000
LOCATION:Sportcentrum SLUNETA 2\, Jateční 1026 Ústí nad Labem - Klíše
SUMMARY:EX-U22M-K: Choceň-Ústí n. L.
END:VEVENT
END:VCALENDAR
