BEGIN:VCALENDAR
VERSION:2.0
PRODID:-//VSC Zlín89821//NONSGML kigkonsult.se iCalcreator 2.41.80//
CALSCALE:GREGORIAN
UID:39633966-3963-4635-b335-636136363336
BEGIN:VEVENT
UID:62333637-3036-4537-b337-366632353436
DTSTAMP:20260422T183146Z
DESCRIPTION:1/3 Zlín - Příbram 1:3 (23\,-25\,-26\,-22)
DTSTART;TZID=Europe/Berlin:20250927T140000
DTEND;TZID=Europe/Berlin:20250927T160000
LOCATION:ZŠ Oskara Nedbala České Budějovice\, O. Nedbala 882 České Budějovi
 ce - České Budějovice 2
SUMMARY:EX-U22M-1B: Zlín-Příbram
END:VEVENT
BEGIN:VEVENT
UID:32323839-3261-4764-b830-383162626333
DTSTAMP:20260422T183146Z
DESCRIPTION:1/5 Zlín - Svitavy 3:0 (13\,15\,15)
DTSTART;TZID=Europe/Berlin:20250927T180000
DTEND;TZID=Europe/Berlin:20250927T200000
LOCATION:ZŠ Oskara Nedbala České Budějovice\, O. Nedbala 882 České Budějovi
 ce - České Budějovice 2
SUMMARY:EX-U22M-1B: Zlín-Svitavy
END:VEVENT
BEGIN:VEVENT
UID:37333736-3736-4434-b161-623836656561
DTSTAMP:20260422T183146Z
DESCRIPTION:1/7 Č. Budějovice - Zlín 0:3 (-16\,-21\,-16)
DTSTART;TZID=Europe/Berlin:20250928T110000
DTEND;TZID=Europe/Berlin:20250928T130000
LOCATION:ZŠ Oskara Nedbala České Budějovice\, O. Nedbala 882 České Budějovi
 ce - České Budějovice 2
SUMMARY:EX-U22M-1B: Č. Budějovice-Zlín
END:VEVENT
BEGIN:VEVENT
UID:61383065-6666-4561-b138-323532353330
DTSTAMP:20260422T183146Z
DESCRIPTION:1/9 Kojetín - Zlín 0:3 (-22\,-14\,-20)
DTSTART;TZID=Europe/Berlin:20250928T150000
DTEND;TZID=Europe/Berlin:20250928T170000
LOCATION:ZŠ Oskara Nedbala České Budějovice\, O. Nedbala 882 České Budějovi
 ce - České Budějovice 2
SUMMARY:EX-U22M-1B: Kojetín-Zlín
END:VEVENT
BEGIN:VEVENT
UID:63666331-3233-4231-a433-363331303036
DTSTAMP:20260422T183146Z
DESCRIPTION:1/1 Zlín - Olomouc 3:0 (25\,8\,22)
DTSTART;TZID=Europe/Berlin:20251025T090000
DTEND;TZID=Europe/Berlin:20251025T110000
LOCATION:Sportovní hala Datart Zlín\, U Zimního stadionu 4286 Zlín
SUMMARY:EX-U22M-2B: Zlín-Olomouc
END:VEVENT
BEGIN:VEVENT
UID:37333866-3938-4338-b335-643638646662
DTSTAMP:20260422T183146Z
DESCRIPTION:1/3 Zlín - Odolena Voda 3:0 (20\,14\,20)
DTSTART;TZID=Europe/Berlin:20251025T140000
DTEND;TZID=Europe/Berlin:20251025T160000
LOCATION:Sportovní hala Datart Zlín\, U Zimního stadionu 4286 Zlín
SUMMARY:EX-U22M-2B: Zlín-Odolena Voda
END:VEVENT
BEGIN:VEVENT
UID:36396539-3331-4133-b131-656339616266
DTSTAMP:20260422T183146Z
DESCRIPTION:1/6 Prosek - Zlín 0:3 (-20\,-9\,-18)
DTSTART;TZID=Europe/Berlin:20251026T120000
DTEND;TZID=Europe/Berlin:20251026T140000
LOCATION:Sportovní hala Datart Zlín\, U Zimního stadionu 4286 Zlín
SUMMARY:EX-U22M-2B: Prosek-Zlín
END:VEVENT
BEGIN:VEVENT
UID:31653464-3539-4637-a365-356563633439
DTSTAMP:20260422T183146Z
DESCRIPTION:1/4 Zlín - Brno 1:3 (-11\,-17\,19\,-18)
DTSTART;TZID=Europe/Berlin:20251129T170000
DTEND;TZID=Europe/Berlin:20251129T190000
LOCATION:Sportovní hala Ostrava -Třebovice\, 5. května 5649 Ostrava - Třebo
 vice
SUMMARY:EX-U22M-3A: Zlín-Brno
END:VEVENT
BEGIN:VEVENT
UID:36656364-6233-4838-b138-656438356530
DTSTAMP:20260422T183146Z
DESCRIPTION:1/5 Zlín - Příbram 3:0 (19\,12\,19)
DTSTART;TZID=Europe/Berlin:20251130T100000
DTEND;TZID=Europe/Berlin:20251130T120000
LOCATION:Sportovní hala Ostrava -Třebovice\, 5. května 5649 Ostrava - Třebo
 vice
SUMMARY:EX-U22M-3A: Zlín-Příbram
END:VEVENT
BEGIN:VEVENT
UID:34363661-3761-4162-a261-343133346635
DTSTAMP:20260422T183146Z
DESCRIPTION:1/1 Blue Ostrava - Zlín 3:0 (25\,23\,16)
DTSTART;TZID=Europe/Berlin:20251129T100000
DTEND;TZID=Europe/Berlin:20251129T120000
LOCATION:Sportovní hala Ostrava -Třebovice\, 5. května 5649 Ostrava - Třebo
 vice
SUMMARY:EX-U22M-3A: Blue Ostrava-Zlín
END:VEVENT
BEGIN:VEVENT
UID:61613738-3030-4139-b637-656532313966
DTSTAMP:20260422T183146Z
DESCRIPTION:1/6 Zlín - Prosek 0:3 (-16\,-19\,-17)
DTSTART;TZID=Europe/Berlin:20251221T120000
DTEND;TZID=Europe/Berlin:20251221T140000
LOCATION:SH SK Prosek\, Lovosická 559 Praha - Letňany
SUMMARY:EX-U22M-4A: Zlín-Prosek
END:VEVENT
BEGIN:VEVENT
UID:65643730-3866-4432-b231-613135616235
DTSTAMP:20260422T183146Z
DESCRIPTION:1/2 Blue Ostrava - Zlín 3:1 (16\,11\,-19\,21)
DTSTART;TZID=Europe/Berlin:20251220T120000
DTEND;TZID=Europe/Berlin:20251220T140000
LOCATION:SH SK Prosek\, Lovosická 559 Praha - Letňany
SUMMARY:EX-U22M-4A: Blue Ostrava-Zlín
END:VEVENT
BEGIN:VEVENT
UID:39393831-6562-4037-b162-626165316131
DTSTAMP:20260422T183146Z
DESCRIPTION:1/4 Brno - Zlín 3:0 (15\,17\,18)
DTSTART;TZID=Europe/Berlin:20251220T170000
DTEND;TZID=Europe/Berlin:20251220T190000
LOCATION:SH SK Prosek\, Lovosická 559 Praha - Letňany
SUMMARY:EX-U22M-4A: Brno-Zlín
END:VEVENT
BEGIN:VEVENT
UID:32653631-6562-4031-b737-383162633966
DTSTAMP:20260422T183146Z
DESCRIPTION:1/1 Zlín - Olomouc 3:0 (22\,28\,22)\nNH: Broučkova 372
DTSTART;TZID=Europe/Berlin:20260221T100000
DTEND;TZID=Europe/Berlin:20260221T120000
LOCATION:Sportovní hala Datart Zlín\, U Zimního stadionu 4286 Zlín
SUMMARY:EX-U22M-5B: Zlín-Olomouc
END:VEVENT
BEGIN:VEVENT
UID:38663530-3238-4139-b532-653633323134
DTSTAMP:20260422T183146Z
DESCRIPTION:1/3 Zlín - Karlovarsko 0:3 (-19\,-18\,-11)
DTSTART;TZID=Europe/Berlin:20260221T150000
DTEND;TZID=Europe/Berlin:20260221T170000
LOCATION:Sportovní hala Datart Zlín\, U Zimního stadionu 4286 Zlín
SUMMARY:EX-U22M-5B: Zlín-Karlovarsko
END:VEVENT
BEGIN:VEVENT
UID:36383930-6131-4134-a166-623632346135
DTSTAMP:20260422T183146Z
DESCRIPTION:1/6 H. Králové - Zlín 0:3 (-17\,-20\,-23)
DTSTART;TZID=Europe/Berlin:20260222T120000
DTEND;TZID=Europe/Berlin:20260222T140000
LOCATION:Sportovní hala Datart Zlín\, U Zimního stadionu 4286 Zlín
SUMMARY:EX-U22M-5B: H. Králové-Zlín
END:VEVENT
BEGIN:VEVENT
UID:64666538-6135-4932-b864-363363646636
DTSTAMP:20260422T183146Z
DESCRIPTION:1/2 Zlín - Příbram 3:0 (17\,15\,21)
DTSTART;TZID=Europe/Berlin:20260321T120000
DTEND;TZID=Europe/Berlin:20260321T140000
LOCATION:Hala Vocelova 1338\, Vocelova 1338 Hradec Králové - Pražské Předmě
 stí
SUMMARY:EX-U22M-6B: Zlín-Příbram
END:VEVENT
BEGIN:VEVENT
UID:61356363-3739-4061-a463-306332313433
DTSTAMP:20260422T183146Z
DESCRIPTION:1/3 H. Králové - Zlín 3:0 (10\,19\,18)
DTSTART;TZID=Europe/Berlin:20260321T150000
DTEND;TZID=Europe/Berlin:20260321T170000
LOCATION:Hala Vocelova 1338\, Vocelova 1338 Hradec Králové - Pražské Předmě
 stí
SUMMARY:EX-U22M-6B: H. Králové-Zlín
END:VEVENT
BEGIN:VEVENT
UID:36396266-6361-4266-a433-646338326265
DTSTAMP:20260422T183146Z
DESCRIPTION:1/5 Prosek - Zlín 1:3 (-22\,17\,-21\,-15)
DTSTART;TZID=Europe/Berlin:20260322T100000
DTEND;TZID=Europe/Berlin:20260322T120000
LOCATION:Hala Vocelova 1338\, Vocelova 1338 Hradec Králové - Pražské Předmě
 stí
SUMMARY:EX-U22M-6B: Prosek-Zlín
END:VEVENT
BEGIN:VEVENT
UID:36353638-3930-4634-b039-626537636530
DTSTAMP:20260422T183146Z
DESCRIPTION:1/2 Zlín - Č. Budějovice 0:3 (-14\,-15\,-22)
DTSTART;TZID=Europe/Berlin:20260411T120000
DTEND;TZID=Europe/Berlin:20260411T140000
LOCATION:Hala BIOS\, Jana Palacha 1840 Kladno
SUMMARY:EX-U22M-7B: Zlín-Č. Budějovice
END:VEVENT
BEGIN:VEVENT
UID:66303933-6462-4339-a431-356331643732
DTSTAMP:20260422T183146Z
DESCRIPTION:1/3 Kladno - Zlín 3:1 (13\,-23\,17\,23)
DTSTART;TZID=Europe/Berlin:20260411T150000
DTEND;TZID=Europe/Berlin:20260411T170000
LOCATION:Hala BIOS\, Jana Palacha 1840 Kladno
SUMMARY:EX-U22M-7B: Kladno-Zlín
END:VEVENT
BEGIN:VEVENT
UID:32353762-3135-4137-b436-646231666565
DTSTAMP:20260422T183146Z
DESCRIPTION:1/5 Prosek - Zlín 3:0 (19\,25\,15)
DTSTART;TZID=Europe/Berlin:20260412T100000
DTEND;TZID=Europe/Berlin:20260412T120000
LOCATION:Hala BIOS\, Jana Palacha 1840 Kladno
SUMMARY:EX-U22M-7B: Prosek-Zlín
END:VEVENT
BEGIN:VEVENT
UID:31353064-6337-4961-b638-316334626365
DTSTAMP:20260422T183146Z
DESCRIPTION:1/3 Zlín - Prosek\nKurt 1
DTSTART;TZID=Europe/Berlin:20260507T183000
DTEND;TZID=Europe/Berlin:20260507T203000
LOCATION:Mattoni Arena Hala míčových sportů\, Západní 1812 Karlovy Vary
SUMMARY:EX-U22M-FI: Zlín-Prosek
END:VEVENT
BEGIN:VEVENT
UID:37656338-3164-4865-a464-613461393264
DTSTAMP:20260422T183146Z
DESCRIPTION:1/9 Zlín - Příbram\nKurt 1
DTSTART;TZID=Europe/Berlin:20260508T160000
DTEND;TZID=Europe/Berlin:20260508T180000
LOCATION:Mattoni Arena Hala míčových sportů\, Západní 1812 Karlovy Vary
SUMMARY:EX-U22M-FI: Zlín-Příbram
END:VEVENT
BEGIN:VEVENT
UID:39643135-3732-4537-a461-646261653633
DTSTAMP:20260422T183146Z
DESCRIPTION:1/7 Brno - Zlín\nKurt 1
DTSTART;TZID=Europe/Berlin:20260508T123000
DTEND;TZID=Europe/Berlin:20260508T143000
LOCATION:Mattoni Arena Hala míčových sportů\, Západní 1812 Karlovy Vary
SUMMARY:EX-U22M-FI: Brno-Zlín
END:VEVENT
END:VCALENDAR
