BEGIN:VCALENDAR
VERSION:2.0
PRODID:-//VK PFN Znojmo89822//NONSGML kigkonsult.se iCalcreator 2.41.80//
CALSCALE:GREGORIAN
UID:32383063-3665-4635-b766-633438363036
BEGIN:VEVENT
UID:61363465-3737-4463-b739-313635343539
DTSTAMP:20260422T183254Z
DESCRIPTION:1/8 Znojmo - Prosek 0:3 (-21\,-15\,-13)
DTSTART;TZID=Europe/Berlin:20250928T130000
DTEND;TZID=Europe/Berlin:20250928T150000
LOCATION:Nibe aréna\, městská sportovní hala\, 5. května 746 Benátky nad Ji
 zerou - Benátky nad Jizerou II
SUMMARY:EX-U22M-1D: Znojmo-Prosek
END:VEVENT
BEGIN:VEVENT
UID:33616335-6165-4630-b165-396239366432
DTSTAMP:20260422T183254Z
DESCRIPTION:1/10 Znojmo - Benátky n. J. 3:0 (19\,17\,23)
DTSTART;TZID=Europe/Berlin:20250928T170000
DTEND;TZID=Europe/Berlin:20250928T190000
LOCATION:Nibe aréna\, městská sportovní hala\, 5. května 746 Benátky nad Ji
 zerou - Benátky nad Jizerou II
SUMMARY:EX-U22M-1D: Znojmo-Benátky n. J.
END:VEVENT
BEGIN:VEVENT
UID:38623235-3862-4737-a638-353839666562
DTSTAMP:20260422T183254Z
DESCRIPTION:1/2 VK Ostrava - Znojmo 3:2 (-21\,17\,19\,-22\,14)
DTSTART;TZID=Europe/Berlin:20250927T130000
DTEND;TZID=Europe/Berlin:20250927T150000
LOCATION:Nibe aréna\, městská sportovní hala\, 5. května 746 Benátky nad Ji
 zerou - Benátky nad Jizerou II
SUMMARY:EX-U22M-1D: VK Ostrava-Znojmo
END:VEVENT
BEGIN:VEVENT
UID:65656563-3262-4337-b966-333433376535
DTSTAMP:20260422T183254Z
DESCRIPTION:1/5 Blue Ostrava - Znojmo 3:2 (21\,-24\,-19\,16\,11)
DTSTART;TZID=Europe/Berlin:20250927T190000
DTEND;TZID=Europe/Berlin:20250927T210000
LOCATION:Nibe aréna\, městská sportovní hala\, 5. května 746 Benátky nad Ji
 zerou - Benátky nad Jizerou II
SUMMARY:EX-U22M-1D: Blue Ostrava-Znojmo
END:VEVENT
BEGIN:VEVENT
UID:35353831-6165-4239-b365-353165316163
DTSTAMP:20260422T183254Z
DESCRIPTION:1/1 Znojmo - Kojetín 1:3 (17\,-20\,-23\,-22)
DTSTART;TZID=Europe/Berlin:20251025T100000
DTEND;TZID=Europe/Berlin:20251025T120000
LOCATION:Gymnázium Dr. Karla Polesného\, náměstí Komenského 945 Znojmo
SUMMARY:EX-U22M-2D: Znojmo-Kojetín
END:VEVENT
BEGIN:VEVENT
UID:66393866-6633-4261-a462-626432396132
DTSTAMP:20260422T183254Z
DESCRIPTION:1/3 Znojmo - Ústí n. L. 3:2 (11\,-23\,17\,-24\,11)
DTSTART;TZID=Europe/Berlin:20251025T150000
DTEND;TZID=Europe/Berlin:20251025T170000
LOCATION:Gymnázium Dr. Karla Polesného\, náměstí Komenského 945 Znojmo
SUMMARY:EX-U22M-2D: Znojmo-Ústí n. L.
END:VEVENT
BEGIN:VEVENT
UID:39323135-6464-4761-b261-333762636632
DTSTAMP:20260422T183254Z
DESCRIPTION:1/6 Kladno - Znojmo 3:0 (20\,22\,19)
DTSTART;TZID=Europe/Berlin:20251026T120000
DTEND;TZID=Europe/Berlin:20251026T140000
LOCATION:Gymnázium Dr. Karla Polesného\, náměstí Komenského 945 Znojmo
SUMMARY:EX-U22M-2D: Kladno-Znojmo
END:VEVENT
BEGIN:VEVENT
UID:35326232-3836-4230-a464-313631303131
DTSTAMP:20260422T183254Z
DESCRIPTION:1/4 Znojmo - Kojetín 1:3 (-22\,28\,-10\,-19)
DTSTART;TZID=Europe/Berlin:20251129T170000
DTEND;TZID=Europe/Berlin:20251129T190000
LOCATION:ZŠ Komenského\, Komenského 1 Velké Meziříčí
SUMMARY:EX-U22M-3D: Znojmo-Kojetín
END:VEVENT
BEGIN:VEVENT
UID:33656532-3564-4237-b063-376531336266
DTSTAMP:20260422T183254Z
DESCRIPTION:1/5 Znojmo - VK Ostrava 3:0 (15\,17\,22)
DTSTART;TZID=Europe/Berlin:20251130T100000
DTEND;TZID=Europe/Berlin:20251130T120000
LOCATION:ZŠ Komenského\, Komenského 1 Velké Meziříčí
SUMMARY:EX-U22M-3D: Znojmo-VK Ostrava
END:VEVENT
BEGIN:VEVENT
UID:65323739-3163-4462-b239-346566336636
DTSTAMP:20260422T183254Z
DESCRIPTION:1/1 Velké Meziříčí - Znojmo 3:0 (18\,21\,14)
DTSTART;TZID=Europe/Berlin:20251129T100000
DTEND;TZID=Europe/Berlin:20251129T120000
LOCATION:ZŠ Komenského\, Komenského 1 Velké Meziříčí
SUMMARY:EX-U22M-3D: Velké Meziříčí-Znojmo
END:VEVENT
BEGIN:VEVENT
UID:64363236-3534-4563-b537-633131643063
DTSTAMP:20260422T183254Z
DESCRIPTION:1/1 Znojmo - Velké Meziříčí 3:0 (21\,18\,14)
DTSTART;TZID=Europe/Berlin:20251220T100000
DTEND;TZID=Europe/Berlin:20251220T120000
LOCATION:Gymnázium Dr. Karla Polesného\, náměstí Komenského 945 Znojmo
SUMMARY:EX-U22M-4D: Znojmo-Velké Meziříčí
END:VEVENT
BEGIN:VEVENT
UID:37633864-3162-4962-b162-333063663230
DTSTAMP:20260422T183254Z
DESCRIPTION:1/3 Znojmo - Liberec 3:0 (21\,22\,19)
DTSTART;TZID=Europe/Berlin:20251220T150000
DTEND;TZID=Europe/Berlin:20251220T170000
LOCATION:Gymnázium Dr. Karla Polesného\, náměstí Komenského 945 Znojmo
SUMMARY:EX-U22M-4D: Znojmo-Liberec
END:VEVENT
BEGIN:VEVENT
UID:64383231-3161-4465-a466-393363353433
DTSTAMP:20260422T183254Z
DESCRIPTION:1/6 Benátky n. J. - Znojmo 3:1 (20\,-35\,22\,17)
DTSTART;TZID=Europe/Berlin:20251221T120000
DTEND;TZID=Europe/Berlin:20251221T140000
LOCATION:Gymnázium Dr. Karla Polesného\, náměstí Komenského 945 Znojmo
SUMMARY:EX-U22M-4D: Benátky n. J.-Znojmo
END:VEVENT
BEGIN:VEVENT
UID:37663031-3130-4162-b132-353633303165
DTSTAMP:20260422T183254Z
DESCRIPTION:1/6 Znojmo - Příbram 2:3 (-19\,20\,20\,-18\,-8)
DTSTART;TZID=Europe/Berlin:20260222T120000
DTEND;TZID=Europe/Berlin:20260222T140000
LOCATION:sportovní hala Příbram\, Legionářů 378 Příbram - Příbram VII
SUMMARY:EX-U22M-5C: Znojmo-Příbram
END:VEVENT
BEGIN:VEVENT
UID:30383664-3837-4865-a436-376334383035
DTSTAMP:20260422T183254Z
DESCRIPTION:1/2 Kojetín - Znojmo 0:3 (-20\,-18\,-22)
DTSTART;TZID=Europe/Berlin:20260221T120000
DTEND;TZID=Europe/Berlin:20260221T140000
LOCATION:sportovní hala Příbram\, Legionářů 378 Příbram - Příbram VII
SUMMARY:EX-U22M-5C: Kojetín-Znojmo
END:VEVENT
BEGIN:VEVENT
UID:63306633-3837-4532-a264-623730653735
DTSTAMP:20260422T183254Z
DESCRIPTION:1/4 Kladno - Znojmo 0:3 (-28\,-27\,-17)
DTSTART;TZID=Europe/Berlin:20260221T170000
DTEND;TZID=Europe/Berlin:20260221T190000
LOCATION:sportovní hala Příbram\, Legionářů 378 Příbram - Příbram VII
SUMMARY:EX-U22M-5C: Kladno-Znojmo
END:VEVENT
BEGIN:VEVENT
UID:30613863-6437-4533-b432-643537396261
DTSTAMP:20260422T183254Z
DESCRIPTION:1/6 Znojmo - Kladno 1:3 (-22\,21\,-11\,-14)
DTSTART;TZID=Europe/Berlin:20260322T120000
DTEND;TZID=Europe/Berlin:20260322T140000
LOCATION:Sportovní hala Bios\, Hokejových legend 3368 Kladno
SUMMARY:EX-U22M-6C: Znojmo-Kladno
END:VEVENT
BEGIN:VEVENT
UID:61636136-3532-4335-b936-643734663133
DTSTAMP:20260422T183254Z
DESCRIPTION:1/2 Olomouc - Znojmo 3:1 (23\,20\,-20\,28)
DTSTART;TZID=Europe/Berlin:20260321T120000
DTEND;TZID=Europe/Berlin:20260321T140000
LOCATION:Sportovní hala Bios\, Hokejových legend 3368 Kladno
SUMMARY:EX-U22M-6C: Olomouc-Znojmo
END:VEVENT
BEGIN:VEVENT
UID:64383630-3833-4166-a662-663762663161
DTSTAMP:20260422T183254Z
DESCRIPTION:1/4 Velké Meziříčí - Znojmo 3:0 (15\,21\,22)\nNH: BIOS\, ulice 
 Jana Palacha
DTSTART;TZID=Europe/Berlin:20260321T170000
DTEND;TZID=Europe/Berlin:20260321T190000
LOCATION:Sportovní hala Bios\, Hokejových legend 3368 Kladno
SUMMARY:EX-U22M-6C: Velké Meziříčí-Znojmo
END:VEVENT
BEGIN:VEVENT
UID:34303563-3365-4462-b133-646133343966
DTSTAMP:20260422T183254Z
DESCRIPTION:1/2 Znojmo - Liberec 1:3 (-22\,-21\,21\,-20)
DTSTART;TZID=Europe/Berlin:20260411T120000
DTEND;TZID=Europe/Berlin:20260411T140000
LOCATION:hala STAV\, SOŠ Kolín\, Brankovická 1417 Kolín - Kolín V
SUMMARY:EX-U22M-7D: Znojmo-Liberec
END:VEVENT
BEGIN:VEVENT
UID:61363032-3536-4562-b962-333838613831
DTSTAMP:20260422T183254Z
DESCRIPTION:1/3 Kolín - Znojmo 3:0 (20\,24\,23)
DTSTART;TZID=Europe/Berlin:20260411T150000
DTEND;TZID=Europe/Berlin:20260411T170000
LOCATION:hala STAV\, SOŠ Kolín\, Brankovická 1417 Kolín - Kolín V
SUMMARY:EX-U22M-7D: Kolín-Znojmo
END:VEVENT
BEGIN:VEVENT
UID:64346464-3265-4165-b063-306636336465
DTSTAMP:20260422T183254Z
DESCRIPTION:1/5 Benátky n. J. - Znojmo 0:3 (-21\,-24\,-21)
DTSTART;TZID=Europe/Berlin:20260412T100000
DTEND;TZID=Europe/Berlin:20260412T120000
LOCATION:hala STAV\, SOŠ Kolín\, Brankovická 1417 Kolín - Kolín V
SUMMARY:EX-U22M-7D: Benátky n. J.-Znojmo
END:VEVENT
END:VCALENDAR
