BEGIN:VCALENDAR
VERSION:2.0
PRODID:-//VK Lvi Praha89823//NONSGML kigkonsult.se iCalcreator 2.41.80//
CALSCALE:GREGORIAN
UID:61653833-6561-4266-b537-363834643562
BEGIN:VEVENT
UID:61396661-6462-4832-b465-653131636337
DTSTAMP:20260422T191518Z
DESCRIPTION:1/2 Lvice - Orion 3:2 (-18\,13\,22\,-18\,8)
DTSTART;TZID=Europe/Berlin:20250928T133000
DTEND;TZID=Europe/Berlin:20250928T153000
LOCATION:Městská sportovní hala\, U Přehrady 4747 Jablonec nad Nisou
SUMMARY:EX-U22Z-1B: Lvice-Orion
END:VEVENT
BEGIN:VEVENT
UID:61383730-3764-4362-b965-653337346439
DTSTAMP:20260422T191518Z
DESCRIPTION:1/1 Liberec - Lvice 3:0 (17\,8\,13)
DTSTART;TZID=Europe/Berlin:20250928T100000
DTEND;TZID=Europe/Berlin:20250928T120000
LOCATION:Městská sportovní hala\, U Přehrady 4747 Jablonec nad Nisou
SUMMARY:EX-U22Z-1B: Liberec-Lvice
END:VEVENT
BEGIN:VEVENT
UID:33623261-3062-4136-a630-333761656132
DTSTAMP:20260422T191518Z
DESCRIPTION:1/2 Lvice - Orion 3:2 (20\,20\,-21\,-19\,11)
DTSTART;TZID=Europe/Berlin:20251019T133000
DTEND;TZID=Europe/Berlin:20251019T153000
LOCATION:Městská sportovní hala\, Petřivalského 2884 Přerov - Přerov I-Měst
 o
SUMMARY:EX-U22Z-2C: Lvice-Orion
END:VEVENT
BEGIN:VEVENT
UID:33383738-3136-4030-b266-303232643131
DTSTAMP:20260422T191518Z
DESCRIPTION:1/1 Přerov - Lvice 1:3 (20\,-22\,-14\,-22)
DTSTART;TZID=Europe/Berlin:20251019T100000
DTEND;TZID=Europe/Berlin:20251019T120000
LOCATION:Městská sportovní hala\, Petřivalského 2884 Přerov - Přerov I-Měst
 o
SUMMARY:EX-U22Z-2C: Přerov-Lvice
END:VEVENT
BEGIN:VEVENT
UID:34316434-6231-4164-b465-333234636364
DTSTAMP:20260422T191518Z
DESCRIPTION:1/1 Lvice - Liberec 0:3 (-12\,-16\,-22)
DTSTART;TZID=Europe/Berlin:20251116T100000
DTEND;TZID=Europe/Berlin:20251116T120000
LOCATION:ZŠ Balabenka\, náměstí Na Balabence 800 Praha - Libeň
SUMMARY:EX-U22Z-3B: Lvice-Liberec
END:VEVENT
BEGIN:VEVENT
UID:63356234-6130-4961-b730-336535623561
DTSTAMP:20260422T191518Z
DESCRIPTION:1/3 Junior Brno - Lvice 0:3 (-8\,-19\,-22)
DTSTART;TZID=Europe/Berlin:20251116T170000
DTEND;TZID=Europe/Berlin:20251116T190000
LOCATION:ZŠ Balabenka\, náměstí Na Balabence 800 Praha - Libeň
SUMMARY:EX-U22Z-3B: Junior Brno-Lvice
END:VEVENT
BEGIN:VEVENT
UID:33366135-3663-4264-b037-656437383730
DTSTAMP:20260422T191518Z
DESCRIPTION:1/3 Lvice - Ostrava 3:1 (-24\,18\,17\,19)
DTSTART;TZID=Europe/Berlin:20251214T170000
DTEND;TZID=Europe/Berlin:20251214T190000
LOCATION:Hala míčových sportů\, Varenská 3098 Ostrava - Moravská Ostrava
SUMMARY:EX-U22Z-4B: Lvice-Ostrava
END:VEVENT
BEGIN:VEVENT
UID:61643031-6638-4263-b763-396435376233
DTSTAMP:20260422T191518Z
DESCRIPTION:1/2 Jihlava - Lvice 1:3 (-21\,-17\,14\,-21)
DTSTART;TZID=Europe/Berlin:20251214T133000
DTEND;TZID=Europe/Berlin:20251214T153000
LOCATION:Hala míčových sportů\, Varenská 3098 Ostrava - Moravská Ostrava
SUMMARY:EX-U22Z-4B: Jihlava-Lvice
END:VEVENT
BEGIN:VEVENT
UID:36623031-3366-4466-a131-323666343564
DTSTAMP:20260422T191518Z
DESCRIPTION:1/2 Lvice - Olymp 1:3 (-16\,-11\,24\,-20)
DTSTART;TZID=Europe/Berlin:20260118T133000
DTEND;TZID=Europe/Berlin:20260118T153000
LOCATION:Městská sportovní hala\, U Přehrady 4747 Jablonec nad Nisou
SUMMARY:EX-U22Z-5A: Lvice-Olymp
END:VEVENT
BEGIN:VEVENT
UID:34396535-3832-4433-b665-333931346663
DTSTAMP:20260422T191518Z
DESCRIPTION:1/1 Liberec - Lvice 0:3 (-22\,-22\,-18)
DTSTART;TZID=Europe/Berlin:20260118T100000
DTEND;TZID=Europe/Berlin:20260118T120000
LOCATION:Městská sportovní hala\, U Přehrady 4747 Jablonec nad Nisou
SUMMARY:EX-U22Z-5A: Liberec-Lvice
END:VEVENT
BEGIN:VEVENT
UID:61373736-6165-4963-b966-343661333838
DTSTAMP:20260422T191518Z
DESCRIPTION:1/1 Lvice - Olymp 0:3 (-16\,-23\,-19)
DTSTART;TZID=Europe/Berlin:20260201T100000
DTEND;TZID=Europe/Berlin:20260201T120000
LOCATION:ZŠ Balabenka\, náměstí Na Balabence 800 Praha - Libeň
SUMMARY:EX-U22Z-6A: Lvice-Olymp
END:VEVENT
BEGIN:VEVENT
UID:30653933-3733-4332-b364-363663313438
DTSTAMP:20260422T191518Z
DESCRIPTION:1/3 Ostrava - Lvice 0:3 (-19\,-18\,-20)
DTSTART;TZID=Europe/Berlin:20260201T170000
DTEND;TZID=Europe/Berlin:20260201T190000
LOCATION:ZŠ Balabenka\, náměstí Na Balabence 800 Praha - Libeň
SUMMARY:EX-U22Z-6A: Ostrava-Lvice
END:VEVENT
BEGIN:VEVENT
UID:65373765-3465-4136-b133-316539663861
DTSTAMP:20260422T191518Z
DESCRIPTION:1/2 Lvice - Olymp 0:3 (-23\,-13\,-17)
DTSTART;TZID=Europe/Berlin:20260315T133000
DTEND;TZID=Europe/Berlin:20260315T153000
LOCATION:Dukla Liberec\, Jeronýmova 558 Liberec - Liberec VII-Horní Růžodol
SUMMARY:EX-U22Z-7A: Lvice-Olymp
END:VEVENT
BEGIN:VEVENT
UID:36643237-3830-4662-b864-643365333534
DTSTAMP:20260422T191518Z
DESCRIPTION:1/1 Liberec - Lvice 0:3 (-11\,-19\,-24)
DTSTART;TZID=Europe/Berlin:20260315T100000
DTEND;TZID=Europe/Berlin:20260315T120000
LOCATION:Dukla Liberec\, Jeronýmova 558 Liberec - Liberec VII-Horní Růžodol
SUMMARY:EX-U22Z-7A: Liberec-Lvice
END:VEVENT
BEGIN:VEVENT
UID:63373662-3630-4162-b765-323635323233
DTSTAMP:20260422T191518Z
DESCRIPTION:1/4 Lvice - Jihlava 3:0 (19\,14\,8)
DTSTART;TZID=Europe/Berlin:20260327T123000
DTEND;TZID=Europe/Berlin:20260327T143000
LOCATION:Městská sportovní hala\, Petřivalského 2884 Přerov - Přerov I-Měst
 o
SUMMARY:EX-U22Z-F2: Lvice-Jihlava
END:VEVENT
BEGIN:VEVENT
UID:31633265-3539-4862-a331-663234366664
DTSTAMP:20260422T191518Z
DESCRIPTION:1/2 Liberec - Lvice 3:0 (14\,13\,13)
DTSTART;TZID=Europe/Berlin:20260326T180000
DTEND;TZID=Europe/Berlin:20260326T200000
LOCATION:Městská sportovní hala\, Petřivalského 2884 Přerov - Přerov I-Měst
 o
SUMMARY:EX-U22Z-F2: Liberec-Lvice
END:VEVENT
BEGIN:VEVENT
UID:37376332-6365-4238-b262-636461613938
DTSTAMP:20260422T191518Z
DESCRIPTION:2/10 Lvice - Ostrava 3:1 (-17\,10\,22\,21)\no 3. místo
DTSTART;TZID=Europe/Berlin:20260329T130000
DTEND;TZID=Europe/Berlin:20260329T150000
LOCATION:Městská sportovní hala\, Petřivalského 2884 Přerov - Přerov I-Měst
 o
SUMMARY:EX-U22Z-F: Lvice-Ostrava
END:VEVENT
BEGIN:VEVENT
UID:38383036-3637-4636-a465-666361303536
DTSTAMP:20260422T191518Z
DESCRIPTION:1/8 Olymp - Lvice 3:1 (15\,22\,-20\,23)\nSF 1
DTSTART;TZID=Europe/Berlin:20260328T130000
DTEND;TZID=Europe/Berlin:20260328T150000
LOCATION:Městská sportovní hala\, Petřivalského 2884 Přerov - Přerov I-Měst
 o
SUMMARY:EX-U22Z-F: Olymp-Lvice
END:VEVENT
END:VCALENDAR
