BEGIN:VCALENDAR
VERSION:2.0
PRODID:-//VO Slezská Orlice89835//NONSGML kigkonsult.se iCalcreator 2.41.80//
CALSCALE:GREGORIAN
UID:31666161-3239-4131-a234-633863333338
BEGIN:VEVENT
UID:64643836-6366-4339-b166-343235613534
DTSTAMP:20260423T000336Z
DESCRIPTION:3/11 Orlice - Drásov 3:1 (-20\,19\,17\,22)
DTSTART;TZID=Europe/Berlin:20251005T100000
DTEND;TZID=Europe/Berlin:20251005T120000
LOCATION:ZŠ Janáčkovo náměstí 17\, Janáčkovo náměstí 1970 Krnov - Pod Bezru
 čovým vrchem
SUMMARY:1-U22M-C: Orlice-Drásov
END:VEVENT
BEGIN:VEVENT
UID:65316364-3737-4039-b239-313531623438
DTSTAMP:20260423T000336Z
DESCRIPTION:4/15 Orlice - Drásov 3:0 (19\,19\,20)
DTSTART;TZID=Europe/Berlin:20251005T140000
DTEND;TZID=Europe/Berlin:20251005T160000
LOCATION:ZŠ Janáčkovo náměstí 17\, Janáčkovo náměstí 1970 Krnov - Pod Bezru
 čovým vrchem
SUMMARY:1-U22M-C: Orlice-Drásov
END:VEVENT
BEGIN:VEVENT
UID:30366230-3433-4131-b631-363631356430
DTSTAMP:20260423T000336Z
DESCRIPTION:7/26 Orlice - Šlapanice 0:3 (-22\,-21\,-22)
DTSTART;TZID=Europe/Berlin:20251102T100000
DTEND;TZID=Europe/Berlin:20251102T120000
LOCATION:ZŠ Janáčkovo náměstí 17\, Janáčkovo náměstí 1970 Krnov - Pod Bezru
 čovým vrchem
SUMMARY:1-U22M-C: Orlice-Šlapanice
END:VEVENT
BEGIN:VEVENT
UID:30653462-3738-4639-b038-663863376336
DTSTAMP:20260423T000336Z
DESCRIPTION:8/30 Orlice - Šlapanice 0:3 (-16\,-17\,-21)
DTSTART;TZID=Europe/Berlin:20251102T140000
DTEND;TZID=Europe/Berlin:20251102T160000
LOCATION:ZŠ Janáčkovo náměstí 17\, Janáčkovo náměstí 1970 Krnov - Pod Bezru
 čovým vrchem
SUMMARY:1-U22M-C: Orlice-Šlapanice
END:VEVENT
BEGIN:VEVENT
UID:37623231-3238-4466-b938-663863393538
DTSTAMP:20260423T000336Z
DESCRIPTION:13/52 Orlice - Bojkovice 3:0 (16\,23\,14)
DTSTART;TZID=Europe/Berlin:20251213T100000
DTEND;TZID=Europe/Berlin:20251213T120000
LOCATION:ZŠ Janáčkovo náměstí 17\, Janáčkovo náměstí 1970 Krnov - Pod Bezru
 čovým vrchem
SUMMARY:1-U22M-C: Orlice-Bojkovice
END:VEVENT
BEGIN:VEVENT
UID:31633333-3339-4763-a137-366365336137
DTSTAMP:20260423T000336Z
DESCRIPTION:14/56 Orlice - Bojkovice 1:3 (15\,-19\,-17\,-17)
DTSTART;TZID=Europe/Berlin:20251213T140000
DTEND;TZID=Europe/Berlin:20251213T160000
LOCATION:ZŠ Janáčkovo náměstí 17\, Janáčkovo náměstí 1970 Krnov - Pod Bezru
 čovým vrchem
SUMMARY:1-U22M-C: Orlice-Bojkovice
END:VEVENT
BEGIN:VEVENT
UID:66373036-6461-4637-b366-643261313334
DTSTAMP:20260423T000336Z
DESCRIPTION:15/58 Orlice - H. Brod 3:0 (18\,17\,20)
DTSTART;TZID=Europe/Berlin:20251214T100000
DTEND;TZID=Europe/Berlin:20251214T120000
LOCATION:ZŠ Janáčkovo náměstí 17\, Janáčkovo náměstí 1970 Krnov - Pod Bezru
 čovým vrchem
SUMMARY:1-U22M-C: Orlice-H. Brod
END:VEVENT
BEGIN:VEVENT
UID:39306538-3133-4962-b533-306533623431
DTSTAMP:20260423T000336Z
DESCRIPTION:16/62 Orlice - H. Brod 3:2 (16\,24\,-28\,-23\,13)
DTSTART;TZID=Europe/Berlin:20251214T140000
DTEND;TZID=Europe/Berlin:20251214T160000
LOCATION:ZŠ Janáčkovo náměstí 17\, Janáčkovo náměstí 1970 Krnov - Pod Bezru
 čovým vrchem
SUMMARY:1-U22M-C: Orlice-H. Brod
END:VEVENT
BEGIN:VEVENT
UID:31333761-3062-4936-a239-663662303631
DTSTAMP:20260423T000336Z
DESCRIPTION:19/75 Orlice - Vsetín 3:2 (25\,21\,-19\,-26\,12)
DTSTART;TZID=Europe/Berlin:20260131T100000
DTEND;TZID=Europe/Berlin:20260131T120000
LOCATION:ZŠ Janáčkovo náměstí 17\, Janáčkovo náměstí 1970 Krnov - Pod Bezru
 čovým vrchem
SUMMARY:1-U22M-C: Orlice-Vsetín
END:VEVENT
BEGIN:VEVENT
UID:38376463-3861-4633-b035-633338363031
DTSTAMP:20260423T000336Z
DESCRIPTION:20/79 Orlice - Vsetín 3:1 (18\,-17\,23\,24)
DTSTART;TZID=Europe/Berlin:20260131T140000
DTEND;TZID=Europe/Berlin:20260131T160000
LOCATION:ZŠ Janáčkovo náměstí 17\, Janáčkovo náměstí 1970 Krnov - Pod Bezru
 čovým vrchem
SUMMARY:1-U22M-C: Orlice-Vsetín
END:VEVENT
BEGIN:VEVENT
UID:33306238-3134-4931-a333-353464303162
DTSTAMP:20260423T000336Z
DESCRIPTION:23/92 Orlice - Blue Ostrava B 3:0 (13\,21\,15)
DTSTART;TZID=Europe/Berlin:20260328T100000
DTEND;TZID=Europe/Berlin:20260328T120000
LOCATION:ZŠ Janáčkovo náměstí 17\, Janáčkovo náměstí 1970 Krnov - Pod Bezru
 čovým vrchem
SUMMARY:1-U22M-C: Orlice-Blue Ostrava B
END:VEVENT
BEGIN:VEVENT
UID:62393433-6338-4037-b235-306361333765
DTSTAMP:20260423T000336Z
DESCRIPTION:24/96 Orlice - Blue Ostrava B 3:2 (-22\,-22\,22\,19\,15)
DTSTART;TZID=Europe/Berlin:20260328T140000
DTEND;TZID=Europe/Berlin:20260328T160000
LOCATION:ZŠ Janáčkovo náměstí 17\, Janáčkovo náměstí 1970 Krnov - Pod Bezru
 čovým vrchem
SUMMARY:1-U22M-C: Orlice-Blue Ostrava B
END:VEVENT
BEGIN:VEVENT
UID:64373134-6238-4936-b066-393038626435
DTSTAMP:20260423T000336Z
DESCRIPTION:25/97 Orlice - Olomouc B 3:1 (27\,25\,-22\,23)
DTSTART;TZID=Europe/Berlin:20260329T100000
DTEND;TZID=Europe/Berlin:20260329T120000
LOCATION:ZŠ Janáčkovo náměstí 17\, Janáčkovo náměstí 1970 Krnov - Pod Bezru
 čovým vrchem
SUMMARY:1-U22M-C: Orlice-Olomouc B
END:VEVENT
BEGIN:VEVENT
UID:33326265-3936-4734-a238-353565363362
DTSTAMP:20260423T000336Z
DESCRIPTION:26/101 Orlice - Olomouc B 3:2 (25\,21\,-23\,-21\,13)
DTSTART;TZID=Europe/Berlin:20260329T140000
DTEND;TZID=Europe/Berlin:20260329T160000
LOCATION:ZŠ Janáčkovo náměstí 17\, Janáčkovo náměstí 1970 Krnov - Pod Bezru
 čovým vrchem
SUMMARY:1-U22M-C: Orlice-Olomouc B
END:VEVENT
BEGIN:VEVENT
UID:37343635-6137-4666-b839-306266343832
DTSTAMP:20260423T000336Z
DESCRIPTION:1/2 H. Brod - Orlice 3:2 (-21\,-23\,23\,20\,6)
DTSTART;TZID=Europe/Berlin:20251004T110000
DTEND;TZID=Europe/Berlin:20251004T130000
LOCATION:Sportovní hala TJ Jiskra\, Ledečská 3028 Havlíčkův Brod
SUMMARY:1-U22M-C: H. Brod-Orlice
END:VEVENT
BEGIN:VEVENT
UID:64323966-3031-4333-b638-313833316635
DTSTAMP:20260423T000336Z
DESCRIPTION:2/6 H. Brod - Orlice 3:2 (-22\,18\,-19\,21\,8)
DTSTART;TZID=Europe/Berlin:20251004T150000
DTEND;TZID=Europe/Berlin:20251004T170000
LOCATION:Sportovní hala TJ Jiskra\, Ledečská 3028 Havlíčkův Brod
SUMMARY:1-U22M-C: H. Brod-Orlice
END:VEVENT
BEGIN:VEVENT
UID:30643363-3435-4261-b333-346531366438
DTSTAMP:20260423T000336Z
DESCRIPTION:5/19 Vsetín - Orlice 3:1 (19\,23\,-22\,17)
DTSTART;TZID=Europe/Berlin:20251101T110000
DTEND;TZID=Europe/Berlin:20251101T130000
LOCATION:ZŠ Hovězí\,  Hovězí426
SUMMARY:1-U22M-C: Vsetín-Orlice
END:VEVENT
BEGIN:VEVENT
UID:65343662-6133-4361-a365-333738323962
DTSTAMP:20260423T000336Z
DESCRIPTION:6/23 Vsetín - Orlice 0:3 (-22\,-23\,-23)
DTSTART;TZID=Europe/Berlin:20251101T150000
DTEND;TZID=Europe/Berlin:20251101T170000
LOCATION:ZŠ Hovězí\,  Hovězí426
SUMMARY:1-U22M-C: Vsetín-Orlice
END:VEVENT
BEGIN:VEVENT
UID:61303539-6366-4961-a664-366133616236
DTSTAMP:20260423T000336Z
DESCRIPTION:9/36 Blue Ostrava B - Orlice 0:3 (-18\,-21\,-23)
DTSTART;TZID=Europe/Berlin:20251122T090000
DTEND;TZID=Europe/Berlin:20251122T110000
LOCATION:Sportovní hala Ostrava -Třebovice\, 5. května 5649 Ostrava - Třebo
 vice
SUMMARY:1-U22M-C: Blue Ostrava B-Orlice
END:VEVENT
BEGIN:VEVENT
UID:63383334-3634-4162-b262-316564613737
DTSTAMP:20260423T000336Z
DESCRIPTION:10/40 Blue Ostrava B - Orlice 2:3 (-14\,-20\,14\,26\,-8)
DTSTART;TZID=Europe/Berlin:20251122T130000
DTEND;TZID=Europe/Berlin:20251122T150000
LOCATION:Sportovní hala Ostrava -Třebovice\, 5. května 5649 Ostrava - Třebo
 vice
SUMMARY:1-U22M-C: Blue Ostrava B-Orlice
END:VEVENT
BEGIN:VEVENT
UID:62343435-3637-4432-a361-663565363961
DTSTAMP:20260423T000336Z
DESCRIPTION:11/41 Olomouc B - Orlice 1:3 (-23\,-23\,22\,-21)
DTSTART;TZID=Europe/Berlin:20251123T110000
DTEND;TZID=Europe/Berlin:20251123T130000
LOCATION:VOŠ a SPŠE Olomouc\, Božetěchova 755 Olomouc - Hodolany
SUMMARY:1-U22M-C: Olomouc B-Orlice
END:VEVENT
BEGIN:VEVENT
UID:32663731-3632-4238-b334-303661356238
DTSTAMP:20260423T000336Z
DESCRIPTION:12/45 Olomouc B - Orlice 3:0 (21\,22\,26)
DTSTART;TZID=Europe/Berlin:20251123T150000
DTEND;TZID=Europe/Berlin:20251123T170000
LOCATION:VOŠ a SPŠE Olomouc\, Božetěchova 755 Olomouc - Hodolany
SUMMARY:1-U22M-C: Olomouc B-Orlice
END:VEVENT
BEGIN:VEVENT
UID:36376564-6233-4631-b839-366339353862
DTSTAMP:20260423T000336Z
DESCRIPTION:17/67 Drásov - Orlice 3:1 (19\,-16\,17\,19)
DTSTART;TZID=Europe/Berlin:20260110T110000
DTEND;TZID=Europe/Berlin:20260110T130000
LOCATION:Hala u ZŠ TGM Drásov\, Školní 167 Drásov
SUMMARY:1-U22M-C: Drásov-Orlice
END:VEVENT
BEGIN:VEVENT
UID:31306630-6136-4737-b033-346234646565
DTSTAMP:20260423T000336Z
DESCRIPTION:18/71 Drásov - Orlice 3:0 (22\,25\,27)
DTSTART;TZID=Europe/Berlin:20260110T150000
DTEND;TZID=Europe/Berlin:20260110T170000
LOCATION:Hala u ZŠ TGM Drásov\, Školní 167 Drásov
SUMMARY:1-U22M-C: Drásov-Orlice
END:VEVENT
BEGIN:VEVENT
UID:64636331-3733-4532-a261-646530376365
DTSTAMP:20260423T000336Z
DESCRIPTION:21/82 Šlapanice - Orlice 3:0 (22\,11\,14)
DTSTART;TZID=Europe/Berlin:20260201T090000
DTEND;TZID=Europe/Berlin:20260201T110000
LOCATION:ZŠ Na Zahrádkách \, Na Zahrádkách 1716 Šlapanice
SUMMARY:1-U22M-C: Šlapanice-Orlice
END:VEVENT
BEGIN:VEVENT
UID:34303866-3466-4636-b836-616336613565
DTSTAMP:20260423T000336Z
DESCRIPTION:22/86 Šlapanice - Orlice 3:0 (19\,17\,18)
DTSTART;TZID=Europe/Berlin:20260201T130000
DTEND;TZID=Europe/Berlin:20260201T150000
LOCATION:ZŠ Na Zahrádkách \, Na Zahrádkách 1716 Šlapanice
SUMMARY:1-U22M-C: Šlapanice-Orlice
END:VEVENT
BEGIN:VEVENT
UID:61373165-3439-4863-a166-613133663234
DTSTAMP:20260423T000336Z
DESCRIPTION:27/108 Bojkovice - Orlice 3:0 (21\,21\,24)
DTSTART;TZID=Europe/Berlin:20260404T100000
DTEND;TZID=Europe/Berlin:20260404T120000
LOCATION:ZŠ TGM Bojkovice\, Štefánikova 460 Bojkovice
SUMMARY:1-U22M-C: Bojkovice-Orlice
END:VEVENT
BEGIN:VEVENT
UID:32386163-3666-4638-b766-336537346635
DTSTAMP:20260423T000336Z
DESCRIPTION:28/112 Bojkovice - Orlice 3:0 (19\,13\,24)
DTSTART;TZID=Europe/Berlin:20260404T140000
DTEND;TZID=Europe/Berlin:20260404T160000
LOCATION:ZŠ TGM Bojkovice\, Štefánikova 460 Bojkovice
SUMMARY:1-U22M-C: Bojkovice-Orlice
END:VEVENT
END:VCALENDAR
