BEGIN:VCALENDAR
VERSION:2.0
PRODID:-//Blue Volley Ostrava B89836//NONSGML kigkonsult.se iCalcreator 2.41.80//
CALSCALE:GREGORIAN
UID:34383638-3066-4230-b832-626430343366
BEGIN:VEVENT
UID:61386438-3735-4434-a161-313934623566
DTSTAMP:20260422T235821Z
DESCRIPTION:3/10 Blue Ostrava B - Vsetín 1:3 (23\,-22\,-15\,-16)
DTSTART;TZID=Europe/Berlin:20251005T100000
DTEND;TZID=Europe/Berlin:20251005T120000
LOCATION:Sportovní hala Ostrava -Třebovice\, 5. května 5649 Ostrava - Třebo
 vice
SUMMARY:1-U22M-C: Blue Ostrava B-Vsetín
END:VEVENT
BEGIN:VEVENT
UID:34653531-3833-4438-a636-386463396133
DTSTAMP:20260422T235821Z
DESCRIPTION:4/14 Blue Ostrava B - Vsetín 0:3 (-15\,-20\,-14)
DTSTART;TZID=Europe/Berlin:20251005T140000
DTEND;TZID=Europe/Berlin:20251005T160000
LOCATION:Sportovní hala Ostrava -Třebovice\, 5. května 5649 Ostrava - Třebo
 vice
SUMMARY:1-U22M-C: Blue Ostrava B-Vsetín
END:VEVENT
BEGIN:VEVENT
UID:62363134-6134-4636-b962-653561313937
DTSTAMP:20260422T235821Z
DESCRIPTION:9/36 Blue Ostrava B - Orlice 0:3 (-18\,-21\,-23)
DTSTART;TZID=Europe/Berlin:20251122T090000
DTEND;TZID=Europe/Berlin:20251122T110000
LOCATION:Sportovní hala Ostrava -Třebovice\, 5. května 5649 Ostrava - Třebo
 vice
SUMMARY:1-U22M-C: Blue Ostrava B-Orlice
END:VEVENT
BEGIN:VEVENT
UID:34656132-3061-4533-a632-616466336234
DTSTAMP:20260422T235821Z
DESCRIPTION:10/40 Blue Ostrava B - Orlice 2:3 (-14\,-20\,14\,26\,-8)
DTSTART;TZID=Europe/Berlin:20251122T130000
DTEND;TZID=Europe/Berlin:20251122T150000
LOCATION:Sportovní hala Ostrava -Třebovice\, 5. května 5649 Ostrava - Třebo
 vice
SUMMARY:1-U22M-C: Blue Ostrava B-Orlice
END:VEVENT
BEGIN:VEVENT
UID:39393831-6561-4431-b432-653833336637
DTSTAMP:20260422T235821Z
DESCRIPTION:15/59 Blue Ostrava B - Drásov 3:2 (20\,-19\,21\,-14\,12)
DTSTART;TZID=Europe/Berlin:20251214T100000
DTEND;TZID=Europe/Berlin:20251214T120000
LOCATION:Sportovní hala Ostrava -Třebovice\, 5. května 5649 Ostrava - Třebo
 vice
SUMMARY:1-U22M-C: Blue Ostrava B-Drásov
END:VEVENT
BEGIN:VEVENT
UID:37643865-6639-4330-b933-313531643831
DTSTAMP:20260422T235821Z
DESCRIPTION:16/63 Blue Ostrava B - Drásov 3:1 (-24\,14\,19\,22)
DTSTART;TZID=Europe/Berlin:20251214T140000
DTEND;TZID=Europe/Berlin:20251214T160000
LOCATION:Sportovní hala Ostrava -Třebovice\, 5. května 5649 Ostrava - Třebo
 vice
SUMMARY:1-U22M-C: Blue Ostrava B-Drásov
END:VEVENT
BEGIN:VEVENT
UID:39326330-6166-4962-a465-626665336562
DTSTAMP:20260422T235821Z
DESCRIPTION:19/76 Blue Ostrava B - Šlapanice 0:3 (-13\,-14\,-12)
DTSTART;TZID=Europe/Berlin:20260131T100000
DTEND;TZID=Europe/Berlin:20260131T120000
LOCATION:Sportovní hala Ostrava -Třebovice\, 5. května 5649 Ostrava - Třebo
 vice
SUMMARY:1-U22M-C: Blue Ostrava B-Šlapanice
END:VEVENT
BEGIN:VEVENT
UID:35623265-3937-4463-b139-653437636130
DTSTAMP:20260422T235821Z
DESCRIPTION:20/80 Blue Ostrava B - Šlapanice 0:3 (-16\,-17\,-10)
DTSTART;TZID=Europe/Berlin:20260131T140000
DTEND;TZID=Europe/Berlin:20260131T160000
LOCATION:Sportovní hala Ostrava -Třebovice\, 5. května 5649 Ostrava - Třebo
 vice
SUMMARY:1-U22M-C: Blue Ostrava B-Šlapanice
END:VEVENT
BEGIN:VEVENT
UID:30336565-6362-4166-a134-633731303738
DTSTAMP:20260422T235821Z
DESCRIPTION:21/81 Blue Ostrava B - Olomouc B 3:1 (-16\,23\,22\,21)
DTSTART;TZID=Europe/Berlin:20260201T100000
DTEND;TZID=Europe/Berlin:20260201T120000
LOCATION:Sportovní hala Ostrava -Třebovice\, 5. května 5649 Ostrava - Třebo
 vice
SUMMARY:1-U22M-C: Blue Ostrava B-Olomouc B
END:VEVENT
BEGIN:VEVENT
UID:62653739-3438-4235-a438-363832363434
DTSTAMP:20260422T235821Z
DESCRIPTION:22/85 Blue Ostrava B - Olomouc B 0:3 (-20\,-24\,-23)
DTSTART;TZID=Europe/Berlin:20260201T140000
DTEND;TZID=Europe/Berlin:20260201T160000
LOCATION:Sportovní hala Ostrava -Třebovice\, 5. května 5649 Ostrava - Třebo
 vice
SUMMARY:1-U22M-C: Blue Ostrava B-Olomouc B
END:VEVENT
BEGIN:VEVENT
UID:62663966-3737-4036-a461-383638353834
DTSTAMP:20260422T235822Z
DESCRIPTION:25/98 Blue Ostrava B - Bojkovice 0:3 (-20\,-17\,-22)
DTSTART;TZID=Europe/Berlin:20260329T100000
DTEND;TZID=Europe/Berlin:20260329T120000
LOCATION:Sportovní hala Ostrava -Třebovice\, 5. května 5649 Ostrava - Třebo
 vice
SUMMARY:1-U22M-C: Blue Ostrava B-Bojkovice
END:VEVENT
BEGIN:VEVENT
UID:34616436-3666-4539-b130-353534633233
DTSTAMP:20260422T235822Z
DESCRIPTION:26/102 Blue Ostrava B - Bojkovice 1:3 (-19\,-14\,22\,-21)
DTSTART;TZID=Europe/Berlin:20260329T140000
DTEND;TZID=Europe/Berlin:20260329T160000
LOCATION:Sportovní hala Ostrava -Třebovice\, 5. května 5649 Ostrava - Třebo
 vice
SUMMARY:1-U22M-C: Blue Ostrava B-Bojkovice
END:VEVENT
BEGIN:VEVENT
UID:37393733-3330-4631-b433-656563663034
DTSTAMP:20260422T235822Z
DESCRIPTION:27/107 Blue Ostrava B - H. Brod 0:3 (-18\,-21\,-27)
DTSTART;TZID=Europe/Berlin:20260404T100000
DTEND;TZID=Europe/Berlin:20260404T120000
LOCATION:MH Svinov\, Stanislavského 1270 Ostrava - Svinov
SUMMARY:1-U22M-C: Blue Ostrava B-H. Brod
END:VEVENT
BEGIN:VEVENT
UID:65613432-3439-4331-b934-373566356535
DTSTAMP:20260422T235822Z
DESCRIPTION:28/111 Blue Ostrava B - H. Brod 0:3 (-15\,-21\,-15)
DTSTART;TZID=Europe/Berlin:20260404T140000
DTEND;TZID=Europe/Berlin:20260404T160000
LOCATION:MH Svinov\, Stanislavského 1270 Ostrava - Svinov
SUMMARY:1-U22M-C: Blue Ostrava B-H. Brod
END:VEVENT
BEGIN:VEVENT
UID:31333161-6638-4630-b137-356235643533
DTSTAMP:20260422T235822Z
DESCRIPTION:1/3 Drásov - Blue Ostrava B 3:0 (22\,21\,19)
DTSTART;TZID=Europe/Berlin:20251004T110000
DTEND;TZID=Europe/Berlin:20251004T130000
LOCATION:Hala u ZŠ TGM Drásov\, Školní 167 Drásov
SUMMARY:1-U22M-C: Drásov-Blue Ostrava B
END:VEVENT
BEGIN:VEVENT
UID:33663135-3331-4137-b338-376666363332
DTSTAMP:20260422T235822Z
DESCRIPTION:2/7 Drásov - Blue Ostrava B 3:0 (21\,10\,21)
DTSTART;TZID=Europe/Berlin:20251004T150000
DTEND;TZID=Europe/Berlin:20251004T170000
LOCATION:Hala u ZŠ TGM Drásov\, Školní 167 Drásov
SUMMARY:1-U22M-C: Drásov-Blue Ostrava B
END:VEVENT
BEGIN:VEVENT
UID:66333265-6432-4431-b862-656233333030
DTSTAMP:20260422T235822Z
DESCRIPTION:5/20 Šlapanice - Blue Ostrava B 3:0 (13\,15\,12)
DTSTART;TZID=Europe/Berlin:20260307T093000
DTEND;TZID=Europe/Berlin:20260307T113000
LOCATION:ZŠ Na Zahrádkách \, Na Zahrádkách 1716 Šlapanice
SUMMARY:1-U22M-C: Šlapanice-Blue Ostrava B
END:VEVENT
BEGIN:VEVENT
UID:39643933-6334-4536-b636-316533666136
DTSTAMP:20260422T235822Z
DESCRIPTION:6/24 Šlapanice - Blue Ostrava B 3:0 (18\,14\,9)
DTSTART;TZID=Europe/Berlin:20260307T130000
DTEND;TZID=Europe/Berlin:20260307T150000
LOCATION:ZŠ Na Zahrádkách \, Na Zahrádkách 1716 Šlapanice
SUMMARY:1-U22M-C: Šlapanice-Blue Ostrava B
END:VEVENT
BEGIN:VEVENT
UID:35613937-6237-4265-b136-323633313730
DTSTAMP:20260422T235822Z
DESCRIPTION:7/25 Olomouc B - Blue Ostrava B 3:0 (20\,14\,15)
DTSTART;TZID=Europe/Berlin:20260308T110000
DTEND;TZID=Europe/Berlin:20260308T130000
LOCATION:VOŠ a SPŠE Olomouc\, Božetěchova 755 Olomouc - Hodolany
SUMMARY:1-U22M-C: Olomouc B-Blue Ostrava B
END:VEVENT
BEGIN:VEVENT
UID:39306562-3863-4564-a337-376135616230
DTSTAMP:20260422T235822Z
DESCRIPTION:8/29 Olomouc B - Blue Ostrava B 3:1 (18\,-23\,18\,20)
DTSTART;TZID=Europe/Berlin:20260308T150000
DTEND;TZID=Europe/Berlin:20260308T170000
LOCATION:VOŠ a SPŠE Olomouc\, Božetěchova 755 Olomouc - Hodolany
SUMMARY:1-U22M-C: Olomouc B-Blue Ostrava B
END:VEVENT
BEGIN:VEVENT
UID:66343838-6138-4631-a637-373539303033
DTSTAMP:20260422T235822Z
DESCRIPTION:11/42 Bojkovice - Blue Ostrava B 3:0 (21\,7\,19)
DTSTART;TZID=Europe/Berlin:20251123T100000
DTEND;TZID=Europe/Berlin:20251123T120000
LOCATION:ZŠ TGM Bojkovice\, Štefánikova 460 Bojkovice
SUMMARY:1-U22M-C: Bojkovice-Blue Ostrava B
END:VEVENT
BEGIN:VEVENT
UID:63353366-6664-4439-b436-646662336562
DTSTAMP:20260422T235822Z
DESCRIPTION:12/46 Bojkovice - Blue Ostrava B 3:2 (19\,18\,-21\,-20\,10)
DTSTART;TZID=Europe/Berlin:20251123T140000
DTEND;TZID=Europe/Berlin:20251123T160000
LOCATION:ZŠ TGM Bojkovice\, Štefánikova 460 Bojkovice
SUMMARY:1-U22M-C: Bojkovice-Blue Ostrava B
END:VEVENT
BEGIN:VEVENT
UID:31333636-3136-4233-a562-633261613332
DTSTAMP:20260422T235822Z
DESCRIPTION:13/51 H. Brod - Blue Ostrava B 3:0 (17\,21\,11)
DTSTART;TZID=Europe/Berlin:20260118T100000
DTEND;TZID=Europe/Berlin:20260118T120000
LOCATION:Sportovní hala TJ Jiskra\, Ledečská 3028 Havlíčkův Brod
SUMMARY:1-U22M-C: H. Brod-Blue Ostrava B
END:VEVENT
BEGIN:VEVENT
UID:35646461-3161-4338-b463-353033336262
DTSTAMP:20260422T235822Z
DESCRIPTION:14/55 H. Brod - Blue Ostrava B 3:0 (18\,14\,10)
DTSTART;TZID=Europe/Berlin:20260118T140000
DTEND;TZID=Europe/Berlin:20260118T160000
LOCATION:Sportovní hala TJ Jiskra\, Ledečská 3028 Havlíčkův Brod
SUMMARY:1-U22M-C: H. Brod-Blue Ostrava B
END:VEVENT
BEGIN:VEVENT
UID:38643637-3464-4733-b363-326436333766
DTSTAMP:20260422T235822Z
DESCRIPTION:17/66 Vsetín - Blue Ostrava B 3:0 (25\,26\,21)
DTSTART;TZID=Europe/Berlin:20260111T100000
DTEND;TZID=Europe/Berlin:20260111T120000
LOCATION:Sportovní hala Na Lapači\, Na Lapači 247 Vsetín - Rokytnice
SUMMARY:1-U22M-C: Vsetín-Blue Ostrava B
END:VEVENT
BEGIN:VEVENT
UID:34613833-6235-4237-a462-383764646236
DTSTAMP:20260422T235822Z
DESCRIPTION:18/70 Vsetín - Blue Ostrava B 3:0 (15\,20\,24)
DTSTART;TZID=Europe/Berlin:20260111T130000
DTEND;TZID=Europe/Berlin:20260111T150000
LOCATION:Sportovní hala Na Lapači\, Na Lapači 247 Vsetín - Rokytnice
SUMMARY:1-U22M-C: Vsetín-Blue Ostrava B
END:VEVENT
BEGIN:VEVENT
UID:37323234-6632-4562-b335-396432303531
DTSTAMP:20260422T235822Z
DESCRIPTION:23/92 Orlice - Blue Ostrava B 3:0 (13\,21\,15)
DTSTART;TZID=Europe/Berlin:20260328T100000
DTEND;TZID=Europe/Berlin:20260328T120000
LOCATION:ZŠ Janáčkovo náměstí 17\, Janáčkovo náměstí 1970 Krnov - Pod Bezru
 čovým vrchem
SUMMARY:1-U22M-C: Orlice-Blue Ostrava B
END:VEVENT
BEGIN:VEVENT
UID:34306461-3461-4737-a135-653439343734
DTSTAMP:20260422T235822Z
DESCRIPTION:24/96 Orlice - Blue Ostrava B 3:2 (-22\,-22\,22\,19\,15)
DTSTART;TZID=Europe/Berlin:20260328T140000
DTEND;TZID=Europe/Berlin:20260328T160000
LOCATION:ZŠ Janáčkovo náměstí 17\, Janáčkovo náměstí 1970 Krnov - Pod Bezru
 čovým vrchem
SUMMARY:1-U22M-C: Orlice-Blue Ostrava B
END:VEVENT
END:VCALENDAR
