BEGIN:VCALENDAR
VERSION:2.0
PRODID:-//VK Lvi Praha89838//NONSGML kigkonsult.se iCalcreator 2.41.80//
CALSCALE:GREGORIAN
UID:34643965-6631-4436-a630-623363343338
BEGIN:VEVENT
UID:30346432-3366-4935-b030-626331646364
DTSTAMP:20260422T205239Z
DESCRIPTION:1/2 Lvi - Orion 2:3 (-22\,22\,-23\,23\,-15)
DTSTART;TZID=Europe/Berlin:20251004T100000
DTEND;TZID=Europe/Berlin:20251004T120000
LOCATION:Sportovní hala Lužiny\, Bellušova 1877 Praha - Stodůlky
SUMMARY:1-U22M-A: Lvi-Orion
END:VEVENT
BEGIN:VEVENT
UID:66653366-3162-4532-a630-663235623866
DTSTAMP:20260422T205239Z
DESCRIPTION:2/6 Lvi - Orion 1:3 (-20\,25\,-21\,-20)
DTSTART;TZID=Europe/Berlin:20251004T140000
DTEND;TZID=Europe/Berlin:20251004T160000
LOCATION:Sportovní hala Lužiny\, Bellušova 1877 Praha - Stodůlky
SUMMARY:1-U22M-A: Lvi-Orion
END:VEVENT
BEGIN:VEVENT
UID:34666563-6633-4264-a265-643864653232
DTSTAMP:20260422T205239Z
DESCRIPTION:3/11 Lvi - Dansport 3:2 (23\,-15\,26\,-16\,6)
DTSTART;TZID=Europe/Berlin:20251005T100000
DTEND;TZID=Europe/Berlin:20251005T120000
LOCATION:Sportovní hala Lužiny\, Bellušova 1877 Praha - Stodůlky
SUMMARY:1-U22M-A: Lvi-Dansport
END:VEVENT
BEGIN:VEVENT
UID:64373833-3032-4737-b530-303634356133
DTSTAMP:20260422T205239Z
DESCRIPTION:4/15 Lvi - Dansport 1:3 (19\,-16\,-20\,-17)
DTSTART;TZID=Europe/Berlin:20251005T140000
DTEND;TZID=Europe/Berlin:20251005T160000
LOCATION:Sportovní hala Lužiny\, Bellušova 1877 Praha - Stodůlky
SUMMARY:1-U22M-A: Lvi-Dansport
END:VEVENT
BEGIN:VEVENT
UID:61643739-6437-4938-a537-353264613430
DTSTAMP:20260422T205239Z
DESCRIPTION:7/26 Lvi - Č. Budějovice B 3:2 (-22\,18\,22\,-29\,12)
DTSTART;TZID=Europe/Berlin:20251102T100000
DTEND;TZID=Europe/Berlin:20251102T120000
LOCATION:Sportovní hala Lužiny\, Bellušova 1877 Praha - Stodůlky
SUMMARY:1-U22M-A: Lvi-Č. Budějovice B
END:VEVENT
BEGIN:VEVENT
UID:38633339-3638-4265-a562-626134373131
DTSTAMP:20260422T205239Z
DESCRIPTION:8/30 Lvi - Č. Budějovice B 3:1 (-25\,20\,23\,17)
DTSTART;TZID=Europe/Berlin:20251102T140000
DTEND;TZID=Europe/Berlin:20251102T160000
LOCATION:Sportovní hala Lužiny\, Bellušova 1877 Praha - Stodůlky
SUMMARY:1-U22M-A: Lvi-Č. Budějovice B
END:VEVENT
BEGIN:VEVENT
UID:36646137-3133-4264-a264-353131323364
DTSTAMP:20260422T205239Z
DESCRIPTION:13/52 Lvi - Meteor B 3:0 (18\,12\,11)
DTSTART;TZID=Europe/Berlin:20251213T100000
DTEND;TZID=Europe/Berlin:20251213T120000
LOCATION:Sportovní hala Lužiny\, Bellušova 1877 Praha - Stodůlky
SUMMARY:1-U22M-A: Lvi-Meteor B
END:VEVENT
BEGIN:VEVENT
UID:38323162-6432-4330-a365-353762393130
DTSTAMP:20260422T205239Z
DESCRIPTION:14/56 Lvi - Meteor B 3:0 (20\,20\,15)
DTSTART;TZID=Europe/Berlin:20251213T140000
DTEND;TZID=Europe/Berlin:20251213T160000
LOCATION:Sportovní hala Lužiny\, Bellušova 1877 Praha - Stodůlky
SUMMARY:1-U22M-A: Lvi-Meteor B
END:VEVENT
BEGIN:VEVENT
UID:63373835-3133-4462-a436-346464656331
DTSTAMP:20260422T205239Z
DESCRIPTION:19/75 Lvi - Písek 3:0 (13\,16\,18)
DTSTART;TZID=Europe/Berlin:20260131T100000
DTEND;TZID=Europe/Berlin:20260131T120000
LOCATION:Sportovní hala Lužiny\, Bellušova 1877 Praha - Stodůlky
SUMMARY:1-U22M-A: Lvi-Písek
END:VEVENT
BEGIN:VEVENT
UID:38633865-3662-4864-b835-343639376438
DTSTAMP:20260422T205239Z
DESCRIPTION:20/79 Lvi - Písek 3:0 (18\,13\,19)
DTSTART;TZID=Europe/Berlin:20260131T140000
DTEND;TZID=Europe/Berlin:20260131T160000
LOCATION:Sportovní hala Lužiny\, Bellušova 1877 Praha - Stodůlky
SUMMARY:1-U22M-A: Lvi-Písek
END:VEVENT
BEGIN:VEVENT
UID:34323166-3464-4337-b232-383033386332
DTSTAMP:20260422T205239Z
DESCRIPTION:23/92 Lvi - Klatovy 3:1 (14\,18\,-19\,21)
DTSTART;TZID=Europe/Berlin:20260322T100000
DTEND;TZID=Europe/Berlin:20260322T120000
LOCATION:Sportovní hala Lužiny\, Bellušova 1877 Praha - Stodůlky
SUMMARY:1-U22M-A: Lvi-Klatovy
END:VEVENT
BEGIN:VEVENT
UID:37626562-3532-4236-b733-363933616334
DTSTAMP:20260422T205239Z
DESCRIPTION:24/96 Lvi - Klatovy 3:0 (23\,16\,19)
DTSTART;TZID=Europe/Berlin:20260322T140000
DTEND;TZID=Europe/Berlin:20260322T160000
LOCATION:Sportovní hala Lužiny\, Bellušova 1877 Praha - Stodůlky
SUMMARY:1-U22M-A: Lvi-Klatovy
END:VEVENT
BEGIN:VEVENT
UID:30386466-3432-4038-a664-323262323139
DTSTAMP:20260422T205239Z
DESCRIPTION:25/97 Lvi - Č. Krumlov 3:0 (19\,12\,24)
DTSTART;TZID=Europe/Berlin:20260329T100000
DTEND;TZID=Europe/Berlin:20260329T120000
LOCATION:Sportovní hala Lužiny\, Bellušova 1877 Praha - Stodůlky
SUMMARY:1-U22M-A: Lvi-Č. Krumlov
END:VEVENT
BEGIN:VEVENT
UID:61653039-3539-4063-a432-303438353766
DTSTAMP:20260422T205239Z
DESCRIPTION:26/101 Lvi - Č. Krumlov 3:0 (13\,13\,24)
DTSTART;TZID=Europe/Berlin:20260329T140000
DTEND;TZID=Europe/Berlin:20260329T160000
LOCATION:Sportovní hala Lužiny\, Bellušova 1877 Praha - Stodůlky
SUMMARY:1-U22M-A: Lvi-Č. Krumlov
END:VEVENT
BEGIN:VEVENT
UID:33353231-3936-4334-a163-383061646334
DTSTAMP:20260422T205239Z
DESCRIPTION:5/19 Písek - Lvi 0:3 (-15\,-23\,-12)
DTSTART;TZID=Europe/Berlin:20251101T100000
DTEND;TZID=Europe/Berlin:20251101T120000
LOCATION:Sportovní hala Elim\, U Výstaviště 463 Písek - Pražské Předměstí
SUMMARY:1-U22M-A: Písek-Lvi
END:VEVENT
BEGIN:VEVENT
UID:63306165-3431-4363-a634-383132353865
DTSTAMP:20260422T205239Z
DESCRIPTION:6/23 Písek - Lvi 0:3 (-11\,-25\,-16)
DTSTART;TZID=Europe/Berlin:20251101T140000
DTEND;TZID=Europe/Berlin:20251101T160000
LOCATION:Sportovní hala Elim\, U Výstaviště 463 Písek - Pražské Předměstí
SUMMARY:1-U22M-A: Písek-Lvi
END:VEVENT
BEGIN:VEVENT
UID:34313835-3931-4561-a634-363064313865
DTSTAMP:20260422T205239Z
DESCRIPTION:9/36 Klatovy - Lvi 3:0 (23\,20\,19)
DTSTART;TZID=Europe/Berlin:20251122T110000
DTEND;TZID=Europe/Berlin:20251122T130000
LOCATION:Sportovní hala ZŠ Čapkova\, Čapkova 136 Klatovy - Klatovy V
SUMMARY:1-U22M-A: Klatovy-Lvi
END:VEVENT
BEGIN:VEVENT
UID:39313864-6261-4334-b835-383465326137
DTSTAMP:20260422T205239Z
DESCRIPTION:10/40 Klatovy - Lvi 3:1 (21\,-23\,20\,20)
DTSTART;TZID=Europe/Berlin:20251122T150000
DTEND;TZID=Europe/Berlin:20251122T170000
LOCATION:Sportovní hala ZŠ Čapkova\, Čapkova 136 Klatovy - Klatovy V
SUMMARY:1-U22M-A: Klatovy-Lvi
END:VEVENT
BEGIN:VEVENT
UID:37333361-3739-4836-b530-363966376163
DTSTAMP:20260422T205239Z
DESCRIPTION:11/41 Č. Krumlov - Lvi 1:3 (18\,-17\,-28\,-20)
DTSTART;TZID=Europe/Berlin:20251123T090000
DTEND;TZID=Europe/Berlin:20251123T110000
LOCATION:ZŠ Za Nádražím Český Krumlov\, Za Nádražím 222 Český Krumlov - Nád
 ražní Předměstí
SUMMARY:1-U22M-A: Č. Krumlov-Lvi
END:VEVENT
BEGIN:VEVENT
UID:39366638-6535-4465-b432-333961653663
DTSTAMP:20260422T205239Z
DESCRIPTION:12/45 Č. Krumlov - Lvi 0:3 (-20\,-17\,-21)
DTSTART;TZID=Europe/Berlin:20251123T130000
DTEND;TZID=Europe/Berlin:20251123T150000
LOCATION:ZŠ Za Nádražím Český Krumlov\, Za Nádražím 222 Český Krumlov - Nád
 ražní Předměstí
SUMMARY:1-U22M-A: Č. Krumlov-Lvi
END:VEVENT
BEGIN:VEVENT
UID:30633039-3836-4435-a237-616364363463
DTSTAMP:20260422T205239Z
DESCRIPTION:15/58 Orion - Lvi 3:2 (-8\,20\,-19\,23\,12)
DTSTART;TZID=Europe/Berlin:20251214T100000
DTEND;TZID=Europe/Berlin:20251214T120000
LOCATION:ZŠ Dolní Břežany\, Na Vršku 290 Dolní Břežany
SUMMARY:1-U22M-A: Orion-Lvi
END:VEVENT
BEGIN:VEVENT
UID:38363566-3164-4637-a564-303931646236
DTSTAMP:20260422T205239Z
DESCRIPTION:16/62 Orion - Lvi 0:3 (-19\,-16\,-19)
DTSTART;TZID=Europe/Berlin:20251214T140000
DTEND;TZID=Europe/Berlin:20251214T160000
LOCATION:ZŠ Dolní Břežany\, Na Vršku 290 Dolní Břežany
SUMMARY:1-U22M-A: Orion-Lvi
END:VEVENT
BEGIN:VEVENT
UID:31303338-3131-4031-b237-323764616235
DTSTAMP:20260422T205239Z
DESCRIPTION:17/67 Dansport - Lvi 2:3 (21\,-22\,12\,-23\,-11)
DTSTART;TZID=Europe/Berlin:20260110T100000
DTEND;TZID=Europe/Berlin:20260110T120000
LOCATION:Sportovní hala Gymnázia Jana Keplera\, Parléřova 118 Praha - Hradč
 any
SUMMARY:1-U22M-A: Dansport-Lvi
END:VEVENT
BEGIN:VEVENT
UID:63663034-3563-4261-b739-313863333439
DTSTAMP:20260422T205239Z
DESCRIPTION:18/71 Dansport - Lvi 2:3 (13\,20\,-18\,-21\,-13)
DTSTART;TZID=Europe/Berlin:20260110T140000
DTEND;TZID=Europe/Berlin:20260110T160000
LOCATION:Sportovní hala Gymnázia Jana Keplera\, Parléřova 118 Praha - Hradč
 any
SUMMARY:1-U22M-A: Dansport-Lvi
END:VEVENT
BEGIN:VEVENT
UID:62353162-3839-4532-a165-336464656663
DTSTAMP:20260422T205239Z
DESCRIPTION:21/82 Č. Budějovice B - Lvi 0:3 (-22\,-19\,-23)
DTSTART;TZID=Europe/Berlin:20260201T100000
DTEND;TZID=Europe/Berlin:20260201T120000
LOCATION:Sportovní hala\, Stromovka 1216 České Budějovice - České Budějovic
 e 2
SUMMARY:1-U22M-A: Č. Budějovice B-Lvi
END:VEVENT
BEGIN:VEVENT
UID:65623264-6435-4463-a435-326632656437
DTSTAMP:20260422T205239Z
DESCRIPTION:22/86 Č. Budějovice B - Lvi 0:3 (-20\,-23\,-22)
DTSTART;TZID=Europe/Berlin:20260201T140000
DTEND;TZID=Europe/Berlin:20260201T160000
LOCATION:Sportovní hala\, Stromovka 1216 České Budějovice - České Budějovic
 e 2
SUMMARY:1-U22M-A: Č. Budějovice B-Lvi
END:VEVENT
BEGIN:VEVENT
UID:33613361-6337-4164-a130-613561306636
DTSTAMP:20260422T205239Z
DESCRIPTION:27/108 Meteor B - Lvi 0:3 (-12\,-13\,-15)
DTSTART;TZID=Europe/Berlin:20260401T173000
DTEND;TZID=Europe/Berlin:20260401T193000
LOCATION:Sportovní hala Lužiny\, Bellušova 1877 Praha - Stodůlky
SUMMARY:1-U22M-A: Meteor B-Lvi
END:VEVENT
BEGIN:VEVENT
UID:35646666-6466-4361-b139-316163633262
DTSTAMP:20260422T205239Z
DESCRIPTION:28/112 Meteor B - Lvi 0:3 (-17\,-22\,-10)
DTSTART;TZID=Europe/Berlin:20260401T193000
DTEND;TZID=Europe/Berlin:20260401T213000
LOCATION:Sportovní hala Lužiny\, Bellušova 1877 Praha - Stodůlky
SUMMARY:1-U22M-A: Meteor B-Lvi
END:VEVENT
END:VCALENDAR
