BEGIN:VCALENDAR
VERSION:2.0
PRODID:-//INLAN SK Meteor Praha B89844//NONSGML kigkonsult.se iCalcreator 2.41.80//
CALSCALE:GREGORIAN
UID:37656166-6562-4366-a434-343135343935
BEGIN:VEVENT
UID:36613834-3537-4235-a131-343834303235
DTSTAMP:20260422T205232Z
DESCRIPTION:1/1 Meteor B - Č. Krumlov 1:3 (25\,-17\,-17\,-23)
DTSTART;TZID=Europe/Berlin:20251004T090000
DTEND;TZID=Europe/Berlin:20251004T110000
LOCATION:ZŠ Žernosecká\, Žernosecká 1597 Praha - Kobylisy
SUMMARY:1-U22M-A: Meteor B-Č. Krumlov
END:VEVENT
BEGIN:VEVENT
UID:35623030-3635-4134-b836-363733643034
DTSTAMP:20260422T205232Z
DESCRIPTION:2/5 Meteor B - Č. Krumlov 3:2 (-21\,23\,21\,-17\,14)
DTSTART;TZID=Europe/Berlin:20251004T130000
DTEND;TZID=Europe/Berlin:20251004T150000
LOCATION:ZŠ Žernosecká\, Žernosecká 1597 Praha - Kobylisy
SUMMARY:1-U22M-A: Meteor B-Č. Krumlov
END:VEVENT
BEGIN:VEVENT
UID:61353730-3734-4664-b566-383235623730
DTSTAMP:20260422T205232Z
DESCRIPTION:3/12 Meteor B - Orion 0:3 (-11\,-18\,-20)
DTSTART;TZID=Europe/Berlin:20251005T110000
DTEND;TZID=Europe/Berlin:20251005T130000
LOCATION:ZŠ Žernosecká\, Žernosecká 1597 Praha - Kobylisy
SUMMARY:1-U22M-A: Meteor B-Orion
END:VEVENT
BEGIN:VEVENT
UID:31386631-3036-4363-b161-313361343334
DTSTAMP:20260422T205232Z
DESCRIPTION:4/16 Meteor B - Orion 0:3 (-22\,-14\,-18)
DTSTART;TZID=Europe/Berlin:20251005T150000
DTEND;TZID=Europe/Berlin:20251005T170000
LOCATION:ZŠ Žernosecká\, Žernosecká 1597 Praha - Kobylisy
SUMMARY:1-U22M-A: Meteor B-Orion
END:VEVENT
BEGIN:VEVENT
UID:64623065-6536-4335-b632-316132393433
DTSTAMP:20260422T205232Z
DESCRIPTION:7/27 Meteor B - Písek 3:1 (-13\,17\,25\,20)
DTSTART;TZID=Europe/Berlin:20251102T090000
DTEND;TZID=Europe/Berlin:20251102T110000
LOCATION:ZŠ Žernosecká\, Žernosecká 1597 Praha - Kobylisy
SUMMARY:1-U22M-A: Meteor B-Písek
END:VEVENT
BEGIN:VEVENT
UID:63353039-6161-4661-b662-383639363339
DTSTAMP:20260422T205232Z
DESCRIPTION:8/31 Meteor B - Písek 3:1 (17\,21\,-32\,18)
DTSTART;TZID=Europe/Berlin:20251102T130000
DTEND;TZID=Europe/Berlin:20251102T150000
LOCATION:ZŠ Žernosecká\, Žernosecká 1597 Praha - Kobylisy
SUMMARY:1-U22M-A: Meteor B-Písek
END:VEVENT
BEGIN:VEVENT
UID:66356164-6563-4637-a662-623762373036
DTSTAMP:20260422T205232Z
DESCRIPTION:11/42 Meteor B - Klatovy 2:3 (26\,23\,-19\,-21\,-14)
DTSTART;TZID=Europe/Berlin:20251123T110000
DTEND;TZID=Europe/Berlin:20251123T130000
LOCATION:ZŠ Žernosecká\, Žernosecká 1597 Praha - Kobylisy
SUMMARY:1-U22M-A: Meteor B-Klatovy
END:VEVENT
BEGIN:VEVENT
UID:30656138-6664-4666-b636-346630396538
DTSTAMP:20260422T205232Z
DESCRIPTION:12/46 Meteor B - Klatovy 0:3 (-13\,-22\,-19)
DTSTART;TZID=Europe/Berlin:20251123T150000
DTEND;TZID=Europe/Berlin:20251123T170000
LOCATION:ZŠ Žernosecká\, Žernosecká 1597 Praha - Kobylisy
SUMMARY:1-U22M-A: Meteor B-Klatovy
END:VEVENT
BEGIN:VEVENT
UID:37303464-3932-4037-b864-623062393834
DTSTAMP:20260422T205232Z
DESCRIPTION:19/74 Meteor B - Dansport 0:3 (-13\,-14\,-11)
DTSTART;TZID=Europe/Berlin:20260131T090000
DTEND;TZID=Europe/Berlin:20260131T110000
LOCATION:Sportovní hala Gymnázia Jana Keplera\, Parléřova 118 Praha - Hradč
 any
SUMMARY:1-U22M-A: Meteor B-Dansport
END:VEVENT
BEGIN:VEVENT
UID:34313662-3864-4332-b836-386565613037
DTSTAMP:20260422T205232Z
DESCRIPTION:20/78 Meteor B - Dansport 0:3 (-18\,-22\,-8)
DTSTART;TZID=Europe/Berlin:20260131T130000
DTEND;TZID=Europe/Berlin:20260131T150000
LOCATION:Sportovní hala Gymnázia Jana Keplera\, Parléřova 118 Praha - Hradč
 any
SUMMARY:1-U22M-A: Meteor B-Dansport
END:VEVENT
BEGIN:VEVENT
UID:61633031-3831-4963-b034-653338626238
DTSTAMP:20260422T205232Z
DESCRIPTION:23/91 Meteor B - Č. Budějovice B 1:3 (9\,-19\,-16\,-21)
DTSTART;TZID=Europe/Berlin:20260328T090000
DTEND;TZID=Europe/Berlin:20260328T110000
LOCATION:Sokol Bubeneč\, Korunovační 630 Praha - Bubeneč
SUMMARY:1-U22M-A: Meteor B-Č. Budějovice B
END:VEVENT
BEGIN:VEVENT
UID:34663836-3463-4831-a161-366136336465
DTSTAMP:20260422T205232Z
DESCRIPTION:24/95 Meteor B - Č. Budějovice B 3:0 (23\,21\,32)
DTSTART;TZID=Europe/Berlin:20260328T130000
DTEND;TZID=Europe/Berlin:20260328T150000
LOCATION:Sokol Bubeneč\, Korunovační 630 Praha - Bubeneč
SUMMARY:1-U22M-A: Meteor B-Č. Budějovice B
END:VEVENT
BEGIN:VEVENT
UID:39333732-6335-4363-b439-663064363030
DTSTAMP:20260422T205232Z
DESCRIPTION:27/108 Meteor B - Lvi 0:3 (-12\,-13\,-15)
DTSTART;TZID=Europe/Berlin:20260401T173000
DTEND;TZID=Europe/Berlin:20260401T193000
LOCATION:Sportovní hala Lužiny\, Bellušova 1877 Praha - Stodůlky
SUMMARY:1-U22M-A: Meteor B-Lvi
END:VEVENT
BEGIN:VEVENT
UID:61636563-3333-4565-b133-376133353635
DTSTAMP:20260422T205232Z
DESCRIPTION:28/112 Meteor B - Lvi 0:3 (-17\,-22\,-10)
DTSTART;TZID=Europe/Berlin:20260401T193000
DTEND;TZID=Europe/Berlin:20260401T213000
LOCATION:Sportovní hala Lužiny\, Bellušova 1877 Praha - Stodůlky
SUMMARY:1-U22M-A: Meteor B-Lvi
END:VEVENT
BEGIN:VEVENT
UID:37346137-3666-4131-b631-313561663036
DTSTAMP:20260422T205232Z
DESCRIPTION:5/18 Dansport - Meteor B 3:0 (15\,17\,16)
DTSTART;TZID=Europe/Berlin:20251101T090000
DTEND;TZID=Europe/Berlin:20251101T110000
LOCATION:Sportovní hala Gymnázia Jana Keplera\, Parléřova 118 Praha - Hradč
 any
SUMMARY:1-U22M-A: Dansport-Meteor B
END:VEVENT
BEGIN:VEVENT
UID:32313766-3538-4461-a463-616464333761
DTSTAMP:20260422T205232Z
DESCRIPTION:6/22 Dansport - Meteor B 3:0 (14\,12\,18)
DTSTART;TZID=Europe/Berlin:20251101T130000
DTEND;TZID=Europe/Berlin:20251101T150000
LOCATION:Sportovní hala Gymnázia Jana Keplera\, Parléřova 118 Praha - Hradč
 any
SUMMARY:1-U22M-A: Dansport-Meteor B
END:VEVENT
BEGIN:VEVENT
UID:65343731-3335-4930-a538-343732373731
DTSTAMP:20260422T205232Z
DESCRIPTION:9/35 Č. Budějovice B - Meteor B 3:1 (17\,-24\,19\,22)
DTSTART;TZID=Europe/Berlin:20251122T100000
DTEND;TZID=Europe/Berlin:20251122T120000
LOCATION:ZŠ Oskara Nedbala České Budějovice\, O. Nedbala 882 České Budějovi
 ce - České Budějovice 2
SUMMARY:1-U22M-A: Č. Budějovice B-Meteor B
END:VEVENT
BEGIN:VEVENT
UID:62323736-3234-4132-b335-666662613237
DTSTAMP:20260422T205232Z
DESCRIPTION:10/39 Č. Budějovice B - Meteor B 3:1 (28\,17\,-20\,24)
DTSTART;TZID=Europe/Berlin:20251122T140000
DTEND;TZID=Europe/Berlin:20251122T160000
LOCATION:ZŠ Oskara Nedbala České Budějovice\, O. Nedbala 882 České Budějovi
 ce - České Budějovice 2
SUMMARY:1-U22M-A: Č. Budějovice B-Meteor B
END:VEVENT
BEGIN:VEVENT
UID:61383037-3766-4936-b833-626662663665
DTSTAMP:20260422T205232Z
DESCRIPTION:13/52 Lvi - Meteor B 3:0 (18\,12\,11)
DTSTART;TZID=Europe/Berlin:20251213T100000
DTEND;TZID=Europe/Berlin:20251213T120000
LOCATION:Sportovní hala Lužiny\, Bellušova 1877 Praha - Stodůlky
SUMMARY:1-U22M-A: Lvi-Meteor B
END:VEVENT
BEGIN:VEVENT
UID:38326334-6261-4961-b361-626134383734
DTSTAMP:20260422T205232Z
DESCRIPTION:14/56 Lvi - Meteor B 3:0 (20\,20\,15)
DTSTART;TZID=Europe/Berlin:20251213T140000
DTEND;TZID=Europe/Berlin:20251213T160000
LOCATION:Sportovní hala Lužiny\, Bellušova 1877 Praha - Stodůlky
SUMMARY:1-U22M-A: Lvi-Meteor B
END:VEVENT
BEGIN:VEVENT
UID:62643934-6439-4139-b165-336631383835
DTSTAMP:20260422T205232Z
DESCRIPTION:15/57 Č. Krumlov - Meteor B 3:0 (18\,22\,14)
DTSTART;TZID=Europe/Berlin:20251214T100000
DTEND;TZID=Europe/Berlin:20251214T120000
LOCATION:ZŠ Za Nádražím Český Krumlov\, Za Nádražím 222 Český Krumlov - Nád
 ražní Předměstí
SUMMARY:1-U22M-A: Č. Krumlov-Meteor B
END:VEVENT
BEGIN:VEVENT
UID:32626638-3733-4264-b336-646462646130
DTSTAMP:20260422T205232Z
DESCRIPTION:16/61 Č. Krumlov - Meteor B 3:0 (19\,12\,21)
DTSTART;TZID=Europe/Berlin:20251214T140000
DTEND;TZID=Europe/Berlin:20251214T160000
LOCATION:ZŠ Za Nádražím Český Krumlov\, Za Nádražím 222 Český Krumlov - Nád
 ražní Předměstí
SUMMARY:1-U22M-A: Č. Krumlov-Meteor B
END:VEVENT
BEGIN:VEVENT
UID:63323635-6466-4436-b165-326239613632
DTSTAMP:20260422T205232Z
DESCRIPTION:17/68 Orion - Meteor B 3:0 (17\,17\,18)
DTSTART;TZID=Europe/Berlin:20260110T100000
DTEND;TZID=Europe/Berlin:20260110T120000
LOCATION:ZŠ Dolní Břežany\, Na Vršku 290 Dolní Břežany
SUMMARY:1-U22M-A: Orion-Meteor B
END:VEVENT
BEGIN:VEVENT
UID:39623166-3130-4630-a234-323863373735
DTSTAMP:20260422T205232Z
DESCRIPTION:18/72 Orion - Meteor B 3:0 (19\,23\,22)
DTSTART;TZID=Europe/Berlin:20260110T140000
DTEND;TZID=Europe/Berlin:20260110T160000
LOCATION:ZŠ Dolní Břežany\, Na Vršku 290 Dolní Břežany
SUMMARY:1-U22M-A: Orion-Meteor B
END:VEVENT
BEGIN:VEVENT
UID:33653563-3036-4530-b966-316130333932
DTSTAMP:20260422T205232Z
DESCRIPTION:21/83 Písek - Meteor B 0:3 (-19\,-19\,-15)
DTSTART;TZID=Europe/Berlin:20260201T100000
DTEND;TZID=Europe/Berlin:20260201T120000
LOCATION:Sportovní hala Elim\, U Výstaviště 463 Písek - Pražské Předměstí
SUMMARY:1-U22M-A: Písek-Meteor B
END:VEVENT
BEGIN:VEVENT
UID:66343861-6635-4630-b962-323139353032
DTSTAMP:20260422T205232Z
DESCRIPTION:22/87 Písek - Meteor B 1:3 (-23\,22\,-23\,-20)
DTSTART;TZID=Europe/Berlin:20260201T140000
DTEND;TZID=Europe/Berlin:20260201T160000
LOCATION:Sportovní hala Elim\, U Výstaviště 463 Písek - Pražské Předměstí
SUMMARY:1-U22M-A: Písek-Meteor B
END:VEVENT
BEGIN:VEVENT
UID:37336133-3337-4332-b835-383033383562
DTSTAMP:20260422T205232Z
DESCRIPTION:25/98 Klatovy - Meteor B 3:0 (23\,24\,22)
DTSTART;TZID=Europe/Berlin:20260329T100000
DTEND;TZID=Europe/Berlin:20260329T120000
LOCATION:Sportovní hala ZŠ Čapkova\, Čapkova 136 Klatovy - Klatovy V
SUMMARY:1-U22M-A: Klatovy-Meteor B
END:VEVENT
BEGIN:VEVENT
UID:36623862-3437-4531-b230-666435633361
DTSTAMP:20260422T205232Z
DESCRIPTION:26/102 Klatovy - Meteor B 3:0 (22\,22\,17)
DTSTART;TZID=Europe/Berlin:20260329T140000
DTEND;TZID=Europe/Berlin:20260329T160000
LOCATION:Sportovní hala ZŠ Čapkova\, Čapkova 136 Klatovy - Klatovy V
SUMMARY:1-U22M-A: Klatovy-Meteor B
END:VEVENT
END:VCALENDAR
