BEGIN:VCALENDAR
VERSION:2.0
PRODID:-//TJ Zákupy, z.s.89881//NONSGML kigkonsult.se iCalcreator 2.41.80//
CALSCALE:GREGORIAN
UID:35623464-6130-4534-b531-313263333062
BEGIN:VEVENT
UID:39636138-3231-4238-b962-353634356566
DTSTAMP:20260422T034012Z
DESCRIPTION:3/14 TJ Zákupy\, z.s. - Vrtule Frýdlant\, z.s. 3:1 (26\,-19\,19
 \,19)
DTSTART;TZID=Europe/Berlin:20251011T100000
DTEND;TZID=Europe/Berlin:20251011T120000
LOCATION:Hala ZŠ Zákupy\, Školní 347 Zákupy
SUMMARY:LIB-M-1: TJ Zákupy\, z.s.-Vrtule Frýdlant\, z.s.
END:VEVENT
BEGIN:VEVENT
UID:34363235-6361-4735-b637-666336663433
DTSTAMP:20260422T034012Z
DESCRIPTION:4/19 TJ Zákupy\, z.s. - Vrtule Frýdlant\, z.s. 1:3 (-24\,22\,-1
 8\,-17)
DTSTART;TZID=Europe/Berlin:20251011T130000
DTEND;TZID=Europe/Berlin:20251011T150000
LOCATION:Hala ZŠ Zákupy\, Školní 347 Zákupy
SUMMARY:LIB-M-1: TJ Zákupy\, z.s.-Vrtule Frýdlant\, z.s.
END:VEVENT
BEGIN:VEVENT
UID:30333231-3433-4332-a432-626261376237
DTSTAMP:20260422T034012Z
DESCRIPTION:7/33 TJ Zákupy\, z.s. - Turnov 1:3 (-19\,-10\,20\,-22)
DTSTART;TZID=Europe/Berlin:20251108T100000
DTEND;TZID=Europe/Berlin:20251108T120000
LOCATION:Hala ZŠ Zákupy\, Školní 347 Zákupy
SUMMARY:LIB-M-1: TJ Zákupy\, z.s.-Turnov
END:VEVENT
BEGIN:VEVENT
UID:35356463-3637-4536-a465-613733393532
DTSTAMP:20260422T034012Z
DESCRIPTION:8/38 TJ Zákupy\, z.s. - Turnov 0:3 (-14\,-12\,-19)
DTSTART;TZID=Europe/Berlin:20251108T130000
DTEND;TZID=Europe/Berlin:20251108T150000
LOCATION:Hala ZŠ Zákupy\, Školní 347 Zákupy
SUMMARY:LIB-M-1: TJ Zákupy\, z.s.-Turnov
END:VEVENT
BEGIN:VEVENT
UID:36366235-6632-4937-b331-663338666232
DTSTAMP:20260422T034012Z
DESCRIPTION:11/52 TJ Zákupy\, z.s. - VK Malá Skála B 3:1 (15\,19\,-17\,16)
DTSTART;TZID=Europe/Berlin:20251101T100000
DTEND;TZID=Europe/Berlin:20251101T120000
LOCATION:Hala ZŠ Zákupy\, Školní 347 Zákupy
SUMMARY:LIB-M-1: TJ Zákupy\, z.s.-VK Malá Skála B
END:VEVENT
BEGIN:VEVENT
UID:62636136-6131-4335-b839-306338346333
DTSTAMP:20260422T034012Z
DESCRIPTION:12/57 TJ Zákupy\, z.s. - VK Malá Skála B 1:3 (22\,-20\,-24\,-22
 )
DTSTART;TZID=Europe/Berlin:20251101T130000
DTEND;TZID=Europe/Berlin:20251101T150000
LOCATION:Hala ZŠ Zákupy\, Školní 347 Zákupy
SUMMARY:LIB-M-1: TJ Zákupy\, z.s.-VK Malá Skála B
END:VEVENT
BEGIN:VEVENT
UID:34653333-3362-4337-a539-623033346334
DTSTAMP:20260422T034012Z
DESCRIPTION:17/85 TJ Zákupy\, z.s. - Tělovýchovná jednota Lokomotiva Libere
 c I\, z.s. 3:1 (23\,-20\,20\,20)
DTSTART;TZID=Europe/Berlin:20251213T100000
DTEND;TZID=Europe/Berlin:20251213T120000
LOCATION:Hala ZŠ Zákupy\, Školní 347 Zákupy
SUMMARY:LIB-M-1: TJ Zákupy\, z.s.-Tělovýchovná jednota Lokomotiva Liberec I
 \, z.s.
END:VEVENT
BEGIN:VEVENT
UID:38306136-3461-4765-a330-613163313061
DTSTAMP:20260422T034012Z
DESCRIPTION:18/90 TJ Zákupy\, z.s. - Tělovýchovná jednota Lokomotiva Libere
 c I\, z.s. 3:1 (18\,23\,-21\,21)
DTSTART;TZID=Europe/Berlin:20251213T130000
DTEND;TZID=Europe/Berlin:20251213T150000
LOCATION:Hala ZŠ Zákupy\, Školní 347 Zákupy
SUMMARY:LIB-M-1: TJ Zákupy\, z.s.-Tělovýchovná jednota Lokomotiva Liberec I
 \, z.s.
END:VEVENT
BEGIN:VEVENT
UID:31383330-3162-4634-a234-386664613063
DTSTAMP:20260422T034012Z
DESCRIPTION:19/92 TJ Zákupy\, z.s. - Tělovýchovná jednota Spartak Smržovka\
 , z.s. 3:0 (19\,20\,19)
DTSTART;TZID=Europe/Berlin:20260117T100000
DTEND;TZID=Europe/Berlin:20260117T120000
LOCATION:Hala ZŠ Zákupy\, Školní 347 Zákupy
SUMMARY:LIB-M-1: TJ Zákupy\, z.s.-Tělovýchovná jednota Spartak Smržovka\, z
 .s.
END:VEVENT
BEGIN:VEVENT
UID:65353361-3233-4638-b638-636361313761
DTSTAMP:20260422T034012Z
DESCRIPTION:20/97 TJ Zákupy\, z.s. - Tělovýchovná jednota Spartak Smržovka\
 , z.s. 3:0 (19\,20\,24)
DTSTART;TZID=Europe/Berlin:20260117T130000
DTEND;TZID=Europe/Berlin:20260117T150000
LOCATION:Hala ZŠ Zákupy\, Školní 347 Zákupy
SUMMARY:LIB-M-1: TJ Zákupy\, z.s.-Tělovýchovná jednota Spartak Smržovka\, z
 .s.
END:VEVENT
BEGIN:VEVENT
UID:66643836-6137-4436-a164-393434623632
DTSTAMP:20260422T034012Z
DESCRIPTION:23/113 TJ Zákupy\, z.s. - Tělovýchovná jednota SLAVIA Liberec\,
  z.s. 2:3 (21\,19\,-18\,-23\,-12)
DTSTART;TZID=Europe/Berlin:20260131T100000
DTEND;TZID=Europe/Berlin:20260131T120000
LOCATION:Hala ZŠ Zákupy\, Školní 347 Zákupy
SUMMARY:LIB-M-1: TJ Zákupy\, z.s.-Tělovýchovná jednota SLAVIA Liberec\, z.s
 .
END:VEVENT
BEGIN:VEVENT
UID:31303766-3036-4738-b334-343434663232
DTSTAMP:20260422T034012Z
DESCRIPTION:24/118 TJ Zákupy\, z.s. - Tělovýchovná jednota SLAVIA Liberec\,
  z.s. 3:1 (20\,15\,-21\,17)
DTSTART;TZID=Europe/Berlin:20260131T130000
DTEND;TZID=Europe/Berlin:20260131T150000
LOCATION:Hala ZŠ Zákupy\, Školní 347 Zákupy
SUMMARY:LIB-M-1: TJ Zákupy\, z.s.-Tělovýchovná jednota SLAVIA Liberec\, z.s
 .
END:VEVENT
BEGIN:VEVENT
UID:62326165-3865-4532-a461-313363303436
DTSTAMP:20260422T034012Z
DESCRIPTION:27/134 TJ Zákupy\, z.s. - Tělovýchovná jednota Jiskra Nový Bor\
 , z.s. 3:0 (16\,10\,14)
DTSTART;TZID=Europe/Berlin:20260214T100000
DTEND;TZID=Europe/Berlin:20260214T120000
LOCATION:Hala ZŠ Zákupy\, Školní 347 Zákupy
SUMMARY:LIB-M-1: TJ Zákupy\, z.s.-Tělovýchovná jednota Jiskra Nový Bor\, z.
 s.
END:VEVENT
BEGIN:VEVENT
UID:33663338-6430-4232-b362-666164666563
DTSTAMP:20260422T034012Z
DESCRIPTION:28/139 TJ Zákupy\, z.s. - Tělovýchovná jednota Jiskra Nový Bor\
 , z.s. 3:0 (22\,15\,16)
DTSTART;TZID=Europe/Berlin:20260214T130000
DTEND;TZID=Europe/Berlin:20260214T150000
LOCATION:Hala ZŠ Zákupy\, Školní 347 Zákupy
SUMMARY:LIB-M-1: TJ Zákupy\, z.s.-Tělovýchovná jednota Jiskra Nový Bor\, z.
 s.
END:VEVENT
BEGIN:VEVENT
UID:35626139-3632-4533-a137-356662666235
DTSTAMP:20260422T034012Z
DESCRIPTION:31/155 TJ Zákupy\, z.s. - TJ Lokomotiva Česká Lípa\, z.s. 0:3 (
 -16\,-19\,-19)
DTSTART;TZID=Europe/Berlin:20260321T100000
DTEND;TZID=Europe/Berlin:20260321T120000
LOCATION:Hala ZŠ Zákupy\, Školní 347 Zákupy
SUMMARY:LIB-M-1: TJ Zákupy\, z.s.-TJ Lokomotiva Česká Lípa\, z.s.
END:VEVENT
BEGIN:VEVENT
UID:36323165-3964-4934-b935-393664383232
DTSTAMP:20260422T034012Z
DESCRIPTION:32/160 TJ Zákupy\, z.s. - TJ Lokomotiva Česká Lípa\, z.s. 0:3 (
 -16\,-14\,-23)
DTSTART;TZID=Europe/Berlin:20260321T130000
DTEND;TZID=Europe/Berlin:20260321T150000
LOCATION:Hala ZŠ Zákupy\, Školní 347 Zákupy
SUMMARY:LIB-M-1: TJ Zákupy\, z.s.-TJ Lokomotiva Česká Lípa\, z.s.
END:VEVENT
BEGIN:VEVENT
UID:33303631-3738-4938-b739-333466623266
DTSTAMP:20260422T034012Z
DESCRIPTION:33/161 TJ Zákupy\, z.s. - TJ Bižuterie Jablonec n/N 3:0 (18\,15
 \,14)
DTSTART;TZID=Europe/Berlin:20260328T100000
DTEND;TZID=Europe/Berlin:20260328T120000
LOCATION:Hala ZŠ Zákupy\, Školní 347 Zákupy
SUMMARY:LIB-M-1: TJ Zákupy\, z.s.-TJ Bižuterie Jablonec n/N
END:VEVENT
BEGIN:VEVENT
UID:63366131-3234-4636-a462-303938376365
DTSTAMP:20260422T034012Z
DESCRIPTION:34/166 TJ Zákupy\, z.s. - TJ Bižuterie Jablonec n/N 3:0 (16\,13
 \,19)
DTSTART;TZID=Europe/Berlin:20260328T130000
DTEND;TZID=Europe/Berlin:20260328T150000
LOCATION:Hala ZŠ Zákupy\, Školní 347 Zákupy
SUMMARY:LIB-M-1: TJ Zákupy\, z.s.-TJ Bižuterie Jablonec n/N
END:VEVENT
BEGIN:VEVENT
UID:63313135-3564-4661-b463-613634333931
DTSTAMP:20260422T034012Z
DESCRIPTION:1/2 Tělovýchovná jednota Spartak Smržovka\, z.s. - TJ Zákupy\, 
 z.s. 3:2 (-24\,20\,-20\,23\,16)
DTSTART;TZID=Europe/Berlin:20251025T100000
DTEND;TZID=Europe/Berlin:20251025T120000
LOCATION:Sportovní hala\, Tyršova 1369 Smržovka
SUMMARY:LIB-M-1: Tělovýchovná jednota Spartak Smržovka\, z.s.-TJ Zákupy\, z
 .s.
END:VEVENT
BEGIN:VEVENT
UID:34393964-6137-4965-b364-346333373766
DTSTAMP:20260422T034012Z
DESCRIPTION:2/7 Tělovýchovná jednota Spartak Smržovka\, z.s. - TJ Zákupy\, 
 z.s. 3:2 (-15\,-19\,22\,21\,12)
DTSTART;TZID=Europe/Berlin:20251025T130000
DTEND;TZID=Europe/Berlin:20251025T150000
LOCATION:Sportovní hala\, Tyršova 1369 Smržovka
SUMMARY:LIB-M-1: Tělovýchovná jednota Spartak Smržovka\, z.s.-TJ Zákupy\, z
 .s.
END:VEVENT
BEGIN:VEVENT
UID:35383862-3433-4733-a166-633663393763
DTSTAMP:20260422T034012Z
DESCRIPTION:5/23 Tělovýchovná jednota SLAVIA Liberec\, z.s. - TJ Zákupy\, z
 .s. 3:0 (13\,15\,16)
DTSTART;TZID=Europe/Berlin:20251018T100000
DTEND;TZID=Europe/Berlin:20251018T120000
LOCATION:SŠ Strojní\, Letná 90 Liberec - Liberec XII-Staré Pavlovice
SUMMARY:LIB-M-1: Tělovýchovná jednota SLAVIA Liberec\, z.s.-TJ Zákupy\, z.s
 .
END:VEVENT
BEGIN:VEVENT
UID:64373036-6638-4166-a136-333537386565
DTSTAMP:20260422T034012Z
DESCRIPTION:6/28 Tělovýchovná jednota SLAVIA Liberec\, z.s. - TJ Zákupy\, z
 .s. 3:1 (23\,17\,-18\,15)
DTSTART;TZID=Europe/Berlin:20251018T130000
DTEND;TZID=Europe/Berlin:20251018T150000
LOCATION:SŠ Strojní\, Letná 90 Liberec - Liberec XII-Staré Pavlovice
SUMMARY:LIB-M-1: Tělovýchovná jednota SLAVIA Liberec\, z.s.-TJ Zákupy\, z.s
 .
END:VEVENT
BEGIN:VEVENT
UID:63653635-6535-4165-b736-326263346661
DTSTAMP:20260422T034012Z
DESCRIPTION:9/44 Tělovýchovná jednota Jiskra Nový Bor\, z.s. - TJ Zákupy\, 
 z.s. 1:3 (-22\,-22\,31\,-23)
DTSTART;TZID=Europe/Berlin:20251115T100000
DTEND;TZID=Europe/Berlin:20251115T120000
LOCATION:Sportovní hala Františka Arnošta Nový Bor\, U hřiště 1391 Nový Bor
SUMMARY:LIB-M-1: Tělovýchovná jednota Jiskra Nový Bor\, z.s.-TJ Zákupy\, z.
 s.
END:VEVENT
BEGIN:VEVENT
UID:65633036-3261-4466-b032-623237633839
DTSTAMP:20260422T034012Z
DESCRIPTION:10/49 Tělovýchovná jednota Jiskra Nový Bor\, z.s. - TJ Zákupy\,
  z.s. 0:3 (-16\,-18\,-18)
DTSTART;TZID=Europe/Berlin:20251115T130000
DTEND;TZID=Europe/Berlin:20251115T150000
LOCATION:Sportovní hala Františka Arnošta Nový Bor\, U hřiště 1391 Nový Bor
SUMMARY:LIB-M-1: Tělovýchovná jednota Jiskra Nový Bor\, z.s.-TJ Zákupy\, z.
 s.
END:VEVENT
BEGIN:VEVENT
UID:30643562-6636-4638-b531-353631326437
DTSTAMP:20260422T034012Z
DESCRIPTION:13/65 TJ Lokomotiva Česká Lípa\, z.s. - TJ Zákupy\, z.s. 3:0 (2
 0\,15\,10)
DTSTART;TZID=Europe/Berlin:20251129T100000
DTEND;TZID=Europe/Berlin:20251129T120000
LOCATION:Stará sportovní hala\, Wedrichova 1439 Česká Lípa
SUMMARY:LIB-M-1: TJ Lokomotiva Česká Lípa\, z.s.-TJ Zákupy\, z.s.
END:VEVENT
BEGIN:VEVENT
UID:31363030-3835-4235-b637-623533316662
DTSTAMP:20260422T034012Z
DESCRIPTION:14/70 TJ Lokomotiva Česká Lípa\, z.s. - TJ Zákupy\, z.s. 3:0 (9
 \,21\,15)
DTSTART;TZID=Europe/Berlin:20251129T130000
DTEND;TZID=Europe/Berlin:20251129T150000
LOCATION:Stará sportovní hala\, Wedrichova 1439 Česká Lípa
SUMMARY:LIB-M-1: TJ Lokomotiva Česká Lípa\, z.s.-TJ Zákupy\, z.s.
END:VEVENT
BEGIN:VEVENT
UID:64353961-3337-4933-a463-373739663537
DTSTAMP:20260422T034012Z
DESCRIPTION:15/71 TJ Bižuterie Jablonec n/N - TJ Zákupy\, z.s. 1:3 (-18\,22
 \,-19\,-19)
DTSTART;TZID=Europe/Berlin:20251206T110000
DTEND;TZID=Europe/Berlin:20251206T130000
LOCATION:Městská sportovní hala\, U Přehrady 4747 Jablonec nad Nisou
SUMMARY:LIB-M-1: TJ Bižuterie Jablonec n/N-TJ Zákupy\, z.s.
END:VEVENT
BEGIN:VEVENT
UID:36663065-6562-4234-b962-383933363762
DTSTAMP:20260422T034012Z
DESCRIPTION:16/76 TJ Bižuterie Jablonec n/N - TJ Zákupy\, z.s. 1:3 (-14\,14
 \,-22\,-22)
DTSTART;TZID=Europe/Berlin:20251206T150000
DTEND;TZID=Europe/Berlin:20251206T170000
LOCATION:Městská sportovní hala\, U Přehrady 4747 Jablonec nad Nisou
SUMMARY:LIB-M-1: TJ Bižuterie Jablonec n/N-TJ Zákupy\, z.s.
END:VEVENT
BEGIN:VEVENT
UID:39336332-6437-4138-b436-343439653366
DTSTAMP:20260422T034012Z
DESCRIPTION:21/104 Vrtule Frýdlant\, z.s. - TJ Zákupy\, z.s. 2:3 (-15\,15\,
 22\,-19\,-9)
DTSTART;TZID=Europe/Berlin:20260124T100000
DTEND;TZID=Europe/Berlin:20260124T120000
LOCATION:Střední škola hospodářská a lesnická \, Bělíkova 1387 Frýdlant
SUMMARY:LIB-M-1: Vrtule Frýdlant\, z.s.-TJ Zákupy\, z.s.
END:VEVENT
BEGIN:VEVENT
UID:39373730-6638-4137-b533-323563326539
DTSTAMP:20260422T034012Z
DESCRIPTION:22/109 Vrtule Frýdlant\, z.s. - TJ Zákupy\, z.s. 1:3 (-20\,21\,
 -18\,-17)
DTSTART;TZID=Europe/Berlin:20260124T130000
DTEND;TZID=Europe/Berlin:20260124T150000
LOCATION:Střední škola hospodářská a lesnická \, Bělíkova 1387 Frýdlant
SUMMARY:LIB-M-1: Vrtule Frýdlant\, z.s.-TJ Zákupy\, z.s.
END:VEVENT
BEGIN:VEVENT
UID:63616232-3262-4561-a437-373265666232
DTSTAMP:20260422T034012Z
DESCRIPTION:25/123 Turnov - TJ Zákupy\, z.s. 3:1 (24\,14\,-18\,11)
DTSTART;TZID=Europe/Berlin:20260207T100000
DTEND;TZID=Europe/Berlin:20260207T120000
LOCATION:TJ Turnov\, Skálova 207 Turnov
SUMMARY:LIB-M-1: Turnov-TJ Zákupy\, z.s.
END:VEVENT
BEGIN:VEVENT
UID:65333039-3734-4638-b034-356538663233
DTSTAMP:20260422T034012Z
DESCRIPTION:26/128 Turnov - TJ Zákupy\, z.s. 3:0 (11\,20\,21)
DTSTART;TZID=Europe/Berlin:20260207T130000
DTEND;TZID=Europe/Berlin:20260207T150000
LOCATION:TJ Turnov\, Skálova 207 Turnov
SUMMARY:LIB-M-1: Turnov-TJ Zákupy\, z.s.
END:VEVENT
BEGIN:VEVENT
UID:65666534-6433-4537-b730-666161313765
DTSTAMP:20260422T034012Z
DESCRIPTION:29/142 VK Malá Skála B - TJ Zákupy\, z.s. 0:3 (-22\,-24\,-19)
DTSTART;TZID=Europe/Berlin:20260228T100000
DTEND;TZID=Europe/Berlin:20260228T120000
LOCATION:tělocvična ZŠ\,  Malá Skála - Vranové 1.díl60
SUMMARY:LIB-M-1: VK Malá Skála B-TJ Zákupy\, z.s.
END:VEVENT
BEGIN:VEVENT
UID:35326332-3961-4530-a266-663234353964
DTSTAMP:20260422T034012Z
DESCRIPTION:30/147 VK Malá Skála B - TJ Zákupy\, z.s. 1:3 (-22\,-24\,23\,-1
 9)
DTSTART;TZID=Europe/Berlin:20260228T130000
DTEND;TZID=Europe/Berlin:20260228T150000
LOCATION:tělocvična ZŠ\,  Malá Skála - Vranové 1.díl60
SUMMARY:LIB-M-1: VK Malá Skála B-TJ Zákupy\, z.s.
END:VEVENT
BEGIN:VEVENT
UID:37643861-6465-4239-b461-363462373962
DTSTAMP:20260422T034012Z
DESCRIPTION:35/175 Tělovýchovná jednota Lokomotiva Liberec I\, z.s. - TJ Zá
 kupy\, z.s. 1:3 (18\,-13\,-19\,-14)
DTSTART;TZID=Europe/Berlin:20260411T100000
DTEND;TZID=Europe/Berlin:20260411T120000
LOCATION:TJ Lokomotiva Liberec 1.\, z.s.\, Jablonecká 562 Liberec - Liberec
  I-Staré Město
SUMMARY:LIB-M-1: Tělovýchovná jednota Lokomotiva Liberec I\, z.s.-TJ Zákupy
 \, z.s.
END:VEVENT
BEGIN:VEVENT
UID:62663561-6564-4830-a332-303539643465
DTSTAMP:20260422T034012Z
DESCRIPTION:36/180 Tělovýchovná jednota Lokomotiva Liberec I\, z.s. - TJ Zá
 kupy\, z.s. 0:3 (-19\,-22\,-24)
DTSTART;TZID=Europe/Berlin:20260411T130000
DTEND;TZID=Europe/Berlin:20260411T150000
LOCATION:TJ Lokomotiva Liberec 1.\, z.s.\, Jablonecká 562 Liberec - Liberec
  I-Staré Město
SUMMARY:LIB-M-1: Tělovýchovná jednota Lokomotiva Liberec I\, z.s.-TJ Zákupy
 \, z.s.
END:VEVENT
END:VCALENDAR
