BEGIN:VCALENDAR
VERSION:2.0
PRODID:-//SK Volejbal Klatovy B89888//NONSGML kigkonsult.se iCalcreator 2.41.80//
CALSCALE:GREGORIAN
UID:36636639-3131-4162-a631-336366373633
BEGIN:VEVENT
UID:36366339-3664-4434-a366-353734653961
DTSTAMP:20260422T033925Z
DESCRIPTION:1/4 Klatovy B - Mirošov 3:1 (24\,13\,-19\,18)
DTSTART;TZID=Europe/Berlin:20251019T100000
DTEND;TZID=Europe/Berlin:20251019T120000
LOCATION:Hala Na Vodojemu\, Studentská 646 Klatovy - Klatovy IV
SUMMARY:P-M-1: Klatovy B-Mirošov
END:VEVENT
BEGIN:VEVENT
UID:31346662-6431-4230-b763-646534646164
DTSTAMP:20260422T033925Z
DESCRIPTION:2/8 Klatovy B - Mirošov 3:2 (20\,-26\,-19\,18\,14)
DTSTART;TZID=Europe/Berlin:20251019T130000
DTEND;TZID=Europe/Berlin:20251019T150000
LOCATION:Hala Na Vodojemu\, Studentská 646 Klatovy - Klatovy IV
SUMMARY:P-M-1: Klatovy B-Mirošov
END:VEVENT
BEGIN:VEVENT
UID:37643465-6365-4031-b639-353535666266
DTSTAMP:20260422T033925Z
DESCRIPTION:5/19 Klatovy B - Skvrňany 3:0 (15\,12\,23)
DTSTART;TZID=Europe/Berlin:20251109T100000
DTEND;TZID=Europe/Berlin:20251109T120000
LOCATION:Hala Na Vodojemu\, Studentská 646 Klatovy - Klatovy IV
SUMMARY:P-M-1: Klatovy B-Skvrňany
END:VEVENT
BEGIN:VEVENT
UID:62366534-6361-4664-b264-623838646664
DTSTAMP:20260422T033925Z
DESCRIPTION:6/23 Klatovy B - Skvrňany 2:3 (21\,16\,-23\,-23\,-13)
DTSTART;TZID=Europe/Berlin:20251109T130000
DTEND;TZID=Europe/Berlin:20251109T150000
LOCATION:Hala Na Vodojemu\, Studentská 646 Klatovy - Klatovy IV
SUMMARY:P-M-1: Klatovy B-Skvrňany
END:VEVENT
BEGIN:VEVENT
UID:37393732-3633-4763-b839-643134303539
DTSTAMP:20260422T033925Z
DESCRIPTION:13/49 Klatovy B - Hoverla 3:1 (-17\,27\,28\,14)
DTSTART;TZID=Europe/Berlin:20251214T090000
DTEND;TZID=Europe/Berlin:20251214T110000
LOCATION:Sportovní hala ZŠ Čapkova\, Čapkova 136 Klatovy - Klatovy V
SUMMARY:P-M-1: Klatovy B-Hoverla
END:VEVENT
BEGIN:VEVENT
UID:38363633-6565-4162-b431-643162616161
DTSTAMP:20260422T033925Z
DESCRIPTION:14/53 Klatovy B - Hoverla 3:0 (23\,21\,19)
DTSTART;TZID=Europe/Berlin:20251214T130000
DTEND;TZID=Europe/Berlin:20251214T150000
LOCATION:Sportovní hala ZŠ Čapkova\, Čapkova 136 Klatovy - Klatovy V
SUMMARY:P-M-1: Klatovy B-Hoverla
END:VEVENT
BEGIN:VEVENT
UID:62393330-3638-4330-a364-376461633664
DTSTAMP:20260422T033925Z
DESCRIPTION:17/66 Klatovy B - Union 3:2 (-20\,21\,-21\,21\,11)
DTSTART;TZID=Europe/Berlin:20260321T100000
DTEND;TZID=Europe/Berlin:20260321T120000
LOCATION:Hala Na Vodojemu\, Studentská 646 Klatovy - Klatovy IV
SUMMARY:P-M-1: Klatovy B-Union
END:VEVENT
BEGIN:VEVENT
UID:36313334-3235-4533-b437-613135643561
DTSTAMP:20260422T033925Z
DESCRIPTION:18/70 Klatovy B - Union 3:0 (19\,22\,24)
DTSTART;TZID=Europe/Berlin:20260321T130000
DTEND;TZID=Europe/Berlin:20260321T150000
LOCATION:Hala Na Vodojemu\, Studentská 646 Klatovy - Klatovy IV
SUMMARY:P-M-1: Klatovy B-Union
END:VEVENT
BEGIN:VEVENT
UID:64643563-6531-4536-b938-343665326437
DTSTAMP:20260422T033925Z
DESCRIPTION:21/83 Klatovy B - USK Slavia B 1:3 (-19\,-22\,19\,-20)
DTSTART;TZID=Europe/Berlin:20260215T100000
DTEND;TZID=Europe/Berlin:20260215T120000
LOCATION:Sportovní hala ZŠ Čapkova\, Čapkova 136 Klatovy - Klatovy V
SUMMARY:P-M-1: Klatovy B-USK Slavia B
END:VEVENT
BEGIN:VEVENT
UID:65643637-3761-4564-a433-323264376234
DTSTAMP:20260422T033925Z
DESCRIPTION:22/87 Klatovy B - USK Slavia B 3:1 (23\,-20\,18\,23)
DTSTART;TZID=Europe/Berlin:20260215T140000
DTEND;TZID=Europe/Berlin:20260215T160000
LOCATION:Sportovní hala ZŠ Čapkova\, Čapkova 136 Klatovy - Klatovy V
SUMMARY:P-M-1: Klatovy B-USK Slavia B
END:VEVENT
BEGIN:VEVENT
UID:35306362-3764-4065-a534-643336313637
DTSTAMP:20260422T033925Z
DESCRIPTION:25/100 Klatovy B - Domažlice 3:1 (-19\,21\,23\,19)
DTSTART;TZID=Europe/Berlin:20260315T100000
DTEND;TZID=Europe/Berlin:20260315T120000
LOCATION:Hala Na Vodojemu\, Studentská 646 Klatovy - Klatovy IV
SUMMARY:P-M-1: Klatovy B-Domažlice
END:VEVENT
BEGIN:VEVENT
UID:35393166-3034-4664-a433-616165316165
DTSTAMP:20260422T033925Z
DESCRIPTION:26/104 Klatovy B - Domažlice 3:2 (17\,-19\,19\,-13\,5)
DTSTART;TZID=Europe/Berlin:20260315T130000
DTEND;TZID=Europe/Berlin:20260315T150000
LOCATION:Hala Na Vodojemu\, Studentská 646 Klatovy - Klatovy IV
SUMMARY:P-M-1: Klatovy B-Domažlice
END:VEVENT
BEGIN:VEVENT
UID:37326262-6538-4237-b331-613436666136
DTSTAMP:20260422T033925Z
DESCRIPTION:3/10 Union - Klatovy B 3:1 (17\,19\,-23\,23)
DTSTART;TZID=Europe/Berlin:20251025T100000
DTEND;TZID=Europe/Berlin:20251025T120000
LOCATION:TJ Union\, Radčická 2861 Plzeň - Jižní Předměstí
SUMMARY:P-M-1: Union-Klatovy B
END:VEVENT
BEGIN:VEVENT
UID:65636333-3830-4335-a331-373934306661
DTSTAMP:20260422T033925Z
DESCRIPTION:4/14 Union - Klatovy B 3:1 (-18\,22\,11\,17)
DTSTART;TZID=Europe/Berlin:20251025T140000
DTEND;TZID=Europe/Berlin:20251025T160000
LOCATION:TJ Union\, Radčická 2861 Plzeň - Jižní Předměstí
SUMMARY:P-M-1: Union-Klatovy B
END:VEVENT
BEGIN:VEVENT
UID:33393766-6337-4165-b032-363038373966
DTSTAMP:20260422T033925Z
DESCRIPTION:7/27 USK Slavia B - Klatovy B 3:2 (-19\,18\,-22\,25\,14)
DTSTART;TZID=Europe/Berlin:20251116T100000
DTEND;TZID=Europe/Berlin:20251116T120000
LOCATION:Hala PF ZČU Plzeň\, Klatovská třída 1736 Plzeň - Jižní Předměstí
SUMMARY:P-M-1: USK Slavia B-Klatovy B
END:VEVENT
BEGIN:VEVENT
UID:35636262-6533-4935-b564-376362633730
DTSTAMP:20260422T033925Z
DESCRIPTION:8/31 USK Slavia B - Klatovy B 0:3 (-24\,-23\,-20)
DTSTART;TZID=Europe/Berlin:20251116T140000
DTEND;TZID=Europe/Berlin:20251116T160000
LOCATION:Hala PF ZČU Plzeň\, Klatovská třída 1736 Plzeň - Jižní Předměstí
SUMMARY:P-M-1: USK Slavia B-Klatovy B
END:VEVENT
BEGIN:VEVENT
UID:31383266-6165-4662-b130-663931316663
DTSTAMP:20260422T033925Z
DESCRIPTION:11/44 Domažlice - Klatovy B 3:1 (-34\,25\,12\,23)
DTSTART;TZID=Europe/Berlin:20251206T110000
DTEND;TZID=Europe/Berlin:20251206T130000
LOCATION:Sportovní hala ZŠ Komenského Domažlice\, Komenského 17 Domažlice -
  Týnské Předměstí
SUMMARY:P-M-1: Domažlice-Klatovy B
END:VEVENT
BEGIN:VEVENT
UID:39626461-6236-4662-a636-636361333737
DTSTAMP:20260422T033925Z
DESCRIPTION:12/48 Domažlice - Klatovy B 1:3 (23\,-13\,-22\,-10)
DTSTART;TZID=Europe/Berlin:20251206T150000
DTEND;TZID=Europe/Berlin:20251206T170000
LOCATION:Sportovní hala ZŠ Komenského Domažlice\, Komenského 17 Domažlice -
  Týnské Předměstí
SUMMARY:P-M-1: Domažlice-Klatovy B
END:VEVENT
BEGIN:VEVENT
UID:35313462-3266-4432-a239-393562373435
DTSTAMP:20260422T033925Z
DESCRIPTION:15/60 Mirošov - Klatovy B 3:0 (20\,23\,18)
DTSTART;TZID=Europe/Berlin:20260117T100000
DTEND;TZID=Europe/Berlin:20260117T120000
LOCATION:Sokolovna Mirošov\, Skořická 86 Mirošov
SUMMARY:P-M-1: Mirošov-Klatovy B
END:VEVENT
BEGIN:VEVENT
UID:32376533-6261-4661-a234-313435316332
DTSTAMP:20260422T033925Z
DESCRIPTION:16/64 Mirošov - Klatovy B 2:3 (-23\,17\,28\,-22\,-12)
DTSTART;TZID=Europe/Berlin:20260117T140000
DTEND;TZID=Europe/Berlin:20260117T160000
LOCATION:Sokolovna Mirošov\, Skořická 86 Mirošov
SUMMARY:P-M-1: Mirošov-Klatovy B
END:VEVENT
BEGIN:VEVENT
UID:39393263-6162-4937-b632-663666343261
DTSTAMP:20260422T033925Z
DESCRIPTION:19/75 Skvrňany - Klatovy B 3:0 (16\,13\,14)
DTSTART;TZID=Europe/Berlin:20260207T100000
DTEND;TZID=Europe/Berlin:20260207T120000
LOCATION:Sokolovna Skvrňany\, Emingerova 308 Plzeň - Skvrňany
SUMMARY:P-M-1: Skvrňany-Klatovy B
END:VEVENT
BEGIN:VEVENT
UID:35653839-3732-4865-a132-386461313334
DTSTAMP:20260422T033925Z
DESCRIPTION:20/79 Skvrňany - Klatovy B 3:2 (-22\,-23\,17\,11\,8)
DTSTART;TZID=Europe/Berlin:20260207T140000
DTEND;TZID=Europe/Berlin:20260207T160000
LOCATION:Sokolovna Skvrňany\, Emingerova 308 Plzeň - Skvrňany
SUMMARY:P-M-1: Skvrňany-Klatovy B
END:VEVENT
BEGIN:VEVENT
UID:35666463-3731-4830-a139-313464383732
DTSTAMP:20260422T033925Z
DESCRIPTION:27/105 Hoverla - Klatovy B 0:3 (-17\,-16\,-15)
DTSTART;TZID=Europe/Berlin:20260228T120000
DTEND;TZID=Europe/Berlin:20260228T140000
LOCATION:Hala PF ZČU Plzeň\, Klatovská třída 1736 Plzeň - Jižní Předměstí
SUMMARY:P-M-1: Hoverla-Klatovy B
END:VEVENT
BEGIN:VEVENT
UID:36366139-3962-4631-a637-323131653030
DTSTAMP:20260422T033925Z
DESCRIPTION:28/109 Hoverla - Klatovy B 0:3 (-20\,-20\,-23)
DTSTART;TZID=Europe/Berlin:20260228T160000
DTEND;TZID=Europe/Berlin:20260228T180000
LOCATION:Hala PF ZČU Plzeň\, Klatovská třída 1736 Plzeň - Jižní Předměstí
SUMMARY:P-M-1: Hoverla-Klatovy B
END:VEVENT
END:VCALENDAR
