BEGIN:VCALENDAR
VERSION:2.0
PRODID:-//TJ Sokol Mirošov89890//NONSGML kigkonsult.se iCalcreator 2.41.80//
CALSCALE:GREGORIAN
UID:33633330-3461-4239-b964-646531666632
BEGIN:VEVENT
UID:65643330-3538-4334-a634-323066666330
DTSTAMP:20260422T034044Z
DESCRIPTION:5/20 Mirošov - Union 1:3 (-20\,-22\,19\,-21)
DTSTART;TZID=Europe/Berlin:20251108T100000
DTEND;TZID=Europe/Berlin:20251108T120000
LOCATION:Sokolovna Mirošov\, Skořická 86 Mirošov
SUMMARY:P-M-1: Mirošov-Union
END:VEVENT
BEGIN:VEVENT
UID:32326136-3436-4337-b530-363365383036
DTSTAMP:20260422T034044Z
DESCRIPTION:6/24 Mirošov - Union 0:3 (-19\,-21\,-11)
DTSTART;TZID=Europe/Berlin:20251108T140000
DTEND;TZID=Europe/Berlin:20251108T160000
LOCATION:Sokolovna Mirošov\, Skořická 86 Mirošov
SUMMARY:P-M-1: Mirošov-Union
END:VEVENT
BEGIN:VEVENT
UID:64306163-6161-4434-b631-356133303532
DTSTAMP:20260422T034044Z
DESCRIPTION:9/35 Mirošov - USK Slavia B 3:1 (23\,19\,-21\,21)
DTSTART;TZID=Europe/Berlin:20251122T100000
DTEND;TZID=Europe/Berlin:20251122T120000
LOCATION:Sokolovna Mirošov\, Skořická 86 Mirošov
SUMMARY:P-M-1: Mirošov-USK Slavia B
END:VEVENT
BEGIN:VEVENT
UID:39643536-6630-4331-b534-393863336136
DTSTAMP:20260422T034044Z
DESCRIPTION:10/39 Mirošov - USK Slavia B 0:3 (-15\,-17\,-23)
DTSTART;TZID=Europe/Berlin:20251122T140000
DTEND;TZID=Europe/Berlin:20251122T160000
LOCATION:Sokolovna Mirošov\, Skořická 86 Mirošov
SUMMARY:P-M-1: Mirošov-USK Slavia B
END:VEVENT
BEGIN:VEVENT
UID:62376431-6235-4137-b339-616537363664
DTSTAMP:20260422T034044Z
DESCRIPTION:13/50 Mirošov - Domažlice 0:3 (-19\,-21\,-17)
DTSTART;TZID=Europe/Berlin:20251213T100000
DTEND;TZID=Europe/Berlin:20251213T120000
LOCATION:Sokolovna Mirošov\, Skořická 86 Mirošov
SUMMARY:P-M-1: Mirošov-Domažlice
END:VEVENT
BEGIN:VEVENT
UID:34353562-3862-4237-b738-613665333761
DTSTAMP:20260422T034044Z
DESCRIPTION:14/54 Mirošov - Domažlice 2:3 (20\,16\,-23\,-17\,-13)
DTSTART;TZID=Europe/Berlin:20251213T140000
DTEND;TZID=Europe/Berlin:20251213T160000
LOCATION:Sokolovna Mirošov\, Skořická 86 Mirošov
SUMMARY:P-M-1: Mirošov-Domažlice
END:VEVENT
BEGIN:VEVENT
UID:35653136-3666-4231-b865-363661633164
DTSTAMP:20260422T034044Z
DESCRIPTION:15/60 Mirošov - Klatovy B 3:0 (20\,23\,18)
DTSTART;TZID=Europe/Berlin:20260117T100000
DTEND;TZID=Europe/Berlin:20260117T120000
LOCATION:Sokolovna Mirošov\, Skořická 86 Mirošov
SUMMARY:P-M-1: Mirošov-Klatovy B
END:VEVENT
BEGIN:VEVENT
UID:36396536-3263-4438-a139-366664653230
DTSTAMP:20260422T034044Z
DESCRIPTION:16/64 Mirošov - Klatovy B 2:3 (-23\,17\,28\,-22\,-12)
DTSTART;TZID=Europe/Berlin:20260117T140000
DTEND;TZID=Europe/Berlin:20260117T160000
LOCATION:Sokolovna Mirošov\, Skořická 86 Mirošov
SUMMARY:P-M-1: Mirošov-Klatovy B
END:VEVENT
BEGIN:VEVENT
UID:31383732-3135-4831-b939-626531383839
DTSTAMP:20260422T034044Z
DESCRIPTION:17/65 Mirošov - Hoverla 3:0 (13\,26\,18)
DTSTART;TZID=Europe/Berlin:20260124T100000
DTEND;TZID=Europe/Berlin:20260124T120000
LOCATION:Sokolovna Mirošov\, Skořická 86 Mirošov
SUMMARY:P-M-1: Mirošov-Hoverla
END:VEVENT
BEGIN:VEVENT
UID:65303032-6435-4236-b534-393031353535
DTSTAMP:20260422T034044Z
DESCRIPTION:18/69 Mirošov - Hoverla 3:0 (25\,20\,20)
DTSTART;TZID=Europe/Berlin:20260124T140000
DTEND;TZID=Europe/Berlin:20260124T160000
LOCATION:Sokolovna Mirošov\, Skořická 86 Mirošov
SUMMARY:P-M-1: Mirošov-Hoverla
END:VEVENT
BEGIN:VEVENT
UID:62333339-3735-4036-b966-303862613938
DTSTAMP:20260422T034044Z
DESCRIPTION:21/82 Mirošov - Skvrňany 0:3 (-19\,-20\,-19)
DTSTART;TZID=Europe/Berlin:20260228T100000
DTEND;TZID=Europe/Berlin:20260228T120000
LOCATION:Sokolovna Mirošov\, Skořická 86 Mirošov
SUMMARY:P-M-1: Mirošov-Skvrňany
END:VEVENT
BEGIN:VEVENT
UID:37616138-6635-4964-a566-633865643930
DTSTAMP:20260422T034044Z
DESCRIPTION:22/86 Mirošov - Skvrňany 1:3 (26\,-16\,-16\,-13)
DTSTART;TZID=Europe/Berlin:20260228T140000
DTEND;TZID=Europe/Berlin:20260228T160000
LOCATION:Sokolovna Mirošov\, Skořická 86 Mirošov
SUMMARY:P-M-1: Mirošov-Skvrňany
END:VEVENT
BEGIN:VEVENT
UID:65656563-6362-4234-a138-316466343635
DTSTAMP:20260422T034044Z
DESCRIPTION:1/4 Klatovy B - Mirošov 3:1 (24\,13\,-19\,18)
DTSTART;TZID=Europe/Berlin:20251019T100000
DTEND;TZID=Europe/Berlin:20251019T120000
LOCATION:Hala Na Vodojemu\, Studentská 646 Klatovy - Klatovy IV
SUMMARY:P-M-1: Klatovy B-Mirošov
END:VEVENT
BEGIN:VEVENT
UID:37303563-3563-4830-a639-346166656264
DTSTAMP:20260422T034044Z
DESCRIPTION:2/8 Klatovy B - Mirošov 3:2 (20\,-26\,-19\,18\,14)
DTSTART;TZID=Europe/Berlin:20251019T130000
DTEND;TZID=Europe/Berlin:20251019T150000
LOCATION:Hala Na Vodojemu\, Studentská 646 Klatovy - Klatovy IV
SUMMARY:P-M-1: Klatovy B-Mirošov
END:VEVENT
BEGIN:VEVENT
UID:37616466-3839-4339-b362-336231373766
DTSTAMP:20260422T034044Z
DESCRIPTION:3/9 Hoverla - Mirošov 3:1 (18\,21\,-18\,21)
DTSTART;TZID=Europe/Berlin:20251101T090000
DTEND;TZID=Europe/Berlin:20251101T110000
LOCATION:Hala PF ZČU Plzeň\, Klatovská třída 1736 Plzeň - Jižní Předměstí
SUMMARY:P-M-1: Hoverla-Mirošov
END:VEVENT
BEGIN:VEVENT
UID:36333539-3235-4538-b437-613339663830
DTSTAMP:20260422T034044Z
DESCRIPTION:4/13 Hoverla - Mirošov 3:1 (16\,18\,-22\,23)
DTSTART;TZID=Europe/Berlin:20251101T130000
DTEND;TZID=Europe/Berlin:20251101T150000
LOCATION:Hala PF ZČU Plzeň\, Klatovská třída 1736 Plzeň - Jižní Předměstí
SUMMARY:P-M-1: Hoverla-Mirošov
END:VEVENT
BEGIN:VEVENT
UID:37323637-3438-4432-a166-313339353535
DTSTAMP:20260422T034044Z
DESCRIPTION:7/26 Skvrňany - Mirošov 3:0 (20\,20\,16)
DTSTART;TZID=Europe/Berlin:20251115T100000
DTEND;TZID=Europe/Berlin:20251115T120000
LOCATION:Sokolovna Skvrňany\, Emingerova 308 Plzeň - Skvrňany
SUMMARY:P-M-1: Skvrňany-Mirošov
END:VEVENT
BEGIN:VEVENT
UID:38303930-6232-4335-a564-373436373836
DTSTAMP:20260422T034044Z
DESCRIPTION:8/30 Skvrňany - Mirošov 3:1 (-21\,15\,14\,21)
DTSTART;TZID=Europe/Berlin:20251115T140000
DTEND;TZID=Europe/Berlin:20251115T160000
LOCATION:Sokolovna Skvrňany\, Emingerova 308 Plzeň - Skvrňany
SUMMARY:P-M-1: Skvrňany-Mirošov
END:VEVENT
BEGIN:VEVENT
UID:39343939-3461-4432-b666-616435636463
DTSTAMP:20260422T034044Z
DESCRIPTION:19/76 Union - Mirošov 3:2 (16\,19\,-18\,-16\,12)
DTSTART;TZID=Europe/Berlin:20260207T110000
DTEND;TZID=Europe/Berlin:20260207T130000
LOCATION:TJ Union\, Radčická 2861 Plzeň - Jižní Předměstí
SUMMARY:P-M-1: Union-Mirošov
END:VEVENT
BEGIN:VEVENT
UID:36616565-3539-4035-a264-386666373835
DTSTAMP:20260422T034044Z
DESCRIPTION:20/80 Union - Mirošov 3:0 (24\,27\,23)
DTSTART;TZID=Europe/Berlin:20260207T150000
DTEND;TZID=Europe/Berlin:20260207T170000
LOCATION:TJ Union\, Radčická 2861 Plzeň - Jižní Předměstí
SUMMARY:P-M-1: Union-Mirošov
END:VEVENT
BEGIN:VEVENT
UID:30623364-3761-4630-b938-396639393133
DTSTAMP:20260422T034044Z
DESCRIPTION:23/91 USK Slavia B - Mirošov 3:1 (-24\,21\,19\,19)
DTSTART;TZID=Europe/Berlin:20260221T100000
DTEND;TZID=Europe/Berlin:20260221T120000
LOCATION:Hala PF ZČU Plzeň\, Klatovská třída 1736 Plzeň - Jižní Předměstí
SUMMARY:P-M-1: USK Slavia B-Mirošov
END:VEVENT
BEGIN:VEVENT
UID:33343736-6365-4335-b037-343435393366
DTSTAMP:20260422T034044Z
DESCRIPTION:24/95 USK Slavia B - Mirošov 3:0 (17\,18\,24)
DTSTART;TZID=Europe/Berlin:20260221T140000
DTEND;TZID=Europe/Berlin:20260221T160000
LOCATION:Hala PF ZČU Plzeň\, Klatovská třída 1736 Plzeň - Jižní Předměstí
SUMMARY:P-M-1: USK Slavia B-Mirošov
END:VEVENT
BEGIN:VEVENT
UID:62383737-6531-4461-a265-303463656337
DTSTAMP:20260422T034044Z
DESCRIPTION:27/106 Domažlice - Mirošov 3:0 (17\,20\,26)
DTSTART;TZID=Europe/Berlin:20260321T100000
DTEND;TZID=Europe/Berlin:20260321T120000
LOCATION:Sportovní hala ZŠ Komenského Domažlice\, Komenského 17 Domažlice -
  Týnské Předměstí
SUMMARY:P-M-1: Domažlice-Mirošov
END:VEVENT
BEGIN:VEVENT
UID:63386363-3563-4162-b338-323761313736
DTSTAMP:20260422T034044Z
DESCRIPTION:28/110 Domažlice - Mirošov 0:3 (-23\,-19\,-16)
DTSTART;TZID=Europe/Berlin:20260321T140000
DTEND;TZID=Europe/Berlin:20260321T160000
LOCATION:Sportovní hala ZŠ Komenského Domažlice\, Komenského 17 Domažlice -
  Týnské Předměstí
SUMMARY:P-M-1: Domažlice-Mirošov
END:VEVENT
END:VCALENDAR
