BEGIN:VCALENDAR
VERSION:2.0
PRODID:-//VO TJ Lanškroun89934//NONSGML kigkonsult.se iCalcreator 2.41.80//
CALSCALE:GREGORIAN
UID:33343666-6462-4931-b364-626462346466
BEGIN:VEVENT
UID:61663832-3733-4233-a138-343538396661
DTSTAMP:20260421T171403Z
DESCRIPTION:5/15 Lanškroun - Přerov 3:0 (11\,13\,9)
DTSTART;TZID=Europe/Berlin:20251012T100000
DTEND;TZID=Europe/Berlin:20251012T120000
LOCATION:SOŠ a SOU Lanškroun\, Sokolská 288 Lanškroun - Ostrovské Předměstí
SUMMARY:EX-U20Z-B: Lanškroun-Přerov
END:VEVENT
BEGIN:VEVENT
UID:36643935-3264-4131-b135-653063313738
DTSTAMP:20260421T171403Z
DESCRIPTION:6/18 Lanškroun - Přerov 3:0 (19\,15\,13)
DTSTART;TZID=Europe/Berlin:20251012T140000
DTEND;TZID=Europe/Berlin:20251012T160000
LOCATION:SOŠ a SOU Lanškroun\, Sokolská 288 Lanškroun - Ostrovské Předměstí
SUMMARY:EX-U20Z-B: Lanškroun-Přerov
END:VEVENT
BEGIN:VEVENT
UID:31366663-3635-4765-b638-323366316233
DTSTAMP:20260421T171403Z
DESCRIPTION:9/26 Lanškroun - Frýdek-Místek 2:3 (19\,-21\,23\,-17\,-13)
DTSTART;TZID=Europe/Berlin:20251102T100000
DTEND;TZID=Europe/Berlin:20251102T120000
LOCATION:SOŠ a SOU Lanškroun\, Sokolská 288 Lanškroun - Ostrovské Předměstí
SUMMARY:EX-U20Z-B: Lanškroun-Frýdek-Místek
END:VEVENT
BEGIN:VEVENT
UID:33343261-3966-4530-b138-356265396138
DTSTAMP:20260421T171403Z
DESCRIPTION:10/29 Lanškroun - Frýdek-Místek 0:3 (-16\,-18\,-20)
DTSTART;TZID=Europe/Berlin:20251102T140000
DTEND;TZID=Europe/Berlin:20251102T160000
LOCATION:SOŠ a SOU Lanškroun\, Sokolská 288 Lanškroun - Ostrovské Předměstí
SUMMARY:EX-U20Z-B: Lanškroun-Frýdek-Místek
END:VEVENT
BEGIN:VEVENT
UID:66316538-3137-4762-a666-373832376335
DTSTAMP:20260421T171403Z
DESCRIPTION:11/33 Lanškroun - Prostějov 2:3 (24\,21\,-18\,-16\,-14)
DTSTART;TZID=Europe/Berlin:20251109T100000
DTEND;TZID=Europe/Berlin:20251109T120000
LOCATION:SOŠ a SOU Lanškroun\, Sokolská 288 Lanškroun - Ostrovské Předměstí
SUMMARY:EX-U20Z-B: Lanškroun-Prostějov
END:VEVENT
BEGIN:VEVENT
UID:36656533-3962-4332-b166-303666303136
DTSTAMP:20260421T171403Z
DESCRIPTION:12/36 Lanškroun - Prostějov 1:3 (19\,-20\,-15\,-17)
DTSTART;TZID=Europe/Berlin:20251109T140000
DTEND;TZID=Europe/Berlin:20251109T160000
LOCATION:SOŠ a SOU Lanškroun\, Sokolská 288 Lanškroun - Ostrovské Předměstí
SUMMARY:EX-U20Z-B: Lanškroun-Prostějov
END:VEVENT
BEGIN:VEVENT
UID:38383066-6164-4361-b663-343162656161
DTSTAMP:20260421T171403Z
DESCRIPTION:13/37 Lanškroun - Ostrava 3:1 (-23\,16\,18\,20)
DTSTART;TZID=Europe/Berlin:20251123T100000
DTEND;TZID=Europe/Berlin:20251123T120000
LOCATION:SOŠ a SOU Lanškroun\, Sokolská 288 Lanškroun - Ostrovské Předměstí
SUMMARY:EX-U20Z-B: Lanškroun-Ostrava
END:VEVENT
BEGIN:VEVENT
UID:63356361-3265-4538-a161-636535616334
DTSTAMP:20260421T171403Z
DESCRIPTION:14/40 Lanškroun - Ostrava 3:1 (-20\,21\,21\,16)
DTSTART;TZID=Europe/Berlin:20251123T140000
DTEND;TZID=Europe/Berlin:20251123T160000
LOCATION:SOŠ a SOU Lanškroun\, Sokolská 288 Lanškroun - Ostrovské Předměstí
SUMMARY:EX-U20Z-B: Lanškroun-Ostrava
END:VEVENT
BEGIN:VEVENT
UID:33363134-3966-4531-a338-313131663666
DTSTAMP:20260421T171403Z
DESCRIPTION:17/50 Lanškroun - Brno 2:3 (20\,23\,-12\,-25\,-9)
DTSTART;TZID=Europe/Berlin:20251207T100000
DTEND;TZID=Europe/Berlin:20251207T120000
LOCATION:SOŠ a SOU Lanškroun\, Sokolská 288 Lanškroun - Ostrovské Předměstí
SUMMARY:EX-U20Z-B: Lanškroun-Brno
END:VEVENT
BEGIN:VEVENT
UID:35306161-6231-4032-b135-636539663566
DTSTAMP:20260421T171403Z
DESCRIPTION:18/53 Lanškroun - Brno 2:3 (19\,14\,-19\,-15\,-8)
DTSTART;TZID=Europe/Berlin:20251207T140000
DTEND;TZID=Europe/Berlin:20251207T160000
LOCATION:SOŠ a SOU Lanškroun\, Sokolská 288 Lanškroun - Ostrovské Předměstí
SUMMARY:EX-U20Z-B: Lanškroun-Brno
END:VEVENT
BEGIN:VEVENT
UID:63653239-3666-4762-b034-633761633637
DTSTAMP:20260421T171403Z
DESCRIPTION:1/3 Prostějov - Lanškroun 3:2 (-24\,11\,-19\,20\,13)
DTSTART;TZID=Europe/Berlin:20250921T100000
DTEND;TZID=Europe/Berlin:20250921T120000
LOCATION:Národní sportovní centrum\, Za velodromem 4187 Prostějov
SUMMARY:EX-U20Z-B: Prostějov-Lanškroun
END:VEVENT
BEGIN:VEVENT
UID:32366133-6336-4032-b930-633435356363
DTSTAMP:20260421T171403Z
DESCRIPTION:2/6 Prostějov - Lanškroun 3:1 (22\,-19\,27\,20)
DTSTART;TZID=Europe/Berlin:20250921T140000
DTEND;TZID=Europe/Berlin:20250921T160000
LOCATION:Národní sportovní centrum\, Za velodromem 4187 Prostějov
SUMMARY:EX-U20Z-B: Prostějov-Lanškroun
END:VEVENT
BEGIN:VEVENT
UID:31363030-3765-4333-a634-613132313435
DTSTAMP:20260421T171403Z
DESCRIPTION:3/7 Ostrava - Lanškroun 3:1 (-19\,21\,17\,22)
DTSTART;TZID=Europe/Berlin:20251005T110000
DTEND;TZID=Europe/Berlin:20251005T130000
LOCATION:Hala míčových sportů\, Varenská 3098 Ostrava - Moravská Ostrava
SUMMARY:EX-U20Z-B: Ostrava-Lanškroun
END:VEVENT
BEGIN:VEVENT
UID:32356130-6330-4332-b836-646162666631
DTSTAMP:20260421T171403Z
DESCRIPTION:4/10 Ostrava - Lanškroun 2:3 (-21\,20\,17\,-21\,-15)
DTSTART;TZID=Europe/Berlin:20251005T150000
DTEND;TZID=Europe/Berlin:20251005T170000
LOCATION:Hala míčových sportů\, Varenská 3098 Ostrava - Moravská Ostrava
SUMMARY:EX-U20Z-B: Ostrava-Lanškroun
END:VEVENT
BEGIN:VEVENT
UID:39623530-3230-4462-a437-643462643566
DTSTAMP:20260421T171403Z
DESCRIPTION:7/20 Brno - Lanškroun 3:1 (21\,18\,-15\,23)
DTSTART;TZID=Europe/Berlin:20251026T110000
DTEND;TZID=Europe/Berlin:20251026T130000
LOCATION:Sportovní gymnázium Ludvíka Daňka\, Botanická 63 Brno - Ponava
SUMMARY:EX-U20Z-B: Brno-Lanškroun
END:VEVENT
BEGIN:VEVENT
UID:61343065-3735-4938-b136-383362653465
DTSTAMP:20260421T171403Z
DESCRIPTION:8/23 Brno - Lanškroun 3:2 (19\,-23\,-20\,18\,11)
DTSTART;TZID=Europe/Berlin:20251026T150000
DTEND;TZID=Europe/Berlin:20251026T170000
LOCATION:Sportovní gymnázium Ludvíka Daňka\, Botanická 63 Brno - Ponava
SUMMARY:EX-U20Z-B: Brno-Lanškroun
END:VEVENT
BEGIN:VEVENT
UID:34353535-3632-4730-b031-313130356235
DTSTAMP:20260421T171403Z
DESCRIPTION:15/45 Přerov - Lanškroun 0:3 (-22\,-21\,-19)
DTSTART;TZID=Europe/Berlin:20251130T100000
DTEND;TZID=Europe/Berlin:20251130T120000
LOCATION:Městská sportovní hala\, Petřivalského 2884 Přerov - Přerov I-Měst
 o
SUMMARY:EX-U20Z-B: Přerov-Lanškroun
END:VEVENT
BEGIN:VEVENT
UID:66626333-6530-4939-b661-316132646431
DTSTAMP:20260421T171403Z
DESCRIPTION:16/48 Přerov - Lanškroun 0:3 (-15\,-19\,-16)
DTSTART;TZID=Europe/Berlin:20251130T140000
DTEND;TZID=Europe/Berlin:20251130T160000
LOCATION:Městská sportovní hala\, Petřivalského 2884 Přerov - Přerov I-Měst
 o
SUMMARY:EX-U20Z-B: Přerov-Lanškroun
END:VEVENT
BEGIN:VEVENT
UID:36373363-3634-4634-a233-396461323130
DTSTAMP:20260421T171403Z
DESCRIPTION:19/56 Frýdek-Místek - Lanškroun 2:3 (22\,17\,-11\,-20\,-11)
DTSTART;TZID=Europe/Berlin:20260125T100000
DTEND;TZID=Europe/Berlin:20260125T120000
LOCATION:ZŠ 1.máje 1700 Frýdek-Místek\, 1. máje 1700 Frýdek-Místek - Místek
SUMMARY:EX-U20Z-B: Frýdek-Místek-Lanškroun
END:VEVENT
BEGIN:VEVENT
UID:61333966-3835-4131-a335-643734656563
DTSTAMP:20260421T171403Z
DESCRIPTION:20/59 Frýdek-Místek - Lanškroun 3:1 (18\,24\,-18\,23)
DTSTART;TZID=Europe/Berlin:20260125T140000
DTEND;TZID=Europe/Berlin:20260125T160000
LOCATION:ZŠ 1.máje 1700 Frýdek-Místek\, 1. máje 1700 Frýdek-Místek - Místek
SUMMARY:EX-U20Z-B: Frýdek-Místek-Lanškroun
END:VEVENT
BEGIN:VEVENT
UID:61353538-3762-4765-a532-386536386135
DTSTAMP:20260421T171403Z
DESCRIPTION:2/4 Lanškroun - Plzeň 3:0 (16\,22\,25)
DTSTART;TZID=Europe/Berlin:20260208T110000
DTEND;TZID=Europe/Berlin:20260208T130000
LOCATION:SOŠ a SOU Lanškroun\, Sokolská 288 Lanškroun - Ostrovské Předměstí
SUMMARY:EX-U20Z-III: Lanškroun-Plzeň
END:VEVENT
BEGIN:VEVENT
UID:39313065-3037-4233-b335-383735616131
DTSTAMP:20260421T171403Z
DESCRIPTION:3/6 Lanškroun - Přerov 3:1 (-20\,22\,19\,19)
DTSTART;TZID=Europe/Berlin:20260215T110000
DTEND;TZID=Europe/Berlin:20260215T130000
LOCATION:SOŠ a SOU Lanškroun\, Sokolská 288 Lanškroun - Ostrovské Předměstí
SUMMARY:EX-U20Z-III: Lanškroun-Přerov
END:VEVENT
BEGIN:VEVENT
UID:38386161-3038-4563-a165-386365623537
DTSTAMP:20260421T171403Z
DESCRIPTION:4/8 Lanškroun - Č. Budějovice 3:1 (-20\,9\,11\,21)
DTSTART;TZID=Europe/Berlin:20260222T150000
DTEND;TZID=Europe/Berlin:20260222T170000
LOCATION:SOŠ a SOU Lanškroun\, Sokolská 288 Lanškroun - Ostrovské Předměstí
SUMMARY:EX-U20Z-III: Lanškroun-Č. Budějovice
END:VEVENT
BEGIN:VEVENT
UID:66306133-3861-4539-a462-633466396333
DTSTAMP:20260421T171403Z
DESCRIPTION:1/2 Č. Budějovice - Lanškroun 3:1 (21\,-15\,20\,24)
DTSTART;TZID=Europe/Berlin:20260131T170000
DTEND;TZID=Europe/Berlin:20260131T190000
LOCATION:ZŠ Oskara Nedbala České Budějovice\, O. Nedbala 882 České Budějovi
 ce - České Budějovice 2
SUMMARY:EX-U20Z-III: Č. Budějovice-Lanškroun
END:VEVENT
BEGIN:VEVENT
UID:61663164-6636-4439-a435-616638383633
DTSTAMP:20260421T171403Z
DESCRIPTION:5/10 Plzeň - Lanškroun 0:3 (-18\,-21\,-22)
DTSTART;TZID=Europe/Berlin:20260308T160000
DTEND;TZID=Europe/Berlin:20260308T180000
LOCATION:Sportovní hala - SG Plzeň\, Vejprnická 663 Plzeň - Skvrňany
SUMMARY:EX-U20Z-III: Plzeň-Lanškroun
END:VEVENT
BEGIN:VEVENT
UID:64646631-3836-4838-b838-666237623131
DTSTAMP:20260421T171403Z
DESCRIPTION:6/12 Přerov - Lanškroun 0:3 (-20\,-21\,-19)
DTSTART;TZID=Europe/Berlin:20260319T160000
DTEND;TZID=Europe/Berlin:20260319T180000
LOCATION:Městská sportovní hala\, Petřivalského 2884 Přerov - Přerov I-Měst
 o
SUMMARY:EX-U20Z-III: Přerov-Lanškroun
END:VEVENT
END:VCALENDAR
