BEGIN:VCALENDAR
VERSION:2.0
PRODID:-//TJ Slavia Hradec Králové89942//NONSGML kigkonsult.se iCalcreator 2.41.80//
CALSCALE:GREGORIAN
UID:31306262-3735-4265-b965-333763346437
BEGIN:VEVENT
UID:66366538-3032-4165-b339-393136363534
DTSTAMP:20260421T210103Z
DESCRIPTION:3/8 H. Králové - Havlíčkův Brod 3:0 (23\,17\,19)
DTSTART;TZID=Europe/Berlin:20251005T100000
DTEND;TZID=Europe/Berlin:20251005T120000
LOCATION:TJ Slavia Hradec Králové\, Víta Nejedlého 1216 Hradec Králové
SUMMARY:1-U20Z-B: H. Králové-Havlíčkův Brod
END:VEVENT
BEGIN:VEVENT
UID:34623762-6536-4061-a231-396533356632
DTSTAMP:20260421T210103Z
DESCRIPTION:4/11 H. Králové - Havlíčkův Brod 3:0 (22\,9\,19)
DTSTART;TZID=Europe/Berlin:20251005T140000
DTEND;TZID=Europe/Berlin:20251005T160000
LOCATION:TJ Slavia Hradec Králové\, Víta Nejedlého 1216 Hradec Králové
SUMMARY:1-U20Z-B: H. Králové-Havlíčkův Brod
END:VEVENT
BEGIN:VEVENT
UID:62613633-3263-4634-b537-396133363166
DTSTAMP:20260421T210103Z
DESCRIPTION:9/27 H. Králové - Bedřichov 3:1 (-24\,16\,21\,17)
DTSTART;TZID=Europe/Berlin:20251102T110000
DTEND;TZID=Europe/Berlin:20251102T130000
LOCATION:TJ Slavia Hradec Králové\, Víta Nejedlého 1216 Hradec Králové
SUMMARY:1-U20Z-B: H. Králové-Bedřichov
END:VEVENT
BEGIN:VEVENT
UID:38643735-3165-4135-a538-313239323638
DTSTAMP:20260421T210103Z
DESCRIPTION:10/30 H. Králové - Bedřichov 3:0 (10\,15\,16)
DTSTART;TZID=Europe/Berlin:20251102T150000
DTEND;TZID=Europe/Berlin:20251102T170000
LOCATION:TJ Slavia Hradec Králové\, Víta Nejedlého 1216 Hradec Králové
SUMMARY:1-U20Z-B: H. Králové-Bedřichov
END:VEVENT
BEGIN:VEVENT
UID:39646131-3234-4961-a230-383762376265
DTSTAMP:20260421T210103Z
DESCRIPTION:11/32 H. Králové - Nymburk 3:1 (31\,-22\,16\,24)
DTSTART;TZID=Europe/Berlin:20251109T100000
DTEND;TZID=Europe/Berlin:20251109T120000
LOCATION:Speciální školy Hradec Králové\, Hradecká 1231 Hradec Králové
SUMMARY:1-U20Z-B: H. Králové-Nymburk
END:VEVENT
BEGIN:VEVENT
UID:37663762-6633-4236-b465-326135316165
DTSTAMP:20260421T210103Z
DESCRIPTION:12/35 H. Králové - Nymburk 1:3 (23\,-18\,-22\,-20)
DTSTART;TZID=Europe/Berlin:20251109T140000
DTEND;TZID=Europe/Berlin:20251109T160000
LOCATION:Speciální školy Hradec Králové\, Hradecká 1231 Hradec Králové
SUMMARY:1-U20Z-B: H. Králové-Nymburk
END:VEVENT
BEGIN:VEVENT
UID:38613130-6230-4263-a530-616266336534
DTSTAMP:20260421T210103Z
DESCRIPTION:15/45 H. Králové - Šternberk 3:0 (21\,22\,17)
DTSTART;TZID=Europe/Berlin:20251207T100000
DTEND;TZID=Europe/Berlin:20251207T120000
LOCATION:TJ Slavia Hradec Králové\, Víta Nejedlého 1216 Hradec Králové
SUMMARY:1-U20Z-B: H. Králové-Šternberk
END:VEVENT
BEGIN:VEVENT
UID:31303931-6130-4137-a265-303261656335
DTSTAMP:20260421T210103Z
DESCRIPTION:16/48 H. Králové - Šternberk 3:1 (25\,22\,-24\,19)
DTSTART;TZID=Europe/Berlin:20251207T140000
DTEND;TZID=Europe/Berlin:20251207T160000
LOCATION:TJ Slavia Hradec Králové\, Víta Nejedlého 1216 Hradec Králové
SUMMARY:1-U20Z-B: H. Králové-Šternberk
END:VEVENT
BEGIN:VEVENT
UID:32663139-3037-4165-b138-336163633261
DTSTAMP:20260421T210103Z
DESCRIPTION:17/49 H. Králové - Jihlava B 2:3 (17\,-23\,14\,-23\,-11)
DTSTART;TZID=Europe/Berlin:20260125T100000
DTEND;TZID=Europe/Berlin:20260125T120000
LOCATION:Speciální školy Hradec Králové\, Hradecká 1231 Hradec Králové
SUMMARY:1-U20Z-B: H. Králové-Jihlava B
END:VEVENT
BEGIN:VEVENT
UID:34363766-6663-4937-b764-396464386465
DTSTAMP:20260421T210103Z
DESCRIPTION:18/52 H. Králové - Jihlava B 3:1 (17\,-22\,22\,25)
DTSTART;TZID=Europe/Berlin:20260125T140000
DTEND;TZID=Europe/Berlin:20260125T160000
LOCATION:Speciální školy Hradec Králové\, Hradecká 1231 Hradec Králové
SUMMARY:1-U20Z-B: H. Králové-Jihlava B
END:VEVENT
BEGIN:VEVENT
UID:64626237-3136-4035-b663-313338623037
DTSTAMP:20260421T210103Z
DESCRIPTION:1/2 Nymburk - H. Králové 0:3 (-13\,-17\,-19)
DTSTART;TZID=Europe/Berlin:20250921T100000
DTEND;TZID=Europe/Berlin:20250921T120000
LOCATION:Bios\, V Kolonii 1804 Nymburk
SUMMARY:1-U20Z-B: Nymburk-H. Králové
END:VEVENT
BEGIN:VEVENT
UID:39666438-3264-4431-b837-383163653535
DTSTAMP:20260421T210103Z
DESCRIPTION:2/5 Nymburk - H. Králové 1:3 (-16\,23\,-22\,-18)
DTSTART;TZID=Europe/Berlin:20250921T140000
DTEND;TZID=Europe/Berlin:20250921T160000
LOCATION:Bios\, V Kolonii 1804 Nymburk
SUMMARY:1-U20Z-B: Nymburk-H. Králové
END:VEVENT
BEGIN:VEVENT
UID:66346462-3430-4531-a336-363133363533
DTSTAMP:20260421T210103Z
DESCRIPTION:5/15 Šternberk - H. Králové 2:3 (23\,17\,-17\,-21\,-12)
DTSTART;TZID=Europe/Berlin:20251012T100000
DTEND;TZID=Europe/Berlin:20251012T120000
LOCATION:Slovanské gymnázium Olomouc\, Jiřího z Poděbrad 936 Olomouc
SUMMARY:1-U20Z-B: Šternberk-H. Králové
END:VEVENT
BEGIN:VEVENT
UID:61646561-3130-4965-b666-363066343662
DTSTAMP:20260421T210103Z
DESCRIPTION:6/18 Šternberk - H. Králové 3:0 (21\,21\,16)
DTSTART;TZID=Europe/Berlin:20251012T140000
DTEND;TZID=Europe/Berlin:20251012T160000
LOCATION:Slovanské gymnázium Olomouc\, Jiřího z Poděbrad 936 Olomouc
SUMMARY:1-U20Z-B: Šternberk-H. Králové
END:VEVENT
BEGIN:VEVENT
UID:38663433-3437-4464-a566-323539666362
DTSTAMP:20260421T210103Z
DESCRIPTION:7/19 Jihlava B - H. Králové 1:3 (-18\,-13\,25\,-23)
DTSTART;TZID=Europe/Berlin:20251026T100000
DTEND;TZID=Europe/Berlin:20251026T120000
LOCATION:ZŠ Jihlava Demlova\, Demlova 4178 Jihlava
SUMMARY:1-U20Z-B: Jihlava B-H. Králové
END:VEVENT
BEGIN:VEVENT
UID:34396561-6639-4965-b739-313730653733
DTSTAMP:20260421T210103Z
DESCRIPTION:8/22 Jihlava B - H. Králové 1:3 (-23\,12\,-17\,-24)
DTSTART;TZID=Europe/Berlin:20251026T140000
DTEND;TZID=Europe/Berlin:20251026T160000
LOCATION:ZŠ Jihlava Demlova\, Demlova 4178 Jihlava
SUMMARY:1-U20Z-B: Jihlava B-H. Králové
END:VEVENT
BEGIN:VEVENT
UID:35303138-3030-4432-b135-326565626332
DTSTAMP:20260421T210103Z
DESCRIPTION:13/38 Havlíčkův Brod - H. Králové 1:3 (-18\,-16\,9\,-22)
DTSTART;TZID=Europe/Berlin:20251123T100000
DTEND;TZID=Europe/Berlin:20251123T120000
LOCATION:Sportovní hala TJ Jiskra\, Ledečská 3028 Havlíčkův Brod
SUMMARY:1-U20Z-B: Havlíčkův Brod-H. Králové
END:VEVENT
BEGIN:VEVENT
UID:37383330-3830-4164-a163-636239393166
DTSTAMP:20260421T210103Z
DESCRIPTION:14/41 Havlíčkův Brod - H. Králové 2:3 (10\,-22\,-23\,25\,-8)
DTSTART;TZID=Europe/Berlin:20251123T140000
DTEND;TZID=Europe/Berlin:20251123T160000
LOCATION:Sportovní hala TJ Jiskra\, Ledečská 3028 Havlíčkův Brod
SUMMARY:1-U20Z-B: Havlíčkův Brod-H. Králové
END:VEVENT
BEGIN:VEVENT
UID:33623938-3464-4564-a663-386162306331
DTSTAMP:20260421T210103Z
DESCRIPTION:19/57 Bedřichov - H. Králové 1:3 (-16\,-20\,25\,-21)
DTSTART;TZID=Europe/Berlin:20260201T100000
DTEND;TZID=Europe/Berlin:20260201T120000
LOCATION:TJ Sokol Bedřichov\, Jihlava\, Sokolovská 4656 Jihlava
SUMMARY:1-U20Z-B: Bedřichov-H. Králové
END:VEVENT
BEGIN:VEVENT
UID:64646139-6661-4832-b438-633030316463
DTSTAMP:20260421T210103Z
DESCRIPTION:20/60 Bedřichov - H. Králové 3:1 (-21\,19\,20\,14)
DTSTART;TZID=Europe/Berlin:20260201T140000
DTEND;TZID=Europe/Berlin:20260201T160000
LOCATION:TJ Sokol Bedřichov\, Jihlava\, Sokolovská 4656 Jihlava
SUMMARY:1-U20Z-B: Bedřichov-H. Králové
END:VEVENT
BEGIN:VEVENT
UID:36643863-6633-4534-a233-393031626534
DTSTAMP:20260421T210103Z
DESCRIPTION:3/7 H. Králové - Kometa 3:1 (13\,-23\,25\,15)
DTSTART;TZID=Europe/Berlin:20260222T100000
DTEND;TZID=Europe/Berlin:20260222T120000
LOCATION:TJ Slavia Hradec Králové\, Víta Nejedlého 1216 Hradec Králové
SUMMARY:1-U20Z-I: H. Králové-Kometa
END:VEVENT
BEGIN:VEVENT
UID:32306133-6636-4164-a335-633037393733
DTSTAMP:20260421T210103Z
DESCRIPTION:4/10 H. Králové - Kometa 3:1 (22\,-20\,15\,17)
DTSTART;TZID=Europe/Berlin:20260222T140000
DTEND;TZID=Europe/Berlin:20260222T160000
LOCATION:TJ Slavia Hradec Králové\, Víta Nejedlého 1216 Hradec Králové
SUMMARY:1-U20Z-I: H. Králové-Kometa
END:VEVENT
BEGIN:VEVENT
UID:38323530-6434-4336-a532-623762376265
DTSTAMP:20260421T210103Z
DESCRIPTION:7/21 H. Králové - VK Lvi Praha 3:0 (21\,22\,20)
DTSTART;TZID=Europe/Berlin:20260215T100000
DTEND;TZID=Europe/Berlin:20260215T120000
LOCATION:Speciální školy Hradec Králové\, Hradecká 1231 Hradec Králové
SUMMARY:1-U20Z-I: H. Králové-VK Lvi Praha
END:VEVENT
BEGIN:VEVENT
UID:35356337-3661-4066-b830-303135363430
DTSTAMP:20260421T210103Z
DESCRIPTION:8/24 H. Králové - VK Lvi Praha 1:3 (-20\,-20\,20\,-17)
DTSTART;TZID=Europe/Berlin:20260215T140000
DTEND;TZID=Europe/Berlin:20260215T160000
LOCATION:Speciální školy Hradec Králové\, Hradecká 1231 Hradec Králové
SUMMARY:1-U20Z-I: H. Králové-VK Lvi Praha
END:VEVENT
BEGIN:VEVENT
UID:34373238-3036-4561-b963-336135663036
DTSTAMP:20260421T210103Z
DESCRIPTION:11/31 H. Králové - S V B C 3:2 (-23\,-23\,16\,20\,12)
DTSTART;TZID=Europe/Berlin:20260403T120000
DTEND;TZID=Europe/Berlin:20260403T140000
LOCATION:TJ Slavia Hradec Králové\, Víta Nejedlého 1216 Hradec Králové
SUMMARY:1-U20Z-I: H. Králové-S V B C
END:VEVENT
BEGIN:VEVENT
UID:37663232-3737-4433-b334-656135373064
DTSTAMP:20260421T210103Z
DESCRIPTION:12/34 H. Králové - S V B C 1:3 (18\,-18\,-20\,-17)
DTSTART;TZID=Europe/Berlin:20260403T160000
DTEND;TZID=Europe/Berlin:20260403T180000
LOCATION:TJ Slavia Hradec Králové\, Víta Nejedlého 1216 Hradec Králové
SUMMARY:1-U20Z-I: H. Králové-S V B C
END:VEVENT
BEGIN:VEVENT
UID:64376435-3864-4937-b832-346236653235
DTSTAMP:20260421T210103Z
DESCRIPTION:1/3 VK Lvi Praha - H. Králové 3:1 (-17\,19\,22\,14)
DTSTART;TZID=Europe/Berlin:20260314T110000
DTEND;TZID=Europe/Berlin:20260314T130000
LOCATION:ZŠ Balabenka\, náměstí Na Balabence 800 Praha - Libeň
SUMMARY:1-U20Z-I: VK Lvi Praha-H. Králové
END:VEVENT
BEGIN:VEVENT
UID:63303632-3961-4930-a265-656333323239
DTSTAMP:20260421T210103Z
DESCRIPTION:2/6 VK Lvi Praha - H. Králové 1:3 (-21\,17\,-25\,-25)
DTSTART;TZID=Europe/Berlin:20260314T150000
DTEND;TZID=Europe/Berlin:20260314T170000
LOCATION:ZŠ Balabenka\, náměstí Na Balabence 800 Praha - Libeň
SUMMARY:1-U20Z-I: VK Lvi Praha-H. Králové
END:VEVENT
BEGIN:VEVENT
UID:30633663-3035-4933-a130-613137653265
DTSTAMP:20260421T210103Z
DESCRIPTION:5/13 S V B C - H. Králové 3:1 (19\,18\,-21\,18)
DTSTART;TZID=Europe/Berlin:20260308T110000
DTEND;TZID=Europe/Berlin:20260308T130000
LOCATION:Sportovní hala Řevnice \, Školní 600 Řevnice
SUMMARY:1-U20Z-I: S V B C-H. Králové
END:VEVENT
BEGIN:VEVENT
UID:39363366-6532-4934-b137-383161373435
DTSTAMP:20260421T210103Z
DESCRIPTION:6/16 S V B C - H. Králové 3:0 (14\,16\,23)
DTSTART;TZID=Europe/Berlin:20260308T150000
DTEND;TZID=Europe/Berlin:20260308T170000
LOCATION:Sportovní hala Řevnice \, Školní 600 Řevnice
SUMMARY:1-U20Z-I: S V B C-H. Králové
END:VEVENT
BEGIN:VEVENT
UID:32373165-3038-4337-b236-343361633736
DTSTAMP:20260421T210103Z
DESCRIPTION:9/25 Kometa - H. Králové 3:2 (21\,-17\,14\,-12\,11)
DTSTART;TZID=Europe/Berlin:20260322T100000
DTEND;TZID=Europe/Berlin:20260322T120000
LOCATION:Tělocvična ZŠ Na Šutce\, Na Šutce 440 Praha - Troja
SUMMARY:1-U20Z-I: Kometa-H. Králové
END:VEVENT
BEGIN:VEVENT
UID:35346333-3633-4130-b332-376530626661
DTSTAMP:20260421T210103Z
DESCRIPTION:10/28 Kometa - H. Králové 3:2 (-21\,18\,17\,-23\,13)
DTSTART;TZID=Europe/Berlin:20260322T140000
DTEND;TZID=Europe/Berlin:20260322T160000
LOCATION:Tělocvična ZŠ Na Šutce\, Na Šutce 440 Praha - Troja
SUMMARY:1-U20Z-I: Kometa-H. Králové
END:VEVENT
BEGIN:VEVENT
UID:62633731-6565-4730-b937-373039326566
DTSTAMP:20260421T210103Z
DESCRIPTION:1/6 H. Králové - PlzeňSazama Ladislav
DTSTART;TZID=Europe/Berlin:20260426T120000
DTEND;TZID=Europe/Berlin:20260426T140000
LOCATION:Sportovní hala - SG Plzeň\, Vejprnická 663 Plzeň - Skvrňany
SUMMARY:EX-U20Z-K: H. Králové-Plzeň
END:VEVENT
BEGIN:VEVENT
UID:36613966-6561-4632-b631-383334323935
DTSTAMP:20260421T210103Z
DESCRIPTION:1/2 Přerov - H. KrálovéJanouch Bohumil
DTSTART;TZID=Europe/Berlin:20260425T130000
DTEND;TZID=Europe/Berlin:20260425T150000
LOCATION:Sportovní hala - SG Plzeň\, Vejprnická 663 Plzeň - Skvrňany
SUMMARY:EX-U20Z-K: Přerov-H. Králové
END:VEVENT
BEGIN:VEVENT
UID:39643461-6633-4235-a437-353335313661
DTSTAMP:20260421T210103Z
DESCRIPTION:1/4 S V B C - H. KrálovéSazama Ladislav
DTSTART;TZID=Europe/Berlin:20260425T180000
DTEND;TZID=Europe/Berlin:20260425T200000
LOCATION:Sportovní hala - SG Plzeň\, Vejprnická 663 Plzeň - Skvrňany
SUMMARY:EX-U20Z-K: S V B C-H. Králové
END:VEVENT
END:VCALENDAR
