BEGIN:VCALENDAR
VERSION:2.0
PRODID:-//TJ Junior Brno89963//NONSGML kigkonsult.se iCalcreator 2.41.80//
CALSCALE:GREGORIAN
UID:31656637-3038-4362-b936-393832383464
BEGIN:VEVENT
UID:32306335-3433-4536-a233-383966633333
DTSTAMP:20260422T001302Z
DESCRIPTION:1/1 Junior - Kojetín 1:3 (23\,-20\,-25\,-23)
DTSTART;TZID=Europe/Berlin:20251018T100000
DTEND;TZID=Europe/Berlin:20251018T120000
LOCATION:ZŠ Holzova 1\, Holzova 1461 Brno - Líšeň
SUMMARY:2-U20Z-F: Junior-Kojetín
END:VEVENT
BEGIN:VEVENT
UID:38373636-3037-4931-b766-646431303363
DTSTAMP:20260422T001302Z
DESCRIPTION:2/4 Junior - Kojetín 0:3 (-23\,-22\,-10)
DTSTART;TZID=Europe/Berlin:20251018T140000
DTEND;TZID=Europe/Berlin:20251018T160000
LOCATION:ZŠ Holzova 1\, Holzova 1461 Brno - Líšeň
SUMMARY:2-U20Z-F: Junior-Kojetín
END:VEVENT
BEGIN:VEVENT
UID:33393230-3166-4162-b434-656238643139
DTSTAMP:20260422T001302Z
DESCRIPTION:3/9 Junior - Uh. Hradiště 0:3 (-19\,-17\,-19)
DTSTART;TZID=Europe/Berlin:20251005T100000
DTEND;TZID=Europe/Berlin:20251005T120000
LOCATION:ZŠ Holzova 1\, Holzova 1461 Brno - Líšeň
SUMMARY:2-U20Z-F: Junior-Uh. Hradiště
END:VEVENT
BEGIN:VEVENT
UID:65363662-6330-4532-a132-663030356534
DTSTAMP:20260422T001302Z
DESCRIPTION:4/12 Junior - Uh. Hradiště 0:3 (-17\,-24\,-22)
DTSTART;TZID=Europe/Berlin:20251005T140000
DTEND;TZID=Europe/Berlin:20251005T160000
LOCATION:ZŠ Holzova 1\, Holzova 1461 Brno - Líšeň
SUMMARY:2-U20Z-F: Junior-Uh. Hradiště
END:VEVENT
BEGIN:VEVENT
UID:36376234-6364-4636-b164-643566323531
DTSTAMP:20260422T001302Z
DESCRIPTION:7/20 Junior - Zlín 2:3 (23\,-17\,-20\,23\,-10)
DTSTART;TZID=Europe/Berlin:20251026T100000
DTEND;TZID=Europe/Berlin:20251026T120000
LOCATION:ZŠ Holzova 1\, Holzova 1461 Brno - Líšeň
SUMMARY:2-U20Z-F: Junior-Zlín
END:VEVENT
BEGIN:VEVENT
UID:38366664-3061-4337-a637-616236316134
DTSTAMP:20260422T001302Z
DESCRIPTION:8/23 Junior - Zlín 3:0 (21\,13\,21)
DTSTART;TZID=Europe/Berlin:20251026T140000
DTEND;TZID=Europe/Berlin:20251026T160000
LOCATION:ZŠ Holzova 1\, Holzova 1461 Brno - Líšeň
SUMMARY:2-U20Z-F: Junior-Zlín
END:VEVENT
BEGIN:VEVENT
UID:33383162-6537-4337-b161-313261346533
DTSTAMP:20260422T001302Z
DESCRIPTION:15/44 Junior - Břeclav 3:0 (13\,19\,15)
DTSTART;TZID=Europe/Berlin:20251207T100000
DTEND;TZID=Europe/Berlin:20251207T120000
LOCATION:ZŠ Holzova 1\, Holzova 1461 Brno - Líšeň
SUMMARY:2-U20Z-F: Junior-Břeclav
END:VEVENT
BEGIN:VEVENT
UID:32393666-6137-4234-a464-363564653038
DTSTAMP:20260422T001302Z
DESCRIPTION:16/47 Junior - Břeclav 3:0 (22\,14\,23)
DTSTART;TZID=Europe/Berlin:20251207T140000
DTEND;TZID=Europe/Berlin:20251207T160000
LOCATION:ZŠ Holzova 1\, Holzova 1461 Brno - Líšeň
SUMMARY:2-U20Z-F: Junior-Břeclav
END:VEVENT
BEGIN:VEVENT
UID:34613966-3435-4439-a664-336662643034
DTSTAMP:20260422T001302Z
DESCRIPTION:19/57 Junior - Vyškov 3:0 (21\,21\,16)
DTSTART;TZID=Europe/Berlin:20260201T100000
DTEND;TZID=Europe/Berlin:20260201T120000
LOCATION:ZŠ Holzova 1\, Holzova 1461 Brno - Líšeň
SUMMARY:2-U20Z-F: Junior-Vyškov
END:VEVENT
BEGIN:VEVENT
UID:38646437-3334-4135-b538-393465373365
DTSTAMP:20260422T001302Z
DESCRIPTION:20/60 Junior - Vyškov 3:1 (19\,-19\,16\,13)
DTSTART;TZID=Europe/Berlin:20260201T140000
DTEND;TZID=Europe/Berlin:20260201T160000
LOCATION:ZŠ Holzova 1\, Holzova 1461 Brno - Líšeň
SUMMARY:2-U20Z-F: Junior-Vyškov
END:VEVENT
BEGIN:VEVENT
UID:31383035-6337-4536-a364-623736383861
DTSTAMP:20260422T001302Z
DESCRIPTION:5/14 Břeclav - Junior 3:2 (-22\,18\,16\,-16\,14)
DTSTART;TZID=Europe/Berlin:20251012T100000
DTEND;TZID=Europe/Berlin:20251012T120000
LOCATION:TJ Lokomotiva Břeclav\, Veslařská 2753 Břeclav
SUMMARY:2-U20Z-F: Břeclav-Junior
END:VEVENT
BEGIN:VEVENT
UID:31316636-3962-4636-b065-353330343933
DTSTAMP:20260422T001302Z
DESCRIPTION:6/17 Břeclav - Junior 1:3 (-21\,20\,-20\,-23)
DTSTART;TZID=Europe/Berlin:20251012T140000
DTEND;TZID=Europe/Berlin:20251012T160000
LOCATION:TJ Lokomotiva Břeclav\, Veslařská 2753 Břeclav
SUMMARY:2-U20Z-F: Břeclav-Junior
END:VEVENT
BEGIN:VEVENT
UID:62353639-6530-4662-a165-306534636130
DTSTAMP:20260422T001302Z
DESCRIPTION:9/27 Vyškov - Junior 3:2 (-23\,19\,16\,-16\,5)
DTSTART;TZID=Europe/Berlin:20251102T100000
DTEND;TZID=Europe/Berlin:20251102T120000
LOCATION:Tělocvična ZŠ Nádražní\, Nádražní 5 Vyškov - Vyškov-Město
SUMMARY:2-U20Z-F: Vyškov-Junior
END:VEVENT
BEGIN:VEVENT
UID:64316531-3264-4938-b961-393665613465
DTSTAMP:20260422T001302Z
DESCRIPTION:10/30 Vyškov - Junior 1:3 (-22\,-19\,27\,-19)
DTSTART;TZID=Europe/Berlin:20251102T140000
DTEND;TZID=Europe/Berlin:20251102T160000
LOCATION:Tělocvična ZŠ Nádražní\, Nádražní 5 Vyškov - Vyškov-Město
SUMMARY:2-U20Z-F: Vyškov-Junior
END:VEVENT
BEGIN:VEVENT
UID:36643834-6631-4363-b135-663430623733
DTSTAMP:20260422T001302Z
DESCRIPTION:11/31 Kojetín - Junior 3:0 (17\,16\,15)
DTSTART;TZID=Europe/Berlin:20251019T100000
DTEND;TZID=Europe/Berlin:20251019T120000
LOCATION:Městská sportovní hala\, Hanusíkova 1476 Kojetín - Kojetín I-Město
SUMMARY:2-U20Z-F: Kojetín-Junior
END:VEVENT
BEGIN:VEVENT
UID:38653963-3833-4435-b733-613166663835
DTSTAMP:20260422T001302Z
DESCRIPTION:12/34 Kojetín - Junior 3:0 (18\,17\,23)
DTSTART;TZID=Europe/Berlin:20251019T140000
DTEND;TZID=Europe/Berlin:20251019T160000
LOCATION:Městská sportovní hala\, Hanusíkova 1476 Kojetín - Kojetín I-Město
SUMMARY:2-U20Z-F: Kojetín-Junior
END:VEVENT
BEGIN:VEVENT
UID:36656133-6563-4862-b735-326463623235
DTSTAMP:20260422T001302Z
DESCRIPTION:13/39 Uh. Hradiště - Junior 2:3 (-18\,18\,27\,-16\,-11)
DTSTART;TZID=Europe/Berlin:20251123T100000
DTEND;TZID=Europe/Berlin:20251123T120000
LOCATION:Městská sportovní hala\, Stonky 860 Uherské Hradiště
SUMMARY:2-U20Z-F: Uh. Hradiště-Junior
END:VEVENT
BEGIN:VEVENT
UID:61396337-6164-4931-b562-306163316139
DTSTAMP:20260422T001302Z
DESCRIPTION:14/42 Uh. Hradiště - Junior 1:3 (-23\,19\,-18\,-23)
DTSTART;TZID=Europe/Berlin:20251123T140000
DTEND;TZID=Europe/Berlin:20251123T160000
LOCATION:Městská sportovní hala\, Stonky 860 Uherské Hradiště
SUMMARY:2-U20Z-F: Uh. Hradiště-Junior
END:VEVENT
BEGIN:VEVENT
UID:65303964-3365-4335-a634-366564613564
DTSTAMP:20260422T001302Z
DESCRIPTION:17/50 Zlín - Junior 3:1 (16\,-22\,20\,15)
DTSTART;TZID=Europe/Berlin:20260125T100000
DTEND;TZID=Europe/Berlin:20260125T120000
LOCATION:Sportovní hala Datart Zlín\, U Zimního stadionu 4286 Zlín
SUMMARY:2-U20Z-F: Zlín-Junior
END:VEVENT
BEGIN:VEVENT
UID:39303434-3065-4331-b939-363763396436
DTSTAMP:20260422T001302Z
DESCRIPTION:18/53 Zlín - Junior 3:0 (11\,10\,20)
DTSTART;TZID=Europe/Berlin:20260125T140000
DTEND;TZID=Europe/Berlin:20260125T160000
LOCATION:Sportovní hala Datart Zlín\, U Zimního stadionu 4286 Zlín
SUMMARY:2-U20Z-F: Zlín-Junior
END:VEVENT
BEGIN:VEVENT
UID:36366664-3130-4763-a364-343039323432
DTSTAMP:20260422T001302Z
DESCRIPTION:3/9 Junior - Opava 0:3 (-21\,-23\,-24)
DTSTART;TZID=Europe/Berlin:20260222T100000
DTEND;TZID=Europe/Berlin:20260222T120000
LOCATION:ZŠ Holzova 1\, Holzova 1461 Brno - Líšeň
SUMMARY:2-U20Z-III: Junior-Opava
END:VEVENT
BEGIN:VEVENT
UID:39656434-3335-4964-b561-613063633431
DTSTAMP:20260422T001302Z
DESCRIPTION:4/12 Junior - Opava 3:2 (-18\,12\,18\,-19\,12)
DTSTART;TZID=Europe/Berlin:20260222T140000
DTEND;TZID=Europe/Berlin:20260222T160000
LOCATION:ZŠ Holzova 1\, Holzova 1461 Brno - Líšeň
SUMMARY:2-U20Z-III: Junior-Opava
END:VEVENT
BEGIN:VEVENT
UID:39333339-3532-4133-b536-623639666538
DTSTAMP:20260422T001302Z
DESCRIPTION:7/19 Junior - Val. Meziříčí 0:3 (-12\,-16\,-11)
DTSTART;TZID=Europe/Berlin:20260314T093000
DTEND;TZID=Europe/Berlin:20260314T113000
LOCATION:ZŠ Holzova 1\, Holzova 1461 Brno - Líšeň
SUMMARY:2-U20Z-III: Junior-Val. Meziříčí
END:VEVENT
BEGIN:VEVENT
UID:33663331-3265-4164-b432-626631626434
DTSTAMP:20260422T001302Z
DESCRIPTION:8/22 Junior - Val. Meziříčí 0:3 (-16\,-12\,-16)
DTSTART;TZID=Europe/Berlin:20260314T133000
DTEND;TZID=Europe/Berlin:20260314T153000
LOCATION:ZŠ Holzova 1\, Holzova 1461 Brno - Líšeň
SUMMARY:2-U20Z-III: Junior-Val. Meziříčí
END:VEVENT
BEGIN:VEVENT
UID:31643230-3763-4639-b635-313664366164
DTSTAMP:20260422T001302Z
DESCRIPTION:11/32 Junior - VAM Olomouc 3:1 (23\,-21\,14\,18)
DTSTART;TZID=Europe/Berlin:20260405T100000
DTEND;TZID=Europe/Berlin:20260405T120000
LOCATION:ZŠ Holzova 1\, Holzova 1461 Brno - Líšeň
SUMMARY:2-U20Z-III: Junior-VAM Olomouc
END:VEVENT
BEGIN:VEVENT
UID:32613537-6361-4331-a238-373237373965
DTSTAMP:20260422T001302Z
DESCRIPTION:12/35 Junior - VAM Olomouc 3:2 (-20\,18\,12\,-21\,10)
DTSTART;TZID=Europe/Berlin:20260405T140000
DTEND;TZID=Europe/Berlin:20260405T160000
LOCATION:ZŠ Holzova 1\, Holzova 1461 Brno - Líšeň
SUMMARY:2-U20Z-III: Junior-VAM Olomouc
END:VEVENT
BEGIN:VEVENT
UID:32623662-6335-4162-b061-306661303233
DTSTAMP:20260422T001302Z
DESCRIPTION:1/1 Val. Meziříčí - Junior 3:0 (21\,15\,17)
DTSTART;TZID=Europe/Berlin:20260215T100000
DTEND;TZID=Europe/Berlin:20260215T120000
LOCATION:ZŠ Šafaříkova\, Šafaříkova 726 Valašské Meziříčí
SUMMARY:2-U20Z-III: Val. Meziříčí-Junior
END:VEVENT
BEGIN:VEVENT
UID:37313530-6535-4833-b563-353062363935
DTSTAMP:20260422T001302Z
DESCRIPTION:2/4 Val. Meziříčí - Junior 3:0 (18\,24\,12)
DTSTART;TZID=Europe/Berlin:20260215T140000
DTEND;TZID=Europe/Berlin:20260215T160000
LOCATION:ZŠ Šafaříkova\, Šafaříkova 726 Valašské Meziříčí
SUMMARY:2-U20Z-III: Val. Meziříčí-Junior
END:VEVENT
BEGIN:VEVENT
UID:62303664-6436-4462-a138-623539613433
DTSTAMP:20260422T001302Z
DESCRIPTION:5/14 VAM Olomouc - Junior 3:0 (20\,23\,19)
DTSTART;TZID=Europe/Berlin:20260308T090000
DTEND;TZID=Europe/Berlin:20260308T110000
LOCATION:VOŠ a SPŠE Olomouc\, Božetěchova 755 Olomouc - Hodolany
SUMMARY:2-U20Z-III: VAM Olomouc-Junior
END:VEVENT
BEGIN:VEVENT
UID:33613232-3239-4866-b465-343338646330
DTSTAMP:20260422T001302Z
DESCRIPTION:6/17 VAM Olomouc - Junior 3:2 (-17\,27\,-17\,21\,13)
DTSTART;TZID=Europe/Berlin:20260308T130000
DTEND;TZID=Europe/Berlin:20260308T150000
LOCATION:VOŠ a SPŠE Olomouc\, Božetěchova 755 Olomouc - Hodolany
SUMMARY:2-U20Z-III: VAM Olomouc-Junior
END:VEVENT
BEGIN:VEVENT
UID:33643936-3262-4331-b663-383362313134
DTSTAMP:20260422T001302Z
DESCRIPTION:9/27 Opava - Junior 3:1 (24\,24\,-20\,20)
DTSTART;TZID=Europe/Berlin:20260322T100000
DTEND;TZID=Europe/Berlin:20260322T120000
LOCATION:Sportovní hala Střední školy technické\, Kolofíkovo nábřeží 1062 O
 pava - Kateřinky
SUMMARY:2-U20Z-III: Opava-Junior
END:VEVENT
BEGIN:VEVENT
UID:32396361-3265-4465-b563-663061313836
DTSTAMP:20260422T001302Z
DESCRIPTION:10/30 Opava - Junior 3:0 (25\,18\,18)
DTSTART;TZID=Europe/Berlin:20260322T140000
DTEND;TZID=Europe/Berlin:20260322T160000
LOCATION:Sportovní hala Střední školy technické\, Kolofíkovo nábřeží 1062 O
 pava - Kateřinky
SUMMARY:2-U20Z-III: Opava-Junior
END:VEVENT
END:VCALENDAR
