BEGIN:VCALENDAR
VERSION:2.0
PRODID:-//VK Realistic Karlovy Vary89982//NONSGML kigkonsult.se iCalcreator 2.41.80//
CALSCALE:GREGORIAN
UID:38363531-6562-4236-b265-313339346463
BEGIN:VEVENT
UID:34653064-6638-4662-b863-663335656564
DTSTAMP:20260422T164734Z
DESCRIPTION:1/2 Karlovy Vary - Plzeň B 3:0 (9\,18\,15)
DTSTART;TZID=Europe/Berlin:20250921T100000
DTEND;TZID=Europe/Berlin:20250921T120000
LOCATION:Mattoni Arena Hala míčových sportů\, Západní 1812 Karlovy Vary
SUMMARY:2-U20Z-B: Karlovy Vary-Plzeň B
END:VEVENT
BEGIN:VEVENT
UID:63666163-3764-4330-b731-353164633332
DTSTAMP:20260422T164734Z
DESCRIPTION:2/5 Karlovy Vary - Plzeň B 3:0 (16\,15\,20)
DTSTART;TZID=Europe/Berlin:20250921T140000
DTEND;TZID=Europe/Berlin:20250921T160000
LOCATION:Mattoni Arena Hala míčových sportů\, Západní 1812 Karlovy Vary
SUMMARY:2-U20Z-B: Karlovy Vary-Plzeň B
END:VEVENT
BEGIN:VEVENT
UID:32336436-3939-4130-b433-363935396139
DTSTAMP:20260422T164734Z
DESCRIPTION:5/13 Karlovy Vary - Kladno 3:0 (21\,15\,21)
DTSTART;TZID=Europe/Berlin:20251012T100000
DTEND;TZID=Europe/Berlin:20251012T120000
LOCATION:Mattoni Arena Hala míčových sportů\, Západní 1812 Karlovy Vary
SUMMARY:2-U20Z-B: Karlovy Vary-Kladno
END:VEVENT
BEGIN:VEVENT
UID:33373935-3234-4630-a339-636562343962
DTSTAMP:20260422T164734Z
DESCRIPTION:6/16 Karlovy Vary - Kladno 3:0 (18\,12\,15)
DTSTART;TZID=Europe/Berlin:20251012T140000
DTEND;TZID=Europe/Berlin:20251012T160000
LOCATION:Mattoni Arena Hala míčových sportů\, Západní 1812 Karlovy Vary
SUMMARY:2-U20Z-B: Karlovy Vary-Kladno
END:VEVENT
BEGIN:VEVENT
UID:31326661-6635-4733-b837-383161633434
DTSTAMP:20260422T164734Z
DESCRIPTION:13/39 Karlovy Vary - Hořovice 3:1 (15\,-22\,23\,25)
DTSTART;TZID=Europe/Berlin:20251123T100000
DTEND;TZID=Europe/Berlin:20251123T120000
LOCATION:Hala Tubex\, Západní 1824 Karlovy Vary
SUMMARY:2-U20Z-B: Karlovy Vary-Hořovice
END:VEVENT
BEGIN:VEVENT
UID:61303961-3530-4536-b732-616665336661
DTSTAMP:20260422T164734Z
DESCRIPTION:14/42 Karlovy Vary - Hořovice 3:0 (18\,22\,23)
DTSTART;TZID=Europe/Berlin:20251123T140000
DTEND;TZID=Europe/Berlin:20251123T160000
LOCATION:Hala Tubex\, Západní 1824 Karlovy Vary
SUMMARY:2-U20Z-B: Karlovy Vary-Hořovice
END:VEVENT
BEGIN:VEVENT
UID:64633762-3661-4433-b330-326134363537
DTSTAMP:20260422T164734Z
DESCRIPTION:17/51 Karlovy Vary - Slavia 3:0 (11\,16\,18)
DTSTART;TZID=Europe/Berlin:20260117T100000
DTEND;TZID=Europe/Berlin:20260117T120000
LOCATION:Mattoni Arena Hala míčových sportů\, Západní 1812 Karlovy Vary
SUMMARY:2-U20Z-B: Karlovy Vary-Slavia
END:VEVENT
BEGIN:VEVENT
UID:62343337-6365-4430-b935-633464373264
DTSTAMP:20260422T164734Z
DESCRIPTION:18/54 Karlovy Vary - Slavia 3:1 (-22\,16\,22\,14)
DTSTART;TZID=Europe/Berlin:20260117T140000
DTEND;TZID=Europe/Berlin:20260117T160000
LOCATION:Mattoni Arena Hala míčových sportů\, Západní 1812 Karlovy Vary
SUMMARY:2-U20Z-B: Karlovy Vary-Slavia
END:VEVENT
BEGIN:VEVENT
UID:31306361-3337-4832-b737-366662366135
DTSTAMP:20260422T164734Z
DESCRIPTION:19/56 Karlovy Vary - Jirkov 3:1 (-19\,14\,23\,20)
DTSTART;TZID=Europe/Berlin:20260201T100000
DTEND;TZID=Europe/Berlin:20260201T120000
LOCATION:Mattoni Arena Hala míčových sportů\, Západní 1812 Karlovy Vary
SUMMARY:2-U20Z-B: Karlovy Vary-Jirkov
END:VEVENT
BEGIN:VEVENT
UID:65323765-3135-4738-a538-306337323666
DTSTAMP:20260422T164734Z
DESCRIPTION:20/59 Karlovy Vary - Jirkov 3:1 (21\,-28\,20\,19)
DTSTART;TZID=Europe/Berlin:20260201T140000
DTEND;TZID=Europe/Berlin:20260201T160000
LOCATION:Mattoni Arena Hala míčových sportů\, Západní 1812 Karlovy Vary
SUMMARY:2-U20Z-B: Karlovy Vary-Jirkov
END:VEVENT
BEGIN:VEVENT
UID:66373733-6637-4961-b361-333938366532
DTSTAMP:20260422T164734Z
DESCRIPTION:3/9 Hořovice - Karlovy Vary 0:3 (-16\,-20\,-17)
DTSTART;TZID=Europe/Berlin:20251005T100000
DTEND;TZID=Europe/Berlin:20251005T120000
LOCATION:Sportovní hala\, Ke Stadionu 1385 Hořovice
SUMMARY:2-U20Z-B: Hořovice-Karlovy Vary
END:VEVENT
BEGIN:VEVENT
UID:66666532-6536-4263-b831-393761333337
DTSTAMP:20260422T164734Z
DESCRIPTION:4/12 Hořovice - Karlovy Vary 1:3 (-18\,20\,-19\,-25)
DTSTART;TZID=Europe/Berlin:20251005T140000
DTEND;TZID=Europe/Berlin:20251005T160000
LOCATION:Sportovní hala\, Ke Stadionu 1385 Hořovice
SUMMARY:2-U20Z-B: Hořovice-Karlovy Vary
END:VEVENT
BEGIN:VEVENT
UID:37363834-3133-4834-b162-356262613862
DTSTAMP:20260422T164734Z
DESCRIPTION:7/21 Slavia - Karlovy Vary 1:3 (-14\,-18\,23\,-14)
DTSTART;TZID=Europe/Berlin:20251025T110000
DTEND;TZID=Europe/Berlin:20251025T130000
LOCATION:Jana\, Vladivostocká 1460 Praha - Vršovice
SUMMARY:2-U20Z-B: Slavia-Karlovy Vary
END:VEVENT
BEGIN:VEVENT
UID:65393232-3537-4762-b835-393837373061
DTSTAMP:20260422T164734Z
DESCRIPTION:8/24 Slavia - Karlovy Vary 0:3 (-15\,-21\,-21)
DTSTART;TZID=Europe/Berlin:20251025T150000
DTEND;TZID=Europe/Berlin:20251025T170000
LOCATION:Jana\, Vladivostocká 1460 Praha - Vršovice
SUMMARY:2-U20Z-B: Slavia-Karlovy Vary
END:VEVENT
BEGIN:VEVENT
UID:35366262-3135-4463-b236-333933353534
DTSTAMP:20260422T164734Z
DESCRIPTION:9/26 Jirkov - Karlovy Vary 1:3 (24\,-12\,-23\,-13)
DTSTART;TZID=Europe/Berlin:20251102T100000
DTEND;TZID=Europe/Berlin:20251102T120000
LOCATION:Sportovní hala MG a ZŠ Jirkov\, Krušnohorská 1675 Jirkov
SUMMARY:2-U20Z-B: Jirkov-Karlovy Vary
END:VEVENT
BEGIN:VEVENT
UID:66653463-3835-4730-b535-666564353136
DTSTAMP:20260422T164734Z
DESCRIPTION:10/29 Jirkov - Karlovy Vary 3:0 (18\,14\,22)
DTSTART;TZID=Europe/Berlin:20251102T140000
DTEND;TZID=Europe/Berlin:20251102T160000
LOCATION:Sportovní hala MG a ZŠ Jirkov\, Krušnohorská 1675 Jirkov
SUMMARY:2-U20Z-B: Jirkov-Karlovy Vary
END:VEVENT
BEGIN:VEVENT
UID:62633336-3332-4932-b530-353062346165
DTSTAMP:20260422T164734Z
DESCRIPTION:11/32 Plzeň B - Karlovy Vary 0:3 (-10\,-12\,-13)
DTSTART;TZID=Europe/Berlin:20251109T100000
DTEND;TZID=Europe/Berlin:20251109T120000
LOCATION:Městská sportovní hala  -  hala 2\, Úslavská 2357 Plzeň - Východní
  Předměstí
SUMMARY:2-U20Z-B: Plzeň B-Karlovy Vary
END:VEVENT
BEGIN:VEVENT
UID:33326434-3431-4165-b564-316330326466
DTSTAMP:20260422T164734Z
DESCRIPTION:12/35 Plzeň B - Karlovy Vary 0:3 (-9\,-9\,-19)
DTSTART;TZID=Europe/Berlin:20251109T140000
DTEND;TZID=Europe/Berlin:20251109T160000
LOCATION:Městská sportovní hala  -  hala 2\, Úslavská 2357 Plzeň - Východní
  Předměstí
SUMMARY:2-U20Z-B: Plzeň B-Karlovy Vary
END:VEVENT
BEGIN:VEVENT
UID:37346235-3563-4632-b863-643233616436
DTSTAMP:20260422T164734Z
DESCRIPTION:15/43 Kladno - Karlovy Vary 0:3 (-14\,-20\,-21)
DTSTART;TZID=Europe/Berlin:20251207T100000
DTEND;TZID=Europe/Berlin:20251207T120000
LOCATION:Kladenská sportovní hala\, Sportovců 817 Kladno - Rozdělov
SUMMARY:2-U20Z-B: Kladno-Karlovy Vary
END:VEVENT
BEGIN:VEVENT
UID:39333939-6236-4436-b332-323566346561
DTSTAMP:20260422T164734Z
DESCRIPTION:16/46 Kladno - Karlovy Vary 0:3 (-22\,-22\,-20)
DTSTART;TZID=Europe/Berlin:20251207T140000
DTEND;TZID=Europe/Berlin:20251207T160000
LOCATION:Kladenská sportovní hala\, Sportovců 817 Kladno - Rozdělov
SUMMARY:2-U20Z-B: Kladno-Karlovy Vary
END:VEVENT
BEGIN:VEVENT
UID:38623035-6261-4634-a431-623839383137
DTSTAMP:20260422T164734Z
DESCRIPTION:3/7 Karlovy Vary - Liberec B 3:1 (-16\,14\,16\,22)
DTSTART;TZID=Europe/Berlin:20260222T100000
DTEND;TZID=Europe/Berlin:20260222T120000
LOCATION:Hala Tubex\, Západní 1824 Karlovy Vary
SUMMARY:2-U20Z-I: Karlovy Vary-Liberec B
END:VEVENT
BEGIN:VEVENT
UID:64333765-3739-4330-b963-663362376138
DTSTAMP:20260422T164734Z
DESCRIPTION:4/10 Karlovy Vary - Liberec B 3:0 (22\,24\,19)
DTSTART;TZID=Europe/Berlin:20260222T140000
DTEND;TZID=Europe/Berlin:20260222T160000
LOCATION:Hala Tubex\, Západní 1824 Karlovy Vary
SUMMARY:2-U20Z-I: Karlovy Vary-Liberec B
END:VEVENT
BEGIN:VEVENT
UID:33663832-6231-4737-b636-346435613436
DTSTAMP:20260422T164734Z
DESCRIPTION:7/21 Karlovy Vary - Mělník 3:0 (19\,23\,19)
DTSTART;TZID=Europe/Berlin:20260315T100000
DTEND;TZID=Europe/Berlin:20260315T120000
LOCATION:Mattoni Arena Hala míčových sportů\, Západní 1812 Karlovy Vary
SUMMARY:2-U20Z-I: Karlovy Vary-Mělník
END:VEVENT
BEGIN:VEVENT
UID:36316561-6437-4535-b561-666231333965
DTSTAMP:20260422T164734Z
DESCRIPTION:8/24 Karlovy Vary - Mělník 1:3 (-21\,15\,-24\,-24)
DTSTART;TZID=Europe/Berlin:20260315T140000
DTEND;TZID=Europe/Berlin:20260315T160000
LOCATION:Mattoni Arena Hala míčových sportů\, Západní 1812 Karlovy Vary
SUMMARY:2-U20Z-I: Karlovy Vary-Mělník
END:VEVENT
BEGIN:VEVENT
UID:35343462-3637-4539-b362-336161356462
DTSTAMP:20260422T164734Z
DESCRIPTION:11/31 Karlovy Vary - SKVD Ústí n. L. 3:2 (23\,14\,-16\,-10\,10)
DTSTART;TZID=Europe/Berlin:20260329T100000
DTEND;TZID=Europe/Berlin:20260329T120000
LOCATION:Hala Tubex\, Západní 1824 Karlovy Vary
SUMMARY:2-U20Z-I: Karlovy Vary-SKVD Ústí n. L.
END:VEVENT
BEGIN:VEVENT
UID:39623865-6563-4235-b132-396263623937
DTSTAMP:20260422T164734Z
DESCRIPTION:12/34 Karlovy Vary - SKVD Ústí n. L. 3:1 (-13\,24\,13\,14)
DTSTART;TZID=Europe/Berlin:20260329T140000
DTEND;TZID=Europe/Berlin:20260329T160000
LOCATION:Hala Tubex\, Západní 1824 Karlovy Vary
SUMMARY:2-U20Z-I: Karlovy Vary-SKVD Ústí n. L.
END:VEVENT
BEGIN:VEVENT
UID:66306134-3132-4662-a638-623764653230
DTSTAMP:20260422T164734Z
DESCRIPTION:1/3 Mělník - Karlovy Vary 0:3 (-18\,-14\,-18)
DTSTART;TZID=Europe/Berlin:20260215T100000
DTEND;TZID=Europe/Berlin:20260215T120000
LOCATION:Hala SPŠS - Koktánek\, Pražská 416 Mělník
SUMMARY:2-U20Z-I: Mělník-Karlovy Vary
END:VEVENT
BEGIN:VEVENT
UID:35313962-6537-4530-a339-623963346135
DTSTAMP:20260422T164734Z
DESCRIPTION:2/6 Mělník - Karlovy Vary 3:2 (11\,-23\,-20\,20\,11)
DTSTART;TZID=Europe/Berlin:20260215T140000
DTEND;TZID=Europe/Berlin:20260215T160000
LOCATION:Hala SPŠS - Koktánek\, Pražská 416 Mělník
SUMMARY:2-U20Z-I: Mělník-Karlovy Vary
END:VEVENT
BEGIN:VEVENT
UID:30626639-6436-4932-a466-646133366265
DTSTAMP:20260422T164734Z
DESCRIPTION:5/13 SKVD Ústí n. L. - Karlovy Vary 3:1 (-22\,12\,20\,19)
DTSTART;TZID=Europe/Berlin:20260308T100000
DTEND;TZID=Europe/Berlin:20260308T120000
LOCATION:Střední průmyslová škola strojní a elektro\, Resslova 210 Ústí nad
  Labem - Klíše
SUMMARY:2-U20Z-I: SKVD Ústí n. L.-Karlovy Vary
END:VEVENT
BEGIN:VEVENT
UID:34363536-3430-4438-b163-386166393733
DTSTAMP:20260422T164734Z
DESCRIPTION:6/16 SKVD Ústí n. L. - Karlovy Vary 0:3 (-30\,-12\,-24)
DTSTART;TZID=Europe/Berlin:20260308T140000
DTEND;TZID=Europe/Berlin:20260308T160000
LOCATION:Střední průmyslová škola strojní a elektro\, Resslova 210 Ústí nad
  Labem - Klíše
SUMMARY:2-U20Z-I: SKVD Ústí n. L.-Karlovy Vary
END:VEVENT
BEGIN:VEVENT
UID:66663832-3261-4533-a665-636464393466
DTSTAMP:20260422T164734Z
DESCRIPTION:9/25 Liberec B - Karlovy Vary 3:0 (20\,16\,25)
DTSTART;TZID=Europe/Berlin:20260322T100000
DTEND;TZID=Europe/Berlin:20260322T120000
LOCATION:Městská sportovní hala\, U Přehrady 4747 Jablonec nad Nisou
SUMMARY:2-U20Z-I: Liberec B-Karlovy Vary
END:VEVENT
BEGIN:VEVENT
UID:39363931-3235-4636-b062-323837636236
DTSTAMP:20260422T164734Z
DESCRIPTION:10/28 Liberec B - Karlovy Vary 1:3 (-23\,13\,-23\,-24)
DTSTART;TZID=Europe/Berlin:20260322T140000
DTEND;TZID=Europe/Berlin:20260322T160000
LOCATION:Městská sportovní hala\, U Přehrady 4747 Jablonec nad Nisou
SUMMARY:2-U20Z-I: Liberec B-Karlovy Vary
END:VEVENT
BEGIN:VEVENT
UID:31356166-3530-4831-a361-326532623630
DTSTAMP:20260422T164734Z
DESCRIPTION:1/1 Karlovy Vary - Jihlava C 3:1 (12\,-23\,10\,18)
DTSTART;TZID=Europe/Berlin:20260418T170000
DTEND;TZID=Europe/Berlin:20260418T190000
LOCATION:Mattoni Arena Hala míčových sportů\, Západní 1812 Karlovy Vary
SUMMARY:1-U20Z-KI: Karlovy Vary-Jihlava C
END:VEVENT
BEGIN:VEVENT
UID:61323435-3630-4636-a336-376635313535
DTSTAMP:20260422T164734Z
DESCRIPTION:1/4 Karlovy Vary - Jihlava C 3:0 (14\,16\,24)
DTSTART;TZID=Europe/Berlin:20260419T100000
DTEND;TZID=Europe/Berlin:20260419T120000
LOCATION:Mattoni Arena Hala míčových sportů\, Západní 1812 Karlovy Vary
SUMMARY:1-U20Z-KI: Karlovy Vary-Jihlava C
END:VEVENT
END:VCALENDAR
