BEGIN:VCALENDAR
VERSION:2.0
PRODID:-//SK VOLEJBAL DÍVKY Ústí nad Labem89984//NONSGML kigkonsult.se iCalcreator 2.41.80//
CALSCALE:GREGORIAN
UID:61393536-3065-4130-b139-646263636261
BEGIN:VEVENT
UID:64633135-3830-4662-b866-633963376137
DTSTAMP:20260422T154805Z
DESCRIPTION:5/15 SKVD Ústí n. L. - Teplice 3:0 (17\,22\,18)
DTSTART;TZID=Europe/Berlin:20260118T100000
DTEND;TZID=Europe/Berlin:20260118T120000
LOCATION:Sportovní hala Chabařovice\, V Aleji 400 Chabařovice
SUMMARY:2-U20Z-A: SKVD Ústí n. L.-Teplice
END:VEVENT
BEGIN:VEVENT
UID:35343461-3136-4261-b039-303133383432
DTSTAMP:20260422T154805Z
DESCRIPTION:6/18 SKVD Ústí n. L. - Teplice 3:1 (23\,23\,-23\,12)
DTSTART;TZID=Europe/Berlin:20260118T140000
DTEND;TZID=Europe/Berlin:20260118T160000
LOCATION:Sportovní hala Chabařovice\, V Aleji 400 Chabařovice
SUMMARY:2-U20Z-A: SKVD Ústí n. L.-Teplice
END:VEVENT
BEGIN:VEVENT
UID:34393537-3065-4139-b266-313031653132
DTSTAMP:20260422T154805Z
DESCRIPTION:9/26 SKVD Ústí n. L. - Mělník 3:1 (22\,18\,-18\,24)
DTSTART;TZID=Europe/Berlin:20251102T100000
DTEND;TZID=Europe/Berlin:20251102T120000
LOCATION:Střední průmyslová škola strojní a elektro\, Resslova 210 Ústí nad
  Labem - Klíše
SUMMARY:2-U20Z-A: SKVD Ústí n. L.-Mělník
END:VEVENT
BEGIN:VEVENT
UID:66363863-6632-4561-a639-633437303332
DTSTAMP:20260422T154805Z
DESCRIPTION:10/29 SKVD Ústí n. L. - Mělník 3:2 (21\,-12\,17\,-23\,13)
DTSTART;TZID=Europe/Berlin:20251102T140000
DTEND;TZID=Europe/Berlin:20251102T160000
LOCATION:Střední průmyslová škola strojní a elektro\, Resslova 210 Ústí nad
  Labem - Klíše
SUMMARY:2-U20Z-A: SKVD Ústí n. L.-Mělník
END:VEVENT
BEGIN:VEVENT
UID:36363566-3137-4635-b133-623938373463
DTSTAMP:20260422T154805Z
DESCRIPTION:11/33 SKVD Ústí n. L. - Volejbal Ústí n. L. 3:1 (-18\,17\,22\,2
 2)
DTSTART;TZID=Europe/Berlin:20251109T100000
DTEND;TZID=Europe/Berlin:20251109T120000
LOCATION:Sportovní hala Chabařovice\, V Aleji 400 Chabařovice
SUMMARY:2-U20Z-A: SKVD Ústí n. L.-Volejbal Ústí n. L.
END:VEVENT
BEGIN:VEVENT
UID:31313362-6231-4261-a365-623463363235
DTSTAMP:20260422T154805Z
DESCRIPTION:12/36 SKVD Ústí n. L. - Volejbal Ústí n. L. 3:2 (24\,-18\,-22\,
 14\,11)
DTSTART;TZID=Europe/Berlin:20251109T140000
DTEND;TZID=Europe/Berlin:20251109T160000
LOCATION:Sportovní hala Chabařovice\, V Aleji 400 Chabařovice
SUMMARY:2-U20Z-A: SKVD Ústí n. L.-Volejbal Ústí n. L.
END:VEVENT
BEGIN:VEVENT
UID:35366432-3633-4063-b831-313434663762
DTSTAMP:20260422T154805Z
DESCRIPTION:13/37 SKVD Ústí n. L. - Meteor 2:3 (23\,-12\,21\,-16\,-13)
DTSTART;TZID=Europe/Berlin:20251123T100000
DTEND;TZID=Europe/Berlin:20251123T120000
LOCATION:Sportovní hala Chabařovice\, V Aleji 400 Chabařovice
SUMMARY:2-U20Z-A: SKVD Ústí n. L.-Meteor
END:VEVENT
BEGIN:VEVENT
UID:38323032-6465-4239-b535-396364353632
DTSTAMP:20260422T154805Z
DESCRIPTION:14/40 SKVD Ústí n. L. - Meteor 3:1 (-19\,20\,15\,22)
DTSTART;TZID=Europe/Berlin:20251123T140000
DTEND;TZID=Europe/Berlin:20251123T160000
LOCATION:Sportovní hala Chabařovice\, V Aleji 400 Chabařovice
SUMMARY:2-U20Z-A: SKVD Ústí n. L.-Meteor
END:VEVENT
BEGIN:VEVENT
UID:36313231-3762-4333-a631-666438333739
DTSTAMP:20260422T154805Z
DESCRIPTION:17/50 SKVD Ústí n. L. - Liberec B 3:1 (18\,20\,-24\,21)
DTSTART;TZID=Europe/Berlin:20260125T100000
DTEND;TZID=Europe/Berlin:20260125T120000
LOCATION:Sportovní hala Chabařovice\, V Aleji 400 Chabařovice
SUMMARY:2-U20Z-A: SKVD Ústí n. L.-Liberec B
END:VEVENT
BEGIN:VEVENT
UID:33373166-3136-4366-a562-396230613862
DTSTAMP:20260422T154805Z
DESCRIPTION:18/53 SKVD Ústí n. L. - Liberec B 3:0 (22\,20\,18)
DTSTART;TZID=Europe/Berlin:20260125T140000
DTEND;TZID=Europe/Berlin:20260125T160000
LOCATION:Sportovní hala Chabařovice\, V Aleji 400 Chabařovice
SUMMARY:2-U20Z-A: SKVD Ústí n. L.-Liberec B
END:VEVENT
BEGIN:VEVENT
UID:66383132-6366-4136-b435-383539363039
DTSTAMP:20260422T154805Z
DESCRIPTION:1/3 Volejbal Ústí n. L. - SKVD Ústí n. L. 0:3 (-20\,-19\,-13)
DTSTART;TZID=Europe/Berlin:20250921T100000
DTEND;TZID=Europe/Berlin:20250921T120000
LOCATION:Tělocvična Gymnázia a Střední odborné školy dr. Václava Šmejkala\,
  Stará 3299 Ústí nad Labem - Severní Terasa
SUMMARY:2-U20Z-A: Volejbal Ústí n. L.-SKVD Ústí n. L.
END:VEVENT
BEGIN:VEVENT
UID:63333863-6363-4036-a533-643363303964
DTSTAMP:20260422T154805Z
DESCRIPTION:2/6 Volejbal Ústí n. L. - SKVD Ústí n. L. 2:3 (-24\,20\,-15\,17
 \,-14)
DTSTART;TZID=Europe/Berlin:20250921T140000
DTEND;TZID=Europe/Berlin:20250921T160000
LOCATION:Tělocvična Gymnázia a Střední odborné školy dr. Václava Šmejkala\,
  Stará 3299 Ústí nad Labem - Severní Terasa
SUMMARY:2-U20Z-A: Volejbal Ústí n. L.-SKVD Ústí n. L.
END:VEVENT
BEGIN:VEVENT
UID:30393839-6161-4132-b165-633661666138
DTSTAMP:20260422T154805Z
DESCRIPTION:3/7 Meteor - SKVD Ústí n. L. 3:2 (16\,-22\,30\,-25\,12)
DTSTART;TZID=Europe/Berlin:20260111T110000
DTEND;TZID=Europe/Berlin:20260111T130000
LOCATION:ZŠ Žernosecká\, Žernosecká 1597 Praha - Kobylisy
SUMMARY:2-U20Z-A: Meteor-SKVD Ústí n. L.
END:VEVENT
BEGIN:VEVENT
UID:62316562-3263-4431-b235-633433363632
DTSTAMP:20260422T154805Z
DESCRIPTION:4/10 Meteor - SKVD Ústí n. L. 2:3 (19\,-15\,-20\,24\,-7)
DTSTART;TZID=Europe/Berlin:20260111T150000
DTEND;TZID=Europe/Berlin:20260111T170000
LOCATION:ZŠ Žernosecká\, Žernosecká 1597 Praha - Kobylisy
SUMMARY:2-U20Z-A: Meteor-SKVD Ústí n. L.
END:VEVENT
BEGIN:VEVENT
UID:34336263-6464-4539-b436-373064643432
DTSTAMP:20260422T154805Z
DESCRIPTION:7/20 Liberec B - SKVD Ústí n. L. 2:3 (21\,-18\,-16\,24\,-13)
DTSTART;TZID=Europe/Berlin:20251026T100000
DTEND;TZID=Europe/Berlin:20251026T120000
LOCATION:Městská sportovní hala\, U Přehrady 4747 Jablonec nad Nisou
SUMMARY:2-U20Z-A: Liberec B-SKVD Ústí n. L.
END:VEVENT
BEGIN:VEVENT
UID:66343665-6439-4064-b261-303838303732
DTSTAMP:20260422T154805Z
DESCRIPTION:8/23 Liberec B - SKVD Ústí n. L. 2:3 (-23\,-14\,16\,15\,-18)
DTSTART;TZID=Europe/Berlin:20251026T140000
DTEND;TZID=Europe/Berlin:20251026T160000
LOCATION:Městská sportovní hala\, U Přehrady 4747 Jablonec nad Nisou
SUMMARY:2-U20Z-A: Liberec B-SKVD Ústí n. L.
END:VEVENT
BEGIN:VEVENT
UID:31346661-3332-4565-b631-386566643462
DTSTAMP:20260422T154805Z
DESCRIPTION:15/45 Teplice - SKVD Ústí n. L. 3:1 (21\,-22\,23\,14)
DTSTART;TZID=Europe/Berlin:20260117T100000
DTEND;TZID=Europe/Berlin:20260117T120000
LOCATION:Hotelová škola\, Smetanovo náměstí 786 Teplice - Trnovany
SUMMARY:2-U20Z-A: Teplice-SKVD Ústí n. L.
END:VEVENT
BEGIN:VEVENT
UID:34636232-6130-4531-a236-633630343139
DTSTAMP:20260422T154805Z
DESCRIPTION:16/48 Teplice - SKVD Ústí n. L. 3:2 (-18\,19\,22\,-12\,14)
DTSTART;TZID=Europe/Berlin:20260117T140000
DTEND;TZID=Europe/Berlin:20260117T160000
LOCATION:Hotelová škola\, Smetanovo náměstí 786 Teplice - Trnovany
SUMMARY:2-U20Z-A: Teplice-SKVD Ústí n. L.
END:VEVENT
BEGIN:VEVENT
UID:64626539-6365-4234-a661-386438306561
DTSTAMP:20260422T154805Z
DESCRIPTION:19/56 Mělník - SKVD Ústí n. L. 1:3 (-19\,-19\,21\,-20)
DTSTART;TZID=Europe/Berlin:20260201T090000
DTEND;TZID=Europe/Berlin:20260201T110000
LOCATION:Hala SPŠS - Koktánek\, Pražská 416 Mělník
SUMMARY:2-U20Z-A: Mělník-SKVD Ústí n. L.
END:VEVENT
BEGIN:VEVENT
UID:38643534-3330-4364-b534-373161613537
DTSTAMP:20260422T154805Z
DESCRIPTION:20/59 Mělník - SKVD Ústí n. L. 1:3 (-19\,-15\,18\,-9)
DTSTART;TZID=Europe/Berlin:20260201T130000
DTEND;TZID=Europe/Berlin:20260201T150000
LOCATION:Hala SPŠS - Koktánek\, Pražská 416 Mělník
SUMMARY:2-U20Z-A: Mělník-SKVD Ústí n. L.
END:VEVENT
BEGIN:VEVENT
UID:32626163-6265-4364-b664-376532616466
DTSTAMP:20260422T154805Z
DESCRIPTION:1/1 SKVD Ústí n. L. - Hořovice 3:0 (19\,23\,24)
DTSTART;TZID=Europe/Berlin:20260215T100000
DTEND;TZID=Europe/Berlin:20260215T120000
LOCATION:Střední průmyslová škola strojní a elektro\, Resslova 210 Ústí nad
  Labem - Klíše
SUMMARY:2-U20Z-I: SKVD Ústí n. L.-Hořovice
END:VEVENT
BEGIN:VEVENT
UID:63613063-3834-4163-b933-303462663538
DTSTAMP:20260422T154805Z
DESCRIPTION:2/4 SKVD Ústí n. L. - Hořovice 3:0 (22\,13\,17)
DTSTART;TZID=Europe/Berlin:20260215T140000
DTEND;TZID=Europe/Berlin:20260215T160000
LOCATION:Střední průmyslová škola strojní a elektro\, Resslova 210 Ústí nad
  Labem - Klíše
SUMMARY:2-U20Z-I: SKVD Ústí n. L.-Hořovice
END:VEVENT
BEGIN:VEVENT
UID:39333933-3139-4034-b732-326439303731
DTSTAMP:20260422T154805Z
DESCRIPTION:5/13 SKVD Ústí n. L. - Karlovy Vary 3:1 (-22\,12\,20\,19)
DTSTART;TZID=Europe/Berlin:20260308T100000
DTEND;TZID=Europe/Berlin:20260308T120000
LOCATION:Střední průmyslová škola strojní a elektro\, Resslova 210 Ústí nad
  Labem - Klíše
SUMMARY:2-U20Z-I: SKVD Ústí n. L.-Karlovy Vary
END:VEVENT
BEGIN:VEVENT
UID:63333236-3264-4564-a139-626265326666
DTSTAMP:20260422T154805Z
DESCRIPTION:6/16 SKVD Ústí n. L. - Karlovy Vary 0:3 (-30\,-12\,-24)
DTSTART;TZID=Europe/Berlin:20260308T140000
DTEND;TZID=Europe/Berlin:20260308T160000
LOCATION:Střední průmyslová škola strojní a elektro\, Resslova 210 Ústí nad
  Labem - Klíše
SUMMARY:2-U20Z-I: SKVD Ústí n. L.-Karlovy Vary
END:VEVENT
BEGIN:VEVENT
UID:63376563-3130-4563-b137-336239633232
DTSTAMP:20260422T154805Z
DESCRIPTION:9/26 SKVD Ústí n. L. - Jirkov 3:2 (21\,-16\,15\,-20\,8)
DTSTART;TZID=Europe/Berlin:20260322T110000
DTEND;TZID=Europe/Berlin:20260322T130000
LOCATION:Střední průmyslová škola strojní a elektro\, Resslova 210 Ústí nad
  Labem - Klíše
SUMMARY:2-U20Z-I: SKVD Ústí n. L.-Jirkov
END:VEVENT
BEGIN:VEVENT
UID:63306263-6336-4932-a336-656234316564
DTSTAMP:20260422T154805Z
DESCRIPTION:10/29 SKVD Ústí n. L. - Jirkov 3:0 (23\,16\,11)
DTSTART;TZID=Europe/Berlin:20260322T150000
DTEND;TZID=Europe/Berlin:20260322T170000
LOCATION:Střední průmyslová škola strojní a elektro\, Resslova 210 Ústí nad
  Labem - Klíše
SUMMARY:2-U20Z-I: SKVD Ústí n. L.-Jirkov
END:VEVENT
BEGIN:VEVENT
UID:37343431-6431-4436-b665-363933313439
DTSTAMP:20260422T154805Z
DESCRIPTION:3/8 Jirkov - SKVD Ústí n. L. 3:1 (-16\,19\,13\,20)
DTSTART;TZID=Europe/Berlin:20260222T100000
DTEND;TZID=Europe/Berlin:20260222T120000
LOCATION:Sportovní hala MG a ZŠ Jirkov\, Krušnohorská 1675 Jirkov
SUMMARY:2-U20Z-I: Jirkov-SKVD Ústí n. L.
END:VEVENT
BEGIN:VEVENT
UID:30393337-6534-4565-a535-373135366366
DTSTAMP:20260422T154805Z
DESCRIPTION:4/11 Jirkov - SKVD Ústí n. L. 1:3 (-20\,14\,-23\,-20)
DTSTART;TZID=Europe/Berlin:20260222T140000
DTEND;TZID=Europe/Berlin:20260222T160000
LOCATION:Sportovní hala MG a ZŠ Jirkov\, Krušnohorská 1675 Jirkov
SUMMARY:2-U20Z-I: Jirkov-SKVD Ústí n. L.
END:VEVENT
BEGIN:VEVENT
UID:30363061-3633-4835-b634-343866643662
DTSTAMP:20260422T154805Z
DESCRIPTION:7/19 Hořovice - SKVD Ústí n. L. 0:3 (-13\,-15\,-24)
DTSTART;TZID=Europe/Berlin:20260315T100000
DTEND;TZID=Europe/Berlin:20260315T120000
LOCATION:Sportovní hala\, Ke Stadionu 1385 Hořovice
SUMMARY:2-U20Z-I: Hořovice-SKVD Ústí n. L.
END:VEVENT
BEGIN:VEVENT
UID:39326461-3236-4733-b438-626131623263
DTSTAMP:20260422T154805Z
DESCRIPTION:8/22 Hořovice - SKVD Ústí n. L. 0:3 (-23\,-25\,-18)
DTSTART;TZID=Europe/Berlin:20260315T140000
DTEND;TZID=Europe/Berlin:20260315T160000
LOCATION:Sportovní hala\, Ke Stadionu 1385 Hořovice
SUMMARY:2-U20Z-I: Hořovice-SKVD Ústí n. L.
END:VEVENT
BEGIN:VEVENT
UID:63323936-3361-4961-b931-363839376538
DTSTAMP:20260422T154805Z
DESCRIPTION:11/31 Karlovy Vary - SKVD Ústí n. L. 3:2 (23\,14\,-16\,-10\,10)
DTSTART;TZID=Europe/Berlin:20260329T100000
DTEND;TZID=Europe/Berlin:20260329T120000
LOCATION:Hala Tubex\, Západní 1824 Karlovy Vary
SUMMARY:2-U20Z-I: Karlovy Vary-SKVD Ústí n. L.
END:VEVENT
BEGIN:VEVENT
UID:39343932-6330-4433-a264-666435653831
DTSTAMP:20260422T154805Z
DESCRIPTION:12/34 Karlovy Vary - SKVD Ústí n. L. 3:1 (-13\,24\,13\,14)
DTSTART;TZID=Europe/Berlin:20260329T140000
DTEND;TZID=Europe/Berlin:20260329T160000
LOCATION:Hala Tubex\, Západní 1824 Karlovy Vary
SUMMARY:2-U20Z-I: Karlovy Vary-SKVD Ústí n. L.
END:VEVENT
END:VCALENDAR
