BEGIN:VCALENDAR
VERSION:2.0
PRODID:-//TJ Sokol Šlapanice90022//NONSGML kigkonsult.se iCalcreator 2.41.80//
CALSCALE:GREGORIAN
UID:61613732-3031-4737-b632-616436633964
BEGIN:VEVENT
UID:31643239-6431-4532-b662-356334376635
DTSTAMP:20260423T030550Z
DESCRIPTION:1/2 Šlapanice - Ostrava 3:0 (13\,14\,15)
DTSTART;TZID=Europe/Berlin:20251004T100000
DTEND;TZID=Europe/Berlin:20251004T120000
LOCATION:ZŠ Na Zahrádkách \, Na Zahrádkách 1716 Šlapanice
SUMMARY:1-U18M-B: Šlapanice-Ostrava
END:VEVENT
BEGIN:VEVENT
UID:64396135-3031-4161-b032-363966616266
DTSTAMP:20260423T030550Z
DESCRIPTION:2/5 Šlapanice - Ostrava 3:1 (18\,-16\,17\,14)
DTSTART;TZID=Europe/Berlin:20251004T140000
DTEND;TZID=Europe/Berlin:20251004T160000
LOCATION:ZŠ Na Zahrádkách \, Na Zahrádkách 1716 Šlapanice
SUMMARY:1-U18M-B: Šlapanice-Ostrava
END:VEVENT
BEGIN:VEVENT
UID:30386563-6465-4132-b634-366236323861
DTSTAMP:20260423T030550Z
DESCRIPTION:5/13 Šlapanice - Svitavy 3:0 (22\,11\,17)
DTSTART;TZID=Europe/Berlin:20251230T100000
DTEND;TZID=Europe/Berlin:20251230T120000
LOCATION:ZŠ Na Zahrádkách \, Na Zahrádkách 1716 Šlapanice
SUMMARY:1-U18M-B: Šlapanice-Svitavy
END:VEVENT
BEGIN:VEVENT
UID:32643365-3439-4239-b630-613361356132
DTSTAMP:20260423T030550Z
DESCRIPTION:6/16 Šlapanice - Svitavy 3:0 (16\,22\,20)
DTSTART;TZID=Europe/Berlin:20251230T130000
DTEND;TZID=Europe/Berlin:20251230T150000
LOCATION:ZŠ Na Zahrádkách \, Na Zahrádkách 1716 Šlapanice
SUMMARY:1-U18M-B: Šlapanice-Svitavy
END:VEVENT
BEGIN:VEVENT
UID:64383561-3131-4562-b863-303036623362
DTSTAMP:20260423T030550Z
DESCRIPTION:7/21 Šlapanice - Letovice 0:3 (-20\,-21\,-21)
DTSTART;TZID=Europe/Berlin:20251026T100000
DTEND;TZID=Europe/Berlin:20251026T120000
LOCATION:ZŠ Na Zahrádkách \, Na Zahrádkách 1716 Šlapanice
SUMMARY:1-U18M-B: Šlapanice-Letovice
END:VEVENT
BEGIN:VEVENT
UID:64346261-6636-4762-b365-396230666231
DTSTAMP:20260423T030550Z
DESCRIPTION:8/24 Šlapanice - Letovice 3:2 (19\,-23\,-18\,14\,12)
DTSTART;TZID=Europe/Berlin:20251026T130000
DTEND;TZID=Europe/Berlin:20251026T150000
LOCATION:ZŠ Na Zahrádkách \, Na Zahrádkách 1716 Šlapanice
SUMMARY:1-U18M-B: Šlapanice-Letovice
END:VEVENT
BEGIN:VEVENT
UID:33623234-3861-4664-a138-396164353730
DTSTAMP:20260423T030550Z
DESCRIPTION:13/39 Šlapanice - Šumperk 3:1 (-17\,12\,14\,14)
DTSTART;TZID=Europe/Berlin:20251206T110000
DTEND;TZID=Europe/Berlin:20251206T130000
LOCATION:ZŠ Na Zahrádkách \, Na Zahrádkách 1716 Šlapanice
SUMMARY:1-U18M-B: Šlapanice-Šumperk
END:VEVENT
BEGIN:VEVENT
UID:30626330-6663-4364-a333-323233336630
DTSTAMP:20260423T030550Z
DESCRIPTION:14/42 Šlapanice - Šumperk 2:3 (-27\,10\,-30\,22\,-7)
DTSTART;TZID=Europe/Berlin:20251206T140000
DTEND;TZID=Europe/Berlin:20251206T160000
LOCATION:ZŠ Na Zahrádkách \, Na Zahrádkách 1716 Šlapanice
SUMMARY:1-U18M-B: Šlapanice-Šumperk
END:VEVENT
BEGIN:VEVENT
UID:61323533-3666-4532-b835-636234353964
DTSTAMP:20260423T030550Z
DESCRIPTION:19/56 Šlapanice - Olomouc 3:0 (11\,12\,16)
DTSTART;TZID=Europe/Berlin:20260117T100000
DTEND;TZID=Europe/Berlin:20260117T120000
LOCATION:ZŠ Na Zahrádkách \, Na Zahrádkách 1716 Šlapanice
SUMMARY:1-U18M-B: Šlapanice-Olomouc
END:VEVENT
BEGIN:VEVENT
UID:61376136-3132-4366-b538-316332633664
DTSTAMP:20260423T030550Z
DESCRIPTION:20/59 Šlapanice - Olomouc 3:0 (21\,17\,21)
DTSTART;TZID=Europe/Berlin:20260117T140000
DTEND;TZID=Europe/Berlin:20260117T160000
LOCATION:ZŠ Na Zahrádkách \, Na Zahrádkách 1716 Šlapanice
SUMMARY:1-U18M-B: Šlapanice-Olomouc
END:VEVENT
BEGIN:VEVENT
UID:65383863-3963-4965-b832-336432366564
DTSTAMP:20260423T030550Z
DESCRIPTION:3/9 Šumperk - Šlapanice 1:3 (-18\,21\,-16\,-22)
DTSTART;TZID=Europe/Berlin:20251005T100000
DTEND;TZID=Europe/Berlin:20251005T120000
LOCATION:3. ZŠ Šumperk\, 8. května 870 Šumperk
SUMMARY:1-U18M-B: Šumperk-Šlapanice
END:VEVENT
BEGIN:VEVENT
UID:36643130-3732-4464-a432-336333393966
DTSTAMP:20260423T030550Z
DESCRIPTION:4/12 Šumperk - Šlapanice 3:1 (21\,-19\,22\,23)
DTSTART;TZID=Europe/Berlin:20251005T140000
DTEND;TZID=Europe/Berlin:20251005T160000
LOCATION:3. ZŠ Šumperk\, 8. května 870 Šumperk
SUMMARY:1-U18M-B: Šumperk-Šlapanice
END:VEVENT
BEGIN:VEVENT
UID:32383836-6530-4664-b861-376239386338
DTSTAMP:20260423T030550Z
DESCRIPTION:9/26 Olomouc - Šlapanice 0:3 (-15\,-10\,-20)
DTSTART;TZID=Europe/Berlin:20251115T100000
DTEND;TZID=Europe/Berlin:20251115T120000
LOCATION:VOŠ a SPŠE Olomouc\, Božetěchova 755 Olomouc - Hodolany
SUMMARY:1-U18M-B: Olomouc-Šlapanice
END:VEVENT
BEGIN:VEVENT
UID:37393931-6663-4339-b939-383262326333
DTSTAMP:20260423T030550Z
DESCRIPTION:10/29 Olomouc - Šlapanice 1:3 (25\,-16\,-12\,-17)
DTSTART;TZID=Europe/Berlin:20251115T140000
DTEND;TZID=Europe/Berlin:20251115T160000
LOCATION:VOŠ a SPŠE Olomouc\, Božetěchova 755 Olomouc - Hodolany
SUMMARY:1-U18M-B: Olomouc-Šlapanice
END:VEVENT
BEGIN:VEVENT
UID:31616536-3238-4964-a564-353032393661
DTSTAMP:20260423T030550Z
DESCRIPTION:11/32 Ostrava - Šlapanice 1:3 (22\,-17\,-12\,-24)
DTSTART;TZID=Europe/Berlin:20251123T100000
DTEND;TZID=Europe/Berlin:20251123T120000
LOCATION:SŠSS Krakovská \, Krakovská 1095 Ostrava - Hrabůvka
SUMMARY:1-U18M-B: Ostrava-Šlapanice
END:VEVENT
BEGIN:VEVENT
UID:38633065-3833-4462-a364-356163326562
DTSTAMP:20260423T030550Z
DESCRIPTION:12/35 Ostrava - Šlapanice 1:3 (-19\,21\,-17\,-21)
DTSTART;TZID=Europe/Berlin:20251123T140000
DTEND;TZID=Europe/Berlin:20251123T160000
LOCATION:SŠSS Krakovská \, Krakovská 1095 Ostrava - Hrabůvka
SUMMARY:1-U18M-B: Ostrava-Šlapanice
END:VEVENT
BEGIN:VEVENT
UID:61633135-6431-4339-a564-343063376132
DTSTAMP:20260423T030550Z
DESCRIPTION:15/43 Svitavy - Šlapanice 3:0 (17\,22\,21)
DTSTART;TZID=Europe/Berlin:20251214T100000
DTEND;TZID=Europe/Berlin:20251214T120000
LOCATION:Sportovní hala Na Střelnici\, Pražská 2162 Svitavy - Předměstí
SUMMARY:1-U18M-B: Svitavy-Šlapanice
END:VEVENT
BEGIN:VEVENT
UID:32373863-6262-4462-b061-633230633338
DTSTAMP:20260423T030550Z
DESCRIPTION:16/46 Svitavy - Šlapanice 3:1 (-18\,25\,24\,17)
DTSTART;TZID=Europe/Berlin:20251214T140000
DTEND;TZID=Europe/Berlin:20251214T160000
LOCATION:Sportovní hala Na Střelnici\, Pražská 2162 Svitavy - Předměstí
SUMMARY:1-U18M-B: Svitavy-Šlapanice
END:VEVENT
BEGIN:VEVENT
UID:38626161-6538-4766-a165-623934366266
DTSTAMP:20260423T030550Z
DESCRIPTION:17/51 Letovice - Šlapanice 3:0 (22\,21\,19)
DTSTART;TZID=Europe/Berlin:20260110T090000
DTEND;TZID=Europe/Berlin:20260110T110000
LOCATION:Sportovní hala Letovice\, V zahradách 831 Letovice
SUMMARY:1-U18M-B: Letovice-Šlapanice
END:VEVENT
BEGIN:VEVENT
UID:66363637-6362-4935-a631-363234653165
DTSTAMP:20260423T030550Z
DESCRIPTION:18/54 Letovice - Šlapanice 0:3 (-21\,-13\,-23)
DTSTART;TZID=Europe/Berlin:20260110T130000
DTEND;TZID=Europe/Berlin:20260110T150000
LOCATION:Sportovní hala Letovice\, V zahradách 831 Letovice
SUMMARY:1-U18M-B: Letovice-Šlapanice
END:VEVENT
BEGIN:VEVENT
UID:62336366-3137-4539-a338-633564666430
DTSTAMP:20260423T030550Z
DESCRIPTION:3/5 Šlapanice - Choceň 3:1 (22\,-23\,25\,22)
DTSTART;TZID=Europe/Berlin:20260201T110000
DTEND;TZID=Europe/Berlin:20260201T130000
LOCATION:ZŠ Na Zahrádkách \, Na Zahrádkách 1716 Šlapanice
SUMMARY:1-U18M-I: Šlapanice-Choceň
END:VEVENT
BEGIN:VEVENT
UID:38656335-3533-4136-b633-303562613335
DTSTAMP:20260423T030550Z
DESCRIPTION:4/7 Šlapanice - Choceň 0:3 (-19\,-19\,-12)
DTSTART;TZID=Europe/Berlin:20260201T150000
DTEND;TZID=Europe/Berlin:20260201T170000
LOCATION:ZŠ Na Zahrádkách \, Na Zahrádkách 1716 Šlapanice
SUMMARY:1-U18M-I: Šlapanice-Choceň
END:VEVENT
BEGIN:VEVENT
UID:35663631-6364-4337-b831-613037643636
DTSTAMP:20260423T030550Z
DESCRIPTION:7/14 Šlapanice - H. Brod 3:2 (-23\,-18\,17\,28\,13)
DTSTART;TZID=Europe/Berlin:20260307T110000
DTEND;TZID=Europe/Berlin:20260307T130000
LOCATION:ZŠ Na Zahrádkách \, Na Zahrádkách 1716 Šlapanice
SUMMARY:1-U18M-I: Šlapanice-H. Brod
END:VEVENT
BEGIN:VEVENT
UID:31323139-3161-4366-b532-363733303239
DTSTAMP:20260423T030550Z
DESCRIPTION:8/16 Šlapanice - H. Brod 3:2 (-21\,25\,-17\,17\,13)
DTSTART;TZID=Europe/Berlin:20260307T150000
DTEND;TZID=Europe/Berlin:20260307T170000
LOCATION:ZŠ Na Zahrádkách \, Na Zahrádkách 1716 Šlapanice
SUMMARY:1-U18M-I: Šlapanice-H. Brod
END:VEVENT
BEGIN:VEVENT
UID:30343134-3939-4833-a331-633339636235
DTSTAMP:20260423T030550Z
DESCRIPTION:1/2 H. Brod - Šlapanice 2:3 (16\,19\,-16\,-24\,-11)
DTSTART;TZID=Europe/Berlin:20260207T100000
DTEND;TZID=Europe/Berlin:20260207T120000
LOCATION:Sportovní hala TJ Jiskra\, Ledečská 3028 Havlíčkův Brod
SUMMARY:1-U18M-I: H. Brod-Šlapanice
END:VEVENT
BEGIN:VEVENT
UID:30386236-3838-4066-b536-323037626639
DTSTAMP:20260423T030550Z
DESCRIPTION:2/4 H. Brod - Šlapanice 2:3 (27\,-26\,22\,-17\,-12)
DTSTART;TZID=Europe/Berlin:20260207T140000
DTEND;TZID=Europe/Berlin:20260207T160000
LOCATION:Sportovní hala TJ Jiskra\, Ledečská 3028 Havlíčkův Brod
SUMMARY:1-U18M-I: H. Brod-Šlapanice
END:VEVENT
BEGIN:VEVENT
UID:39366439-3562-4533-b862-656561303061
DTSTAMP:20260423T030550Z
DESCRIPTION:5/10 Choceň - Šlapanice 3:2 (21\,-24\,17\,-23\,11)
DTSTART;TZID=Europe/Berlin:20260328T110000
DTEND;TZID=Europe/Berlin:20260328T130000
LOCATION:Volejbalová hala \, U Koupaliště 1734 Choceň
SUMMARY:1-U18M-I: Choceň-Šlapanice
END:VEVENT
BEGIN:VEVENT
UID:39333738-6335-4334-b963-376431323535
DTSTAMP:20260423T030550Z
DESCRIPTION:6/12 Choceň - Šlapanice 3:1 (-22\,20\,18\,20)
DTSTART;TZID=Europe/Berlin:20260328T150000
DTEND;TZID=Europe/Berlin:20260328T170000
LOCATION:Volejbalová hala \, U Koupaliště 1734 Choceň
SUMMARY:1-U18M-I: Choceň-Šlapanice
END:VEVENT
BEGIN:VEVENT
UID:64373031-6231-4634-b838-643032356135
DTSTAMP:20260423T030550Z
DESCRIPTION:1/4 Šlapanice - ChoceňGrabovský Zdeněk
DTSTART;TZID=Europe/Berlin:20260516T170000
DTEND;TZID=Europe/Berlin:20260516T190000
LOCATION:Hala ABC\, Purkyňova 116 Nový Jičín
SUMMARY:EX-U18M-K: Šlapanice-Choceň
END:VEVENT
BEGIN:VEVENT
UID:39326531-3932-4463-b566-356533343739
DTSTAMP:20260423T030550Z
DESCRIPTION:1/5 Šlapanice - KarlovarskoGrabovský Zdeněk
DTSTART;TZID=Europe/Berlin:20260517T100000
DTEND;TZID=Europe/Berlin:20260517T120000
LOCATION:Hala ABC\, Purkyňova 116 Nový Jičín
SUMMARY:EX-U18M-K: Šlapanice-Karlovarsko
END:VEVENT
BEGIN:VEVENT
UID:33623963-3733-4663-b534-393865313665
DTSTAMP:20260423T030550Z
DESCRIPTION:1/1 Nový Jičín - ŠlapaniceGrabovský Zdeněk
DTSTART;TZID=Europe/Berlin:20260516T100000
DTEND;TZID=Europe/Berlin:20260516T120000
LOCATION:Hala ABC\, Purkyňova 116 Nový Jičín
SUMMARY:EX-U18M-K: Nový Jičín-Šlapanice
END:VEVENT
END:VCALENDAR
