BEGIN:VCALENDAR
VERSION:2.0
PRODID:-//Volejbalový klub Jirkov90032//NONSGML kigkonsult.se iCalcreator 2.41.80//
CALSCALE:GREGORIAN
UID:31633736-3834-4163-b937-356534343965
BEGIN:VEVENT
UID:36326132-6438-4431-b437-373238643038
DTSTAMP:20260422T093617Z
DESCRIPTION:3/7 Jirkov - Kometa 0:3 (-14\,-12\,-21)
DTSTART;TZID=Europe/Berlin:20251004T100000
DTEND;TZID=Europe/Berlin:20251004T120000
LOCATION:Sportovní hala MG a ZŠ Jirkov\, Krušnohorská 1675 Jirkov
SUMMARY:1-U18Z-A: Jirkov-Kometa
END:VEVENT
BEGIN:VEVENT
UID:33323365-3763-4166-b161-373630303831
DTSTAMP:20260422T093617Z
DESCRIPTION:4/10 Jirkov - Kometa 1:3 (-19\,23\,-17\,-16)
DTSTART;TZID=Europe/Berlin:20251004T140000
DTEND;TZID=Europe/Berlin:20251004T160000
LOCATION:Sportovní hala MG a ZŠ Jirkov\, Krušnohorská 1675 Jirkov
SUMMARY:1-U18Z-A: Jirkov-Kometa
END:VEVENT
BEGIN:VEVENT
UID:30326538-3362-4863-a233-613234363637
DTSTAMP:20260422T093617Z
DESCRIPTION:7/19 Jirkov - Karlovy Vary 2:3 (-19\,20\,-21\,19\,-10)
DTSTART;TZID=Europe/Berlin:20251025T100000
DTEND;TZID=Europe/Berlin:20251025T120000
LOCATION:Sportovní hala MG a ZŠ Jirkov\, Krušnohorská 1675 Jirkov
SUMMARY:1-U18Z-A: Jirkov-Karlovy Vary
END:VEVENT
BEGIN:VEVENT
UID:66626333-3235-4163-b434-386436323132
DTSTAMP:20260422T093617Z
DESCRIPTION:8/22 Jirkov - Karlovy Vary 3:0 (19\,15\,20)
DTSTART;TZID=Europe/Berlin:20251025T140000
DTEND;TZID=Europe/Berlin:20251025T160000
LOCATION:Sportovní hala MG a ZŠ Jirkov\, Krušnohorská 1675 Jirkov
SUMMARY:1-U18Z-A: Jirkov-Karlovy Vary
END:VEVENT
BEGIN:VEVENT
UID:61353830-6464-4132-b332-353161363934
DTSTAMP:20260422T093617Z
DESCRIPTION:11/31 Jirkov - Mikulova 3:0 (18\,23\,17)
DTSTART;TZID=Europe/Berlin:20251108T100000
DTEND;TZID=Europe/Berlin:20251108T120000
LOCATION:Sportovní hala MG a ZŠ Jirkov\, Krušnohorská 1675 Jirkov
SUMMARY:1-U18Z-A: Jirkov-Mikulova
END:VEVENT
BEGIN:VEVENT
UID:65636266-3235-4162-a230-623835346334
DTSTAMP:20260422T093617Z
DESCRIPTION:12/34 Jirkov - Mikulova 3:0 (18\,18\,17)
DTSTART;TZID=Europe/Berlin:20251108T140000
DTEND;TZID=Europe/Berlin:20251108T160000
LOCATION:Sportovní hala MG a ZŠ Jirkov\, Krušnohorská 1675 Jirkov
SUMMARY:1-U18Z-A: Jirkov-Mikulova
END:VEVENT
BEGIN:VEVENT
UID:39356539-6361-4164-b066-343737363663
DTSTAMP:20260422T093617Z
DESCRIPTION:15/43 Jirkov - Č. Budějovice 0:3 (-24\,-20\,-21)
DTSTART;TZID=Europe/Berlin:20251206T100000
DTEND;TZID=Europe/Berlin:20251206T120000
LOCATION:Sportovní hala MG a ZŠ Jirkov\, Krušnohorská 1675 Jirkov
SUMMARY:1-U18Z-A: Jirkov-Č. Budějovice
END:VEVENT
BEGIN:VEVENT
UID:36356633-6235-4631-b235-353434393665
DTSTAMP:20260422T093617Z
DESCRIPTION:16/46 Jirkov - Č. Budějovice 0:3 (-21\,-20\,-21)
DTSTART;TZID=Europe/Berlin:20251206T140000
DTEND;TZID=Europe/Berlin:20251206T160000
LOCATION:Sportovní hala MG a ZŠ Jirkov\, Krušnohorská 1675 Jirkov
SUMMARY:1-U18Z-A: Jirkov-Č. Budějovice
END:VEVENT
BEGIN:VEVENT
UID:34626461-6333-4366-b066-373539333431
DTSTAMP:20260422T093617Z
DESCRIPTION:19/55 Jirkov - Střešovice 3:0 (16\,23\,25)
DTSTART;TZID=Europe/Berlin:20260131T100000
DTEND;TZID=Europe/Berlin:20260131T120000
LOCATION:Sportovní hala MG a ZŠ Jirkov\, Krušnohorská 1675 Jirkov
SUMMARY:1-U18Z-A: Jirkov-Střešovice
END:VEVENT
BEGIN:VEVENT
UID:33353263-3262-4564-a362-356635353838
DTSTAMP:20260422T093617Z
DESCRIPTION:20/58 Jirkov - Střešovice 0:3 (-23\,-15\,-20)
DTSTART;TZID=Europe/Berlin:20260131T140000
DTEND;TZID=Europe/Berlin:20260131T160000
LOCATION:Sportovní hala MG a ZŠ Jirkov\, Krušnohorská 1675 Jirkov
SUMMARY:1-U18Z-A: Jirkov-Střešovice
END:VEVENT
BEGIN:VEVENT
UID:35363164-3735-4138-b536-303931366435
DTSTAMP:20260422T093617Z
DESCRIPTION:1/1 Mikulova - Jirkov 1:3 (-22\,20\,-23\,-25)
DTSTART;TZID=Europe/Berlin:20250920T100000
DTEND;TZID=Europe/Berlin:20250920T120000
LOCATION:Sportovní hala DDM Praha 12 - Monet\, Herrmannova 2016 Praha - Mod
 řany
SUMMARY:1-U18Z-A: Mikulova-Jirkov
END:VEVENT
BEGIN:VEVENT
UID:35303337-6563-4935-b732-636563346365
DTSTAMP:20260422T093617Z
DESCRIPTION:2/4 Mikulova - Jirkov 2:3 (-21\,21\,24\,-23\,-6)
DTSTART;TZID=Europe/Berlin:20250920T140000
DTEND;TZID=Europe/Berlin:20250920T160000
LOCATION:Sportovní hala DDM Praha 12 - Monet\, Herrmannova 2016 Praha - Mod
 řany
SUMMARY:1-U18Z-A: Mikulova-Jirkov
END:VEVENT
BEGIN:VEVENT
UID:30346237-3365-4437-b461-393062653762
DTSTAMP:20260422T093617Z
DESCRIPTION:5/13 Č. Budějovice - Jirkov 2:3 (-23\,-16\,21\,24\,-13)
DTSTART;TZID=Europe/Berlin:20251011T100000
DTEND;TZID=Europe/Berlin:20251011T120000
LOCATION:Sportovní hala\, Stromovka 1216 České Budějovice - České Budějovic
 e 2
SUMMARY:1-U18Z-A: Č. Budějovice-Jirkov
END:VEVENT
BEGIN:VEVENT
UID:38366261-6130-4431-a239-653632323361
DTSTAMP:20260422T093617Z
DESCRIPTION:6/16 Č. Budějovice - Jirkov 1:3 (-12\,16\,-14\,-11)
DTSTART;TZID=Europe/Berlin:20251011T140000
DTEND;TZID=Europe/Berlin:20251011T160000
LOCATION:Sportovní hala\, Stromovka 1216 České Budějovice - České Budějovic
 e 2
SUMMARY:1-U18Z-A: Č. Budějovice-Jirkov
END:VEVENT
BEGIN:VEVENT
UID:30363533-3565-4362-a230-366330393563
DTSTAMP:20260422T093617Z
DESCRIPTION:9/25 Střešovice - Jirkov 0:3 (-23\,-15\,-22)
DTSTART;TZID=Europe/Berlin:20251101T090000
DTEND;TZID=Europe/Berlin:20251101T110000
LOCATION:TJ Tatran Střešovice\, Sibeliova 368 Praha - Střešovice
SUMMARY:1-U18Z-A: Střešovice-Jirkov
END:VEVENT
BEGIN:VEVENT
UID:61653462-3036-4462-b733-333539313138
DTSTAMP:20260422T093617Z
DESCRIPTION:10/28 Střešovice - Jirkov 0:3 (-20\,-22\,-22)
DTSTART;TZID=Europe/Berlin:20251101T140000
DTEND;TZID=Europe/Berlin:20251101T160000
LOCATION:TJ Tatran Střešovice\, Sibeliova 368 Praha - Střešovice
SUMMARY:1-U18Z-A: Střešovice-Jirkov
END:VEVENT
BEGIN:VEVENT
UID:33623562-3031-4533-b633-643766613366
DTSTAMP:20260422T093617Z
DESCRIPTION:13/37 Kometa - Jirkov 3:1 (16\,-18\,15\,15)
DTSTART;TZID=Europe/Berlin:20251122T100000
DTEND;TZID=Europe/Berlin:20251122T120000
LOCATION:Tělocvična ZŠ Na Šutce\, Na Šutce 440 Praha - Troja
SUMMARY:1-U18Z-A: Kometa-Jirkov
END:VEVENT
BEGIN:VEVENT
UID:63383430-3638-4235-b866-346164613361
DTSTAMP:20260422T093617Z
DESCRIPTION:14/40 Kometa - Jirkov 3:2 (-23\,10\,13\,-29\,8)
DTSTART;TZID=Europe/Berlin:20251122T140000
DTEND;TZID=Europe/Berlin:20251122T160000
LOCATION:Tělocvična ZŠ Na Šutce\, Na Šutce 440 Praha - Troja
SUMMARY:1-U18Z-A: Kometa-Jirkov
END:VEVENT
BEGIN:VEVENT
UID:36386437-3837-4866-a337-626465373738
DTSTAMP:20260422T093617Z
DESCRIPTION:17/49 Karlovy Vary - Jirkov 0:3 (-16\,-20\,-21)
DTSTART;TZID=Europe/Berlin:20260124T090000
DTEND;TZID=Europe/Berlin:20260124T110000
LOCATION:Mattoni Arena Hala míčových sportů\, Západní 1812 Karlovy Vary
SUMMARY:1-U18Z-A: Karlovy Vary-Jirkov
END:VEVENT
BEGIN:VEVENT
UID:31303261-3065-4062-a238-623537323531
DTSTAMP:20260422T093617Z
DESCRIPTION:18/52 Karlovy Vary - Jirkov 0:3 (-13\,-22\,-17)
DTSTART;TZID=Europe/Berlin:20260124T123000
DTEND;TZID=Europe/Berlin:20260124T143000
LOCATION:Mattoni Arena Hala míčových sportů\, Západní 1812 Karlovy Vary
SUMMARY:1-U18Z-A: Karlovy Vary-Jirkov
END:VEVENT
BEGIN:VEVENT
UID:30653731-6463-4265-b332-373862356538
DTSTAMP:20260422T093617Z
DESCRIPTION:1/2 Jirkov - N. Veselí 0:3 (-21\,-11\,-18)
DTSTART;TZID=Europe/Berlin:20260214T100000
DTEND;TZID=Europe/Berlin:20260214T120000
LOCATION:Sportovní hala MG a ZŠ Jirkov\, Krušnohorská 1675 Jirkov
SUMMARY:1-U18Z-I: Jirkov-N. Veselí
END:VEVENT
BEGIN:VEVENT
UID:33346566-3330-4661-b632-343539356337
DTSTAMP:20260422T093617Z
DESCRIPTION:2/5 Jirkov - N. Veselí 0:3 (-16\,-21\,-12)
DTSTART;TZID=Europe/Berlin:20260214T140000
DTEND;TZID=Europe/Berlin:20260214T160000
LOCATION:Sportovní hala MG a ZŠ Jirkov\, Krušnohorská 1675 Jirkov
SUMMARY:1-U18Z-I: Jirkov-N. Veselí
END:VEVENT
BEGIN:VEVENT
UID:35396266-6531-4462-b933-326630373930
DTSTAMP:20260422T093617Z
DESCRIPTION:9/25 Jirkov - Lanškroun 0:3 (-14\,-17\,-22)
DTSTART;TZID=Europe/Berlin:20260321T100000
DTEND;TZID=Europe/Berlin:20260321T120000
LOCATION:Sportovní hala MG a ZŠ Jirkov\, Krušnohorská 1675 Jirkov
SUMMARY:1-U18Z-I: Jirkov-Lanškroun
END:VEVENT
BEGIN:VEVENT
UID:66343534-3533-4434-a664-323236323339
DTSTAMP:20260422T093617Z
DESCRIPTION:10/28 Jirkov - Lanškroun 0:3 (-18\,-22\,-18)
DTSTART;TZID=Europe/Berlin:20260321T140000
DTEND;TZID=Europe/Berlin:20260321T160000
LOCATION:Sportovní hala MG a ZŠ Jirkov\, Krušnohorská 1675 Jirkov
SUMMARY:1-U18Z-I: Jirkov-Lanškroun
END:VEVENT
BEGIN:VEVENT
UID:34323539-3934-4430-b066-313632643262
DTSTAMP:20260422T093617Z
DESCRIPTION:11/32 Jirkov - H Králové 3:0 (18\,18\,17)
DTSTART;TZID=Europe/Berlin:20260328T110000
DTEND;TZID=Europe/Berlin:20260328T130000
LOCATION:Sportovní hala MG a ZŠ Jirkov\, Krušnohorská 1675 Jirkov
SUMMARY:1-U18Z-I: Jirkov-H Králové
END:VEVENT
BEGIN:VEVENT
UID:31386439-3566-4238-a639-636439616463
DTSTAMP:20260422T093617Z
DESCRIPTION:12/35 Jirkov - H Králové 3:2 (-17\,-16\,15\,23\,15)
DTSTART;TZID=Europe/Berlin:20260328T150000
DTEND;TZID=Europe/Berlin:20260328T170000
LOCATION:Sportovní hala MG a ZŠ Jirkov\, Krušnohorská 1675 Jirkov
SUMMARY:1-U18Z-I: Jirkov-H Králové
END:VEVENT
BEGIN:VEVENT
UID:62383537-3935-4236-b933-363363663031
DTSTAMP:20260422T093617Z
DESCRIPTION:3/7 Lanškroun - Jirkov 3:0 (16\,23\,22)
DTSTART;TZID=Europe/Berlin:20260221T110000
DTEND;TZID=Europe/Berlin:20260221T130000
LOCATION:SOŠ a SOU Lanškroun\, Sokolská 288 Lanškroun - Ostrovské Předměstí
SUMMARY:1-U18Z-I: Lanškroun-Jirkov
END:VEVENT
BEGIN:VEVENT
UID:38393962-3333-4566-a432-333938643233
DTSTAMP:20260422T093617Z
DESCRIPTION:4/10 Lanškroun - Jirkov 3:0 (23\,23\,22)
DTSTART;TZID=Europe/Berlin:20260221T150000
DTEND;TZID=Europe/Berlin:20260221T170000
LOCATION:SOŠ a SOU Lanškroun\, Sokolská 288 Lanškroun - Ostrovské Předměstí
SUMMARY:1-U18Z-I: Lanškroun-Jirkov
END:VEVENT
BEGIN:VEVENT
UID:38656136-3135-4630-a664-626139623333
DTSTAMP:20260422T093617Z
DESCRIPTION:5/14 H Králové - Jirkov 3:1 (23\,-18\,18\,23)
DTSTART;TZID=Europe/Berlin:20260307T110000
DTEND;TZID=Europe/Berlin:20260307T130000
LOCATION:Speciální školy Hradec Králové\, Hradecká 1231 Hradec Králové
SUMMARY:1-U18Z-I: H Králové-Jirkov
END:VEVENT
BEGIN:VEVENT
UID:30353631-3534-4164-b764-393265613065
DTSTAMP:20260422T093617Z
DESCRIPTION:6/17 H Králové - Jirkov 3:1 (-20\,14\,14\,14)
DTSTART;TZID=Europe/Berlin:20260307T150000
DTEND;TZID=Europe/Berlin:20260307T170000
LOCATION:Speciální školy Hradec Králové\, Hradecká 1231 Hradec Králové
SUMMARY:1-U18Z-I: H Králové-Jirkov
END:VEVENT
BEGIN:VEVENT
UID:36626163-3938-4636-b230-663266333264
DTSTAMP:20260422T093617Z
DESCRIPTION:7/20 N. Veselí - Jirkov 3:0 (17\,22\,28)
DTSTART;TZID=Europe/Berlin:20260314T110000
DTEND;TZID=Europe/Berlin:20260314T130000
LOCATION:Víceúčelová sportovní hala Nové Veselí\, Žďárská 356 Nové Veselí
SUMMARY:1-U18Z-I: N. Veselí-Jirkov
END:VEVENT
BEGIN:VEVENT
UID:66623433-3734-4439-b864-653562383831
DTSTAMP:20260422T093617Z
DESCRIPTION:8/23 N. Veselí - Jirkov 3:0 (18\,16\,15)
DTSTART;TZID=Europe/Berlin:20260314T140000
DTEND;TZID=Europe/Berlin:20260314T160000
LOCATION:Víceúčelová sportovní hala Nové Veselí\, Žďárská 356 Nové Veselí
SUMMARY:1-U18Z-I: N. Veselí-Jirkov
END:VEVENT
END:VCALENDAR
