BEGIN:VCALENDAR
VERSION:2.0
PRODID:-//T.J. Sokol Šternberk90038//NONSGML kigkonsult.se iCalcreator 2.41.80//
CALSCALE:GREGORIAN
UID:36656366-3138-4939-b962-643563633062
BEGIN:VEVENT
UID:65616563-3661-4437-b163-326465616265
DTSTAMP:20260422T033909Z
DESCRIPTION:3/8 Šternberk - Lanškroun 3:1 (-15\,16\,22\,20)
DTSTART;TZID=Europe/Berlin:20251004T100000
DTEND;TZID=Europe/Berlin:20251004T120000
LOCATION:Slovanské gymnázium Olomouc\, Jiřího z Poděbrad 936 Olomouc
SUMMARY:1-U18Z-B: Šternberk-Lanškroun
END:VEVENT
BEGIN:VEVENT
UID:34656365-3933-4561-a265-393936353032
DTSTAMP:20260422T033909Z
DESCRIPTION:4/11 Šternberk - Lanškroun 2:3 (10\,-23\,13\,-20\,-12)
DTSTART;TZID=Europe/Berlin:20251004T140000
DTEND;TZID=Europe/Berlin:20251004T160000
LOCATION:Slovanské gymnázium Olomouc\, Jiřího z Poděbrad 936 Olomouc
SUMMARY:1-U18Z-B: Šternberk-Lanškroun
END:VEVENT
BEGIN:VEVENT
UID:63373237-6230-4163-b334-636262663736
DTSTAMP:20260422T033909Z
DESCRIPTION:9/27 Šternberk - H Králové 3:2 (20\,14\,-16\,-21\,8)
DTSTART;TZID=Europe/Berlin:20251101T100000
DTEND;TZID=Europe/Berlin:20251101T120000
LOCATION:Slovanské gymnázium Olomouc\, Jiřího z Poděbrad 936 Olomouc
SUMMARY:1-U18Z-B: Šternberk-H Králové
END:VEVENT
BEGIN:VEVENT
UID:65666534-6135-4461-b132-656263313534
DTSTAMP:20260422T033909Z
DESCRIPTION:10/30 Šternberk - H Králové 1:3 (-18\,-20\,15\,-26)
DTSTART;TZID=Europe/Berlin:20251101T140000
DTEND;TZID=Europe/Berlin:20251101T160000
LOCATION:Slovanské gymnázium Olomouc\, Jiřího z Poděbrad 936 Olomouc
SUMMARY:1-U18Z-B: Šternberk-H Králové
END:VEVENT
BEGIN:VEVENT
UID:37613532-3739-4734-b866-636134386130
DTSTAMP:20260422T033909Z
DESCRIPTION:11/32 Šternberk - Jihlava B 3:1 (17\,16\,-25\,17)
DTSTART;TZID=Europe/Berlin:20251108T100000
DTEND;TZID=Europe/Berlin:20251108T120000
LOCATION:Hala ZŠ Dr. Hrubého\, Dr. Hrubého 319 Šternberk
SUMMARY:1-U18Z-B: Šternberk-Jihlava B
END:VEVENT
BEGIN:VEVENT
UID:35616566-6137-4234-b233-626439643963
DTSTAMP:20260422T033909Z
DESCRIPTION:12/35 Šternberk - Jihlava B 3:0 (27\,21\,19)
DTSTART;TZID=Europe/Berlin:20251108T140000
DTEND;TZID=Europe/Berlin:20251108T160000
LOCATION:Hala ZŠ Dr. Hrubého\, Dr. Hrubého 319 Šternberk
SUMMARY:1-U18Z-B: Šternberk-Jihlava B
END:VEVENT
BEGIN:VEVENT
UID:39363838-3564-4036-b633-326332363966
DTSTAMP:20260422T033909Z
DESCRIPTION:15/45 Šternberk - Nymburk 3:0 (22\,18\,16)
DTSTART;TZID=Europe/Berlin:20251206T110000
DTEND;TZID=Europe/Berlin:20251206T130000
LOCATION:Hala ZŠ Dr. Hrubého\, Dr. Hrubého 319 Šternberk
SUMMARY:1-U18Z-B: Šternberk-Nymburk
END:VEVENT
BEGIN:VEVENT
UID:35333064-3532-4536-b633-636235643163
DTSTAMP:20260422T033909Z
DESCRIPTION:16/48 Šternberk - Nymburk 1:3 (-23\,22\,-19\,-19)
DTSTART;TZID=Europe/Berlin:20251206T150000
DTEND;TZID=Europe/Berlin:20251206T170000
LOCATION:Hala ZŠ Dr. Hrubého\, Dr. Hrubého 319 Šternberk
SUMMARY:1-U18Z-B: Šternberk-Nymburk
END:VEVENT
BEGIN:VEVENT
UID:38333562-3264-4062-b735-326330363363
DTSTAMP:20260422T033909Z
DESCRIPTION:17/49 Šternberk - N. Veselí 3:2 (-23\,18\,19\,-20\,13)
DTSTART;TZID=Europe/Berlin:20260124T100000
DTEND;TZID=Europe/Berlin:20260124T120000
LOCATION:Hala ZŠ Dr. Hrubého\, Dr. Hrubého 319 Šternberk
SUMMARY:1-U18Z-B: Šternberk-N. Veselí
END:VEVENT
BEGIN:VEVENT
UID:34353636-3966-4132-a335-663061626562
DTSTAMP:20260422T033909Z
DESCRIPTION:18/52 Šternberk - N. Veselí 3:2 (-25\,24\,22\,-12\,13)
DTSTART;TZID=Europe/Berlin:20260124T140000
DTEND;TZID=Europe/Berlin:20260124T160000
LOCATION:Hala ZŠ Dr. Hrubého\, Dr. Hrubého 319 Šternberk
SUMMARY:1-U18Z-B: Šternberk-N. Veselí
END:VEVENT
BEGIN:VEVENT
UID:34376533-6430-4732-b861-613034663664
DTSTAMP:20260422T033909Z
DESCRIPTION:1/2 Jihlava B - Šternberk 3:0 (18\,22\,10)
DTSTART;TZID=Europe/Berlin:20250920T100000
DTEND;TZID=Europe/Berlin:20250920T120000
LOCATION:ZŠ Jihlava Demlova\, Demlova 4178 Jihlava
SUMMARY:1-U18Z-B: Jihlava B-Šternberk
END:VEVENT
BEGIN:VEVENT
UID:63623966-6432-4232-b633-313639376662
DTSTAMP:20260422T033909Z
DESCRIPTION:2/5 Jihlava B - Šternberk 3:1 (23\,22\,-18\,25)
DTSTART;TZID=Europe/Berlin:20250920T140000
DTEND;TZID=Europe/Berlin:20250920T160000
LOCATION:ZŠ Jihlava Demlova\, Demlova 4178 Jihlava
SUMMARY:1-U18Z-B: Jihlava B-Šternberk
END:VEVENT
BEGIN:VEVENT
UID:34613531-6664-4538-a565-346135393762
DTSTAMP:20260422T033909Z
DESCRIPTION:5/15 Nymburk - Šternberk 0:3 (-15\,-21\,-21)
DTSTART;TZID=Europe/Berlin:20251011T100000
DTEND;TZID=Europe/Berlin:20251011T120000
LOCATION:Bios\, V Kolonii 1804 Nymburk
SUMMARY:1-U18Z-B: Nymburk-Šternberk
END:VEVENT
BEGIN:VEVENT
UID:34323230-6534-4265-a166-633632316635
DTSTAMP:20260422T033909Z
DESCRIPTION:6/18 Nymburk - Šternberk 2:3 (-14\,-18\,15\,17\,-14)
DTSTART;TZID=Europe/Berlin:20251011T140000
DTEND;TZID=Europe/Berlin:20251011T160000
LOCATION:Bios\, V Kolonii 1804 Nymburk
SUMMARY:1-U18Z-B: Nymburk-Šternberk
END:VEVENT
BEGIN:VEVENT
UID:33376663-6265-4838-b735-663139356433
DTSTAMP:20260422T033909Z
DESCRIPTION:7/19 N. Veselí - Šternberk 3:0 (13\,18\,19)
DTSTART;TZID=Europe/Berlin:20251025T120000
DTEND;TZID=Europe/Berlin:20251025T140000
LOCATION:Víceúčelová sportovní hala Nové Veselí\, Žďárská 356 Nové Veselí
SUMMARY:1-U18Z-B: N. Veselí-Šternberk
END:VEVENT
BEGIN:VEVENT
UID:65396465-3062-4137-b538-336335383639
DTSTAMP:20260422T033909Z
DESCRIPTION:8/22 N. Veselí - Šternberk 3:0 (18\,14\,21)
DTSTART;TZID=Europe/Berlin:20251025T160000
DTEND;TZID=Europe/Berlin:20251025T180000
LOCATION:Víceúčelová sportovní hala Nové Veselí\, Žďárská 356 Nové Veselí
SUMMARY:1-U18Z-B: N. Veselí-Šternberk
END:VEVENT
BEGIN:VEVENT
UID:30393838-3162-4038-b233-666339613566
DTSTAMP:20260422T033909Z
DESCRIPTION:13/38 Lanškroun - Šternberk 3:1 (15\,20\,-9\,20)
DTSTART;TZID=Europe/Berlin:20251122T110000
DTEND;TZID=Europe/Berlin:20251122T130000
LOCATION:SOŠ a SOU Lanškroun\, Sokolská 288 Lanškroun - Ostrovské Předměstí
SUMMARY:1-U18Z-B: Lanškroun-Šternberk
END:VEVENT
BEGIN:VEVENT
UID:64386236-6265-4138-a563-656535393530
DTSTAMP:20260422T033909Z
DESCRIPTION:14/41 Lanškroun - Šternberk 3:1 (18\,-15\,11\,13)
DTSTART;TZID=Europe/Berlin:20251122T150000
DTEND;TZID=Europe/Berlin:20251122T170000
LOCATION:SOŠ a SOU Lanškroun\, Sokolská 288 Lanškroun - Ostrovské Předměstí
SUMMARY:1-U18Z-B: Lanškroun-Šternberk
END:VEVENT
BEGIN:VEVENT
UID:39373539-3537-4266-a164-326639353037
DTSTAMP:20260422T033909Z
DESCRIPTION:19/57 H Králové - Šternberk 1:3 (-15\,15\,-23\,-16)
DTSTART;TZID=Europe/Berlin:20260131T100000
DTEND;TZID=Europe/Berlin:20260131T120000
LOCATION:Speciální školy Hradec Králové\, Hradecká 1231 Hradec Králové
SUMMARY:1-U18Z-B: H Králové-Šternberk
END:VEVENT
BEGIN:VEVENT
UID:65363063-3431-4231-a534-653866363765
DTSTAMP:20260422T033909Z
DESCRIPTION:20/60 H Králové - Šternberk 2:3 (16\,10\,-19\,-23\,-11)
DTSTART;TZID=Europe/Berlin:20260131T140000
DTEND;TZID=Europe/Berlin:20260131T160000
LOCATION:Speciální školy Hradec Králové\, Hradecká 1231 Hradec Králové
SUMMARY:1-U18Z-B: H Králové-Šternberk
END:VEVENT
BEGIN:VEVENT
UID:66633964-3839-4964-a365-383966326534
DTSTAMP:20260422T033909Z
DESCRIPTION:3/7 Šternberk - Mikulova 3:1 (-20\,16\,6\,10)
DTSTART;TZID=Europe/Berlin:20260328T130000
DTEND;TZID=Europe/Berlin:20260328T150000
LOCATION:Hala ZŠ Dr. Hrubého\, Dr. Hrubého 319 Šternberk
SUMMARY:1-U18Z-N: Šternberk-Mikulova
END:VEVENT
BEGIN:VEVENT
UID:39333966-3136-4634-a635-336262636433
DTSTAMP:20260422T033909Z
DESCRIPTION:4/10 Šternberk - Mikulova 3:1 (23\,-17\,14\,22)
DTSTART;TZID=Europe/Berlin:20260328T160000
DTEND;TZID=Europe/Berlin:20260328T180000
LOCATION:Hala ZŠ Dr. Hrubého\, Dr. Hrubého 319 Šternberk
SUMMARY:1-U18Z-N: Šternberk-Mikulova
END:VEVENT
BEGIN:VEVENT
UID:66633835-3333-4430-b162-653537323633
DTSTAMP:20260422T033909Z
DESCRIPTION:7/21 Šternberk - Střešovice 3:0 (13\,14\,14)
DTSTART;TZID=Europe/Berlin:20260314T100000
DTEND;TZID=Europe/Berlin:20260314T120000
LOCATION:Hala ZŠ Dr. Hrubého\, Dr. Hrubého 319 Šternberk
SUMMARY:1-U18Z-N: Šternberk-Střešovice
END:VEVENT
BEGIN:VEVENT
UID:65663662-6662-4438-b938-613635386530
DTSTAMP:20260422T033909Z
DESCRIPTION:8/24 Šternberk - Střešovice 3:0 (10\,17\,18)
DTSTART;TZID=Europe/Berlin:20260314T140000
DTEND;TZID=Europe/Berlin:20260314T160000
LOCATION:Hala ZŠ Dr. Hrubého\, Dr. Hrubého 319 Šternberk
SUMMARY:1-U18Z-N: Šternberk-Střešovice
END:VEVENT
BEGIN:VEVENT
UID:65333964-3930-4061-b661-633164613739
DTSTAMP:20260422T033909Z
DESCRIPTION:11/31 Šternberk - Karlovy Vary 3:0 (14\,20\,21)
DTSTART;TZID=Europe/Berlin:20260404T100000
DTEND;TZID=Europe/Berlin:20260404T120000
LOCATION:Hala ZŠ Dr. Hrubého\, Dr. Hrubého 319 Šternberk
SUMMARY:1-U18Z-N: Šternberk-Karlovy Vary
END:VEVENT
BEGIN:VEVENT
UID:66613463-6464-4966-a465-323063653063
DTSTAMP:20260422T033909Z
DESCRIPTION:12/34 Šternberk - Karlovy Vary 3:0 (18\,20\,11)
DTSTART;TZID=Europe/Berlin:20260404T140000
DTEND;TZID=Europe/Berlin:20260404T160000
LOCATION:Hala ZŠ Dr. Hrubého\, Dr. Hrubého 319 Šternberk
SUMMARY:1-U18Z-N: Šternberk-Karlovy Vary
END:VEVENT
BEGIN:VEVENT
UID:36613036-3739-4164-b137-636364323035
DTSTAMP:20260422T033909Z
DESCRIPTION:1/3 Střešovice - Šternberk 0:3 (-8\,-12\,-24)
DTSTART;TZID=Europe/Berlin:20260322T100000
DTEND;TZID=Europe/Berlin:20260322T120000
LOCATION:TJ Tatran Střešovice\, Sibeliova 368 Praha - Střešovice
SUMMARY:1-U18Z-N: Střešovice-Šternberk
END:VEVENT
BEGIN:VEVENT
UID:36643063-3065-4237-b761-653161646362
DTSTAMP:20260422T033909Z
DESCRIPTION:2/6 Střešovice - Šternberk 0:3 (-16\,-11\,-10)
DTSTART;TZID=Europe/Berlin:20260322T140000
DTEND;TZID=Europe/Berlin:20260322T160000
LOCATION:TJ Tatran Střešovice\, Sibeliova 368 Praha - Střešovice
SUMMARY:1-U18Z-N: Střešovice-Šternberk
END:VEVENT
BEGIN:VEVENT
UID:33386562-6135-4666-b631-343738316636
DTSTAMP:20260422T033909Z
DESCRIPTION:5/13 Karlovy Vary - Šternberk 2:3 (15\,-18\,23\,-15\,-5)
DTSTART;TZID=Europe/Berlin:20260307T090000
DTEND;TZID=Europe/Berlin:20260307T110000
LOCATION:Mattoni Arena Hala míčových sportů\, Západní 1812 Karlovy Vary
SUMMARY:1-U18Z-N: Karlovy Vary-Šternberk
END:VEVENT
BEGIN:VEVENT
UID:66353938-6337-4563-a230-663533366134
DTSTAMP:20260422T033909Z
DESCRIPTION:6/16 Karlovy Vary - Šternberk 1:3 (-17\,-12\,20\,-13)
DTSTART;TZID=Europe/Berlin:20260307T123000
DTEND;TZID=Europe/Berlin:20260307T143000
LOCATION:Mattoni Arena Hala míčových sportů\, Západní 1812 Karlovy Vary
SUMMARY:1-U18Z-N: Karlovy Vary-Šternberk
END:VEVENT
BEGIN:VEVENT
UID:38306561-6362-4264-b634-616362386336
DTSTAMP:20260422T033909Z
DESCRIPTION:9/25 Mikulova - Šternberk 0:3 (-22\,-14\,-14)
DTSTART;TZID=Europe/Berlin:20260329T090000
DTEND;TZID=Europe/Berlin:20260329T110000
LOCATION:Hala ZŠ Dr. Hrubého\, Dr. Hrubého 319 Šternberk
SUMMARY:1-U18Z-N: Mikulova-Šternberk
END:VEVENT
BEGIN:VEVENT
UID:63363432-3665-4434-a632-383863316438
DTSTAMP:20260422T033909Z
DESCRIPTION:10/28 Mikulova - Šternberk 0:3 (-9\,-11\,-11)
DTSTART;TZID=Europe/Berlin:20260329T130000
DTEND;TZID=Europe/Berlin:20260329T150000
LOCATION:Hala ZŠ Dr. Hrubého\, Dr. Hrubého 319 Šternberk
SUMMARY:1-U18Z-N: Mikulova-Šternberk
END:VEVENT
END:VCALENDAR
