BEGIN:VCALENDAR
VERSION:2.0
PRODID:-//SK Kometa Praha90041//NONSGML kigkonsult.se iCalcreator 2.41.80//
CALSCALE:GREGORIAN
UID:65623632-6637-4663-a437-356638373036
BEGIN:VEVENT
UID:65376239-3538-4130-a261-323064383435
DTSTAMP:20260422T070128Z
DESCRIPTION:5/15 Kometa - Karlovy Vary 3:1 (13\,-16\,20\,11)
DTSTART;TZID=Europe/Berlin:20251011T100000
DTEND;TZID=Europe/Berlin:20251011T120000
LOCATION:Tělocvična ZŠ Na Šutce\, Na Šutce 440 Praha - Troja
SUMMARY:1-U18Z-A: Kometa-Karlovy Vary
END:VEVENT
BEGIN:VEVENT
UID:31326138-3165-4865-a636-383061383366
DTSTAMP:20260422T070128Z
DESCRIPTION:6/18 Kometa - Karlovy Vary 3:0 (12\,24\,19)
DTSTART;TZID=Europe/Berlin:20251011T140000
DTEND;TZID=Europe/Berlin:20251011T160000
LOCATION:Tělocvična ZŠ Na Šutce\, Na Šutce 440 Praha - Troja
SUMMARY:1-U18Z-A: Kometa-Karlovy Vary
END:VEVENT
BEGIN:VEVENT
UID:39626663-6432-4961-b165-626163653031
DTSTAMP:20260422T070128Z
DESCRIPTION:9/26 Kometa - Č. Budějovice 3:1 (22\,-22\,9\,11)
DTSTART;TZID=Europe/Berlin:20251101T100000
DTEND;TZID=Europe/Berlin:20251101T120000
LOCATION:Tělocvična ZŠ Na Šutce\, Na Šutce 440 Praha - Troja
SUMMARY:1-U18Z-A: Kometa-Č. Budějovice
END:VEVENT
BEGIN:VEVENT
UID:34363733-3432-4563-a637-613235303462
DTSTAMP:20260422T070128Z
DESCRIPTION:10/29 Kometa - Č. Budějovice 3:0 (11\,15\,16)
DTSTART;TZID=Europe/Berlin:20251101T140000
DTEND;TZID=Europe/Berlin:20251101T160000
LOCATION:Tělocvična ZŠ Na Šutce\, Na Šutce 440 Praha - Troja
SUMMARY:1-U18Z-A: Kometa-Č. Budějovice
END:VEVENT
BEGIN:VEVENT
UID:39316262-6639-4435-b065-643334643135
DTSTAMP:20260422T070128Z
DESCRIPTION:11/33 Kometa - Střešovice 3:0 (10\,18\,15)
DTSTART;TZID=Europe/Berlin:20251108T100000
DTEND;TZID=Europe/Berlin:20251108T120000
LOCATION:Tělocvična ZŠ Na Šutce\, Na Šutce 440 Praha - Troja
SUMMARY:1-U18Z-A: Kometa-Střešovice
END:VEVENT
BEGIN:VEVENT
UID:66623262-3030-4663-a361-376630653332
DTSTAMP:20260422T070128Z
DESCRIPTION:12/36 Kometa - Střešovice 3:0 (8\,15\,18)
DTSTART;TZID=Europe/Berlin:20251108T140000
DTEND;TZID=Europe/Berlin:20251108T160000
LOCATION:Tělocvična ZŠ Na Šutce\, Na Šutce 440 Praha - Troja
SUMMARY:1-U18Z-A: Kometa-Střešovice
END:VEVENT
BEGIN:VEVENT
UID:32316663-3230-4165-b236-306662666561
DTSTAMP:20260422T070128Z
DESCRIPTION:13/37 Kometa - Jirkov 3:1 (16\,-18\,15\,15)
DTSTART;TZID=Europe/Berlin:20251122T100000
DTEND;TZID=Europe/Berlin:20251122T120000
LOCATION:Tělocvična ZŠ Na Šutce\, Na Šutce 440 Praha - Troja
SUMMARY:1-U18Z-A: Kometa-Jirkov
END:VEVENT
BEGIN:VEVENT
UID:61633338-6630-4233-b639-396339313136
DTSTAMP:20260422T070128Z
DESCRIPTION:14/40 Kometa - Jirkov 3:2 (-23\,10\,13\,-29\,8)
DTSTART;TZID=Europe/Berlin:20251122T140000
DTEND;TZID=Europe/Berlin:20251122T160000
LOCATION:Tělocvična ZŠ Na Šutce\, Na Šutce 440 Praha - Troja
SUMMARY:1-U18Z-A: Kometa-Jirkov
END:VEVENT
BEGIN:VEVENT
UID:64333832-3865-4133-b062-396533663966
DTSTAMP:20260422T070128Z
DESCRIPTION:17/50 Kometa - Mikulova 3:X
DTSTART;TZID=Europe/Berlin:20260124T100000
DTEND;TZID=Europe/Berlin:20260124T120000
LOCATION:Tělocvična ZŠ Na Šutce\, Na Šutce 440 Praha - Troja
SUMMARY:1-U18Z-A: Kometa-Mikulova
END:VEVENT
BEGIN:VEVENT
UID:32393534-3963-4439-b161-313630313730
DTSTAMP:20260422T070128Z
DESCRIPTION:18/53 Kometa - Mikulova 3:0 (13\,9\,12)
DTSTART;TZID=Europe/Berlin:20260124T140000
DTEND;TZID=Europe/Berlin:20260124T160000
LOCATION:Tělocvična ZŠ Na Šutce\, Na Šutce 440 Praha - Troja
SUMMARY:1-U18Z-A: Kometa-Mikulova
END:VEVENT
BEGIN:VEVENT
UID:39366437-6663-4166-a131-663634653361
DTSTAMP:20260422T070128Z
DESCRIPTION:1/3 Střešovice - Kometa 0:3 (-12\,-11\,-13)
DTSTART;TZID=Europe/Berlin:20250920T100000
DTEND;TZID=Europe/Berlin:20250920T120000
LOCATION:TJ Tatran Střešovice\, Sibeliova 368 Praha - Střešovice
SUMMARY:1-U18Z-A: Střešovice-Kometa
END:VEVENT
BEGIN:VEVENT
UID:63643137-6530-4464-a230-363663656435
DTSTAMP:20260422T070128Z
DESCRIPTION:2/6 Střešovice - Kometa 0:3 (-17\,-12\,-12)
DTSTART;TZID=Europe/Berlin:20250920T140000
DTEND;TZID=Europe/Berlin:20250920T160000
LOCATION:TJ Tatran Střešovice\, Sibeliova 368 Praha - Střešovice
SUMMARY:1-U18Z-A: Střešovice-Kometa
END:VEVENT
BEGIN:VEVENT
UID:65393863-6661-4430-a430-383661393936
DTSTAMP:20260422T070128Z
DESCRIPTION:3/7 Jirkov - Kometa 0:3 (-14\,-12\,-21)
DTSTART;TZID=Europe/Berlin:20251004T100000
DTEND;TZID=Europe/Berlin:20251004T120000
LOCATION:Sportovní hala MG a ZŠ Jirkov\, Krušnohorská 1675 Jirkov
SUMMARY:1-U18Z-A: Jirkov-Kometa
END:VEVENT
BEGIN:VEVENT
UID:61363439-6561-4130-a134-313735626563
DTSTAMP:20260422T070128Z
DESCRIPTION:4/10 Jirkov - Kometa 1:3 (-19\,23\,-17\,-16)
DTSTART;TZID=Europe/Berlin:20251004T140000
DTEND;TZID=Europe/Berlin:20251004T160000
LOCATION:Sportovní hala MG a ZŠ Jirkov\, Krušnohorská 1675 Jirkov
SUMMARY:1-U18Z-A: Jirkov-Kometa
END:VEVENT
BEGIN:VEVENT
UID:30376365-6534-4530-a435-323437623637
DTSTAMP:20260422T070128Z
DESCRIPTION:7/20 Mikulova - Kometa 0:3 (-18\,-11\,-13)
DTSTART;TZID=Europe/Berlin:20251025T100000
DTEND;TZID=Europe/Berlin:20251025T120000
LOCATION:Sportovní hala Čestlice\, Průhonická 305 Čestlice
SUMMARY:1-U18Z-A: Mikulova-Kometa
END:VEVENT
BEGIN:VEVENT
UID:64653231-3764-4062-a338-303635613933
DTSTAMP:20260422T070128Z
DESCRIPTION:8/23 Mikulova - Kometa 0:3 (-20\,-17\,-20)
DTSTART;TZID=Europe/Berlin:20251025T140000
DTEND;TZID=Europe/Berlin:20251025T160000
LOCATION:Sportovní hala Čestlice\, Průhonická 305 Čestlice
SUMMARY:1-U18Z-A: Mikulova-Kometa
END:VEVENT
BEGIN:VEVENT
UID:37636561-3035-4133-b665-323864393430
DTSTAMP:20260422T070128Z
DESCRIPTION:15/45 Karlovy Vary - Kometa 1:3 (22\,-17\,-28\,-13)
DTSTART;TZID=Europe/Berlin:20251206T100000
DTEND;TZID=Europe/Berlin:20251206T120000
LOCATION:Mattoni Arena Hala míčových sportů\, Západní 1812 Karlovy Vary
SUMMARY:1-U18Z-A: Karlovy Vary-Kometa
END:VEVENT
BEGIN:VEVENT
UID:61323563-3131-4965-b334-316663643661
DTSTAMP:20260422T070128Z
DESCRIPTION:16/48 Karlovy Vary - Kometa 0:3 (-21\,-12\,-16)
DTSTART;TZID=Europe/Berlin:20251206T140000
DTEND;TZID=Europe/Berlin:20251206T160000
LOCATION:Mattoni Arena Hala míčových sportů\, Západní 1812 Karlovy Vary
SUMMARY:1-U18Z-A: Karlovy Vary-Kometa
END:VEVENT
BEGIN:VEVENT
UID:32366430-3531-4362-b664-323839363038
DTSTAMP:20260422T070128Z
DESCRIPTION:19/56 Č. Budějovice - Kometa 1:3 (-23\,25\,-22\,-16)
DTSTART;TZID=Europe/Berlin:20260131T100000
DTEND;TZID=Europe/Berlin:20260131T120000
LOCATION:ZŠ Oskara Nedbala České Budějovice\, O. Nedbala 882 České Budějovi
 ce - České Budějovice 2
SUMMARY:1-U18Z-A: Č. Budějovice-Kometa
END:VEVENT
BEGIN:VEVENT
UID:33633630-3634-4139-b938-353133393431
DTSTAMP:20260422T070128Z
DESCRIPTION:20/59 Č. Budějovice - Kometa 3:1 (22\,22\,-22\,21)
DTSTART;TZID=Europe/Berlin:20260131T140000
DTEND;TZID=Europe/Berlin:20260131T160000
LOCATION:ZŠ Oskara Nedbala České Budějovice\, O. Nedbala 882 České Budějovi
 ce - České Budějovice 2
SUMMARY:1-U18Z-A: Č. Budějovice-Kometa
END:VEVENT
BEGIN:VEVENT
UID:33663766-3637-4433-b039-326236636265
DTSTAMP:20260422T070128Z
DESCRIPTION:1/1 Kometa - H Králové 3:0 (21\,5\,17)
DTSTART;TZID=Europe/Berlin:20260214T100000
DTEND;TZID=Europe/Berlin:20260214T120000
LOCATION:Tělocvična ZŠ Na Šutce\, Na Šutce 440 Praha - Troja
SUMMARY:1-U18Z-I: Kometa-H Králové
END:VEVENT
BEGIN:VEVENT
UID:66303130-3637-4833-b538-643166613134
DTSTAMP:20260422T070128Z
DESCRIPTION:2/4 Kometa - H Králové 3:0 (13\,17\,13)
DTSTART;TZID=Europe/Berlin:20260214T140000
DTEND;TZID=Europe/Berlin:20260214T160000
LOCATION:Tělocvična ZŠ Na Šutce\, Na Šutce 440 Praha - Troja
SUMMARY:1-U18Z-I: Kometa-H Králové
END:VEVENT
BEGIN:VEVENT
UID:65303763-3937-4263-a435-393230323538
DTSTAMP:20260422T070128Z
DESCRIPTION:5/13 Kometa - Lanškroun 0:3 (-22\,-20\,-22)
DTSTART;TZID=Europe/Berlin:20260307T110000
DTEND;TZID=Europe/Berlin:20260307T130000
LOCATION:Tělocvična ZŠ Na Šutce\, Na Šutce 440 Praha - Troja
SUMMARY:1-U18Z-I: Kometa-Lanškroun
END:VEVENT
BEGIN:VEVENT
UID:61643862-6231-4930-b332-323463336433
DTSTAMP:20260422T070128Z
DESCRIPTION:6/16 Kometa - Lanškroun 1:3 (-18\,19\,-18\,-20)
DTSTART;TZID=Europe/Berlin:20260307T150000
DTEND;TZID=Europe/Berlin:20260307T170000
LOCATION:Tělocvična ZŠ Na Šutce\, Na Šutce 440 Praha - Troja
SUMMARY:1-U18Z-I: Kometa-Lanškroun
END:VEVENT
BEGIN:VEVENT
UID:35353534-3465-4732-a533-623461626463
DTSTAMP:20260422T070128Z
DESCRIPTION:9/26 Kometa - N. Veselí 2:3 (16\,-21\,23\,-27\,-12)
DTSTART;TZID=Europe/Berlin:20260321T100000
DTEND;TZID=Europe/Berlin:20260321T120000
LOCATION:Tělocvična ZŠ Na Šutce\, Na Šutce 440 Praha - Troja
SUMMARY:1-U18Z-I: Kometa-N. Veselí
END:VEVENT
BEGIN:VEVENT
UID:64656433-3335-4835-b665-303764386239
DTSTAMP:20260422T070128Z
DESCRIPTION:10/29 Kometa - N. Veselí 3:1 (15\,12\,-14\,16)
DTSTART;TZID=Europe/Berlin:20260321T140000
DTEND;TZID=Europe/Berlin:20260321T160000
LOCATION:Tělocvična ZŠ Na Šutce\, Na Šutce 440 Praha - Troja
SUMMARY:1-U18Z-I: Kometa-N. Veselí
END:VEVENT
BEGIN:VEVENT
UID:30343830-3839-4632-b637-613861343963
DTSTAMP:20260422T070128Z
DESCRIPTION:3/8 N. Veselí - Kometa 2:3 (-20\,-23\,12\,23\,-9)
DTSTART;TZID=Europe/Berlin:20260221T120000
DTEND;TZID=Europe/Berlin:20260221T140000
LOCATION:Víceúčelová sportovní hala Nové Veselí\, Žďárská 356 Nové Veselí
SUMMARY:1-U18Z-I: N. Veselí-Kometa
END:VEVENT
BEGIN:VEVENT
UID:30383934-3061-4832-b262-363635666164
DTSTAMP:20260422T070128Z
DESCRIPTION:4/11 N. Veselí - Kometa 3:2 (23\,16\,-18\,-22\,8)
DTSTART;TZID=Europe/Berlin:20260221T160000
DTEND;TZID=Europe/Berlin:20260221T180000
LOCATION:Víceúčelová sportovní hala Nové Veselí\, Žďárská 356 Nové Veselí
SUMMARY:1-U18Z-I: N. Veselí-Kometa
END:VEVENT
BEGIN:VEVENT
UID:64333663-6665-4834-b633-353565633365
DTSTAMP:20260422T070128Z
DESCRIPTION:7/19 H Králové - Kometa 0:3 (-18\,-11\,-21)
DTSTART;TZID=Europe/Berlin:20260314T100000
DTEND;TZID=Europe/Berlin:20260314T120000
LOCATION:TJ Slavia Hradec Králové\, Víta Nejedlého 1216 Hradec Králové
SUMMARY:1-U18Z-I: H Králové-Kometa
END:VEVENT
BEGIN:VEVENT
UID:37633837-3236-4534-a163-646334303139
DTSTAMP:20260422T070128Z
DESCRIPTION:8/22 H Králové - Kometa 1:3 (-17\,19\,-13\,-18)
DTSTART;TZID=Europe/Berlin:20260314T140000
DTEND;TZID=Europe/Berlin:20260314T160000
LOCATION:TJ Slavia Hradec Králové\, Víta Nejedlého 1216 Hradec Králové
SUMMARY:1-U18Z-I: H Králové-Kometa
END:VEVENT
BEGIN:VEVENT
UID:61636136-3561-4966-b237-663739633733
DTSTAMP:20260422T070128Z
DESCRIPTION:11/31 Lanškroun - Kometa 0:3 (-18\,-23\,-17)
DTSTART;TZID=Europe/Berlin:20260403T110000
DTEND;TZID=Europe/Berlin:20260403T130000
LOCATION:SOŠ a SOU Lanškroun\, Sokolská 288 Lanškroun - Ostrovské Předměstí
SUMMARY:1-U18Z-I: Lanškroun-Kometa
END:VEVENT
BEGIN:VEVENT
UID:66303038-3366-4432-b838-316566373030
DTSTAMP:20260422T070128Z
DESCRIPTION:12/34 Lanškroun - Kometa 3:2 (16\,22\,-15\,-17\,8)
DTSTART;TZID=Europe/Berlin:20260403T150000
DTEND;TZID=Europe/Berlin:20260403T170000
LOCATION:SOŠ a SOU Lanškroun\, Sokolská 288 Lanškroun - Ostrovské Předměstí
SUMMARY:1-U18Z-I: Lanškroun-Kometa
END:VEVENT
BEGIN:VEVENT
UID:62663836-3566-4065-b634-663236323435
DTSTAMP:20260422T070128Z
DESCRIPTION:1/2 Kometa - H. Brod
DTSTART;TZID=Europe/Berlin:20260508T120000
DTEND;TZID=Europe/Berlin:20260508T140000
LOCATION:ZŠ 1.máje 1700 Frýdek-Místek\, 1. máje 1700 Frýdek-Místek - Místek
SUMMARY:EX-U18Z-K: Kometa-H. Brod
END:VEVENT
BEGIN:VEVENT
UID:39396338-6132-4639-b839-336237613137
DTSTAMP:20260422T070128Z
DESCRIPTION:1/3 Frýdek-Místek - Kometa
DTSTART;TZID=Europe/Berlin:20260508T150000
DTEND;TZID=Europe/Berlin:20260508T170000
LOCATION:ZŠ 1.máje 1700 Frýdek-Místek\, 1. máje 1700 Frýdek-Místek - Místek
SUMMARY:EX-U18Z-K: Frýdek-Místek-Kometa
END:VEVENT
BEGIN:VEVENT
UID:65373634-3536-4138-b664-376461363830
DTSTAMP:20260422T070128Z
DESCRIPTION:1/5 Lanškroun - Kometa
DTSTART;TZID=Europe/Berlin:20260509T100000
DTEND;TZID=Europe/Berlin:20260509T120000
LOCATION:ZŠ 1.máje 1700 Frýdek-Místek\, 1. máje 1700 Frýdek-Místek - Místek
SUMMARY:EX-U18Z-K: Lanškroun-Kometa
END:VEVENT
END:VCALENDAR
